BEGIN:VCALENDAR
VERSION:2.0
PRODID:-//Episcopal Church in Navajoland - ECPv6.15.20//NONSGML v1.0//EN
CALSCALE:GREGORIAN
METHOD:PUBLISH
X-WR-CALNAME:Episcopal Church in Navajoland
X-ORIGINAL-URL:https://ecofnavajoland.org
X-WR-CALDESC:Events for Episcopal Church in Navajoland
REFRESH-INTERVAL;VALUE=DURATION:PT1H
X-Robots-Tag:noindex
X-PUBLISHED-TTL:PT1H
BEGIN:VTIMEZONE
TZID:America/Denver
BEGIN:DAYLIGHT
TZOFFSETFROM:-0700
TZOFFSETTO:-0600
TZNAME:MDT
DTSTART:20240310T090000
END:DAYLIGHT
BEGIN:STANDARD
TZOFFSETFROM:-0600
TZOFFSETTO:-0700
TZNAME:MST
DTSTART:20241103T080000
END:STANDARD
BEGIN:DAYLIGHT
TZOFFSETFROM:-0700
TZOFFSETTO:-0600
TZNAME:MDT
DTSTART:20250309T090000
END:DAYLIGHT
BEGIN:STANDARD
TZOFFSETFROM:-0600
TZOFFSETTO:-0700
TZNAME:MST
DTSTART:20251102T080000
END:STANDARD
BEGIN:DAYLIGHT
TZOFFSETFROM:-0700
TZOFFSETTO:-0600
TZNAME:MDT
DTSTART:20260308T090000
END:DAYLIGHT
BEGIN:STANDARD
TZOFFSETFROM:-0600
TZOFFSETTO:-0700
TZNAME:MST
DTSTART:20261101T080000
END:STANDARD
END:VTIMEZONE
BEGIN:VEVENT
DTSTART;TZID=America/Denver:20251115T100000
DTEND;TZID=America/Denver:20251115T120000
DTSTAMP:20260424T180644
CREATED:20251106T224249Z
LAST-MODIFIED:20251112T155533Z
UID:2335-1763200800-1763208000@ecofnavajoland.org
SUMMARY:Domestic Violence Awareness Class
DESCRIPTION:Ahéhee’/Thank you to everyone who joined us for the powerful Alcohol Awareness Circle in August. Your stories\, strength\, and compassion continue to remind us that healing is possible when we come together in hózhó (balance and beauty). 💜 \nWe’re happy to announce that the Domestic Violence Awareness Circle has been rescheduled for Saturday\, November 15\, 2025\, from 10:00 AM – 12:00 PM. \nThis gathering will once again create a safe\, supportive space for survivors\, families\, and allies to reflect\, share\, and reclaim dignity — honoring sacred boundaries and community healing. \n📍 Location:\nThe HOZHO Building – 1257 Mission Ave\, Farmington\, NM\n💻 Also available online – no registration needed!\nJoin us in person or on Zoom\nClick Join Zoom Meeting\nhttps://us02web.zoom.us/j/85274113827?pwd=uEsN7ulN6DuZFyLajDfty0bdnVlND2.1 \nMeeting ID: 852 7411 3827\nPasscode: 112232 \nAll are welcome — whether you’ve been directly impacted or want to learn and support others.\nTogether\, we walk the path of healing in hózhó. 💛
URL:https://ecofnavajoland.org/event/domestic-violence-awareness-class-2/
LOCATION:NM
END:VEVENT
END:VCALENDAR