BEGIN:VCALENDAR
VERSION:2.0
PRODID:-//Episcopal Church in Navajoland - ECPv6.15.20//NONSGML v1.0//EN
CALSCALE:GREGORIAN
METHOD:PUBLISH
X-ORIGINAL-URL:https://ecofnavajoland.org
X-WR-CALDESC:Events for Episcopal Church in Navajoland
REFRESH-INTERVAL;VALUE=DURATION:PT1H
X-Robots-Tag:noindex
X-PUBLISHED-TTL:PT1H
BEGIN:VTIMEZONE
TZID:America/Denver
BEGIN:DAYLIGHT
TZOFFSETFROM:-0700
TZOFFSETTO:-0600
TZNAME:MDT
DTSTART:20240310T090000
END:DAYLIGHT
BEGIN:STANDARD
TZOFFSETFROM:-0600
TZOFFSETTO:-0700
TZNAME:MST
DTSTART:20241103T080000
END:STANDARD
BEGIN:DAYLIGHT
TZOFFSETFROM:-0700
TZOFFSETTO:-0600
TZNAME:MDT
DTSTART:20250309T090000
END:DAYLIGHT
BEGIN:STANDARD
TZOFFSETFROM:-0600
TZOFFSETTO:-0700
TZNAME:MST
DTSTART:20251102T080000
END:STANDARD
BEGIN:DAYLIGHT
TZOFFSETFROM:-0700
TZOFFSETTO:-0600
TZNAME:MDT
DTSTART:20260308T090000
END:DAYLIGHT
BEGIN:STANDARD
TZOFFSETFROM:-0600
TZOFFSETTO:-0700
TZNAME:MST
DTSTART:20261101T080000
END:STANDARD
END:VTIMEZONE
BEGIN:VEVENT
DTSTART;TZID=America/Denver:20251204T170000
DTEND;TZID=America/Denver:20251204T183000
DTSTAMP:20260424T164632
CREATED:20251204T222022Z
LAST-MODIFIED:20251204T222046Z
UID:2473-1764867600-1764873000@ecofnavajoland.org
SUMMARY:Rev. Cornelia Eaton - St. Christopher's
DESCRIPTION:We welcome our bishop nominees as they come to the Utah Region. This is a time when the long nights call us to listen\, to reflect\, and to share in community.While visiting our region\, the nominees will worship with us\, share the Word\, and spend time listening to the stories of our people and this land\, over the next 10 days. We encourage everyone to extend hospitality and join in conversation.May this time be a blessing for all. May our guests travel safely\, and may we continue to learn\, love\, and care for one another. \nRev. Cornelia Eaton will be visiting the St. Christopher’s Mission at 5:00 PM.
URL:https://ecofnavajoland.org/event/rev-cornelia-eaton-st-christophers/
LOCATION:St. Christopher’s Mission\, Mission Rd\, Bluff\, UT\, 84512\, United States
END:VEVENT
BEGIN:VEVENT
DTSTART;TZID=America/Denver:20251204T180000
DTEND;TZID=America/Denver:20251204T190000
DTSTAMP:20260424T164632
CREATED:20251030T163436Z
LAST-MODIFIED:20251030T163436Z
UID:2261-1764871200-1764874800@ecofnavajoland.org
SUMMARY:“R” for Thursday Recovery Meeting (GSM)
DESCRIPTION:“R” for Thursday Recovery meetings takes place every Thursday at the Good Shepherd Mission Parish Hall in Fort Defiance\, AZ\, starting at 6 PM. Don’t miss this important opportunity to connect with a dedicated community focused on recovery and personal growth. \nAll are welcome! \nIf you have any inquiries\, please do not hesitate to contact the church office at (928) 729-2322 or email us at officegoodshepherdmission@gmail.com. We look forward to assisting you!
URL:https://ecofnavajoland.org/event/r-for-thursday-recovery-meeting-gsm-40/
LOCATION:Good Shepherd Mission\, 1 kIt Carson Drive\, Fort Defiance\, AZ\, 86504\, United States
END:VEVENT
BEGIN:VEVENT
DTSTART;TZID=America/Denver:20251204T180000
DTEND;TZID=America/Denver:20251204T193000
DTSTAMP:20260424T164632
CREATED:20251204T221558Z
LAST-MODIFIED:20251204T221558Z
UID:2468-1764871200-1764876600@ecofnavajoland.org
SUMMARY:Rev. Alyssa Stebbing - St. Luke's
DESCRIPTION:Over the next 10 days\, we welcome our bishop nominees as they visit the San Juan Region. This winter season is a proper time for gathering\, reflection\, and storytelling among our people.\nDuring their time with us\, the nominees will join in worship\, share the Word through services\, and spend time listening to and learning from our communities. We invite everyone to take time to greet them\, speak with them\, and share your stories.\nMay we be blessed with the words to speak\, may our guests be granted traveling mercies\, and may we continue to learn\, love\, and care for one another. \nRev. Alyssa Stebbing will be visiting St. Luke’s Church at 6:00 PM.
URL:https://ecofnavajoland.org/event/rev-alyssa-stebbing-st-lukes/
LOCATION:St. Luke’s Church\, 691-693 Co Rd 7150\, Bloomfield\, NM\, New Mexico\, 87413
END:VEVENT
BEGIN:VEVENT
DTSTART;TZID=America/Denver:20251204T180000
DTEND;TZID=America/Denver:20251204T193000
DTSTAMP:20260424T164632
CREATED:20251204T221819Z
LAST-MODIFIED:20251204T221819Z
UID:2471-1764871200-1764876600@ecofnavajoland.org
SUMMARY:Rev. Leon Sampson - St. Mark's
DESCRIPTION:When the winter winds remind us to listen carefully and speak from the heart\, we welcome our bishop nominees to the Southeast Region over these next 10 days. This is a meaningful time for worship\, fellowship\, and sharing stories passed down through our people. Our nominees will visit congregations\, participate in services\, and take time for conversation with community members. All are encouraged to ask questions\, share experiences\, and be part of this time together.May our voices be strong\, may there be safe travels\, and may we walk together in respect\, understanding\, and care. \nRev. Leon Sampson will be visiting St. Mark’s Church at 6:00 PM.
URL:https://ecofnavajoland.org/event/rev-leon-sampson-st-marks/
LOCATION:St. Mark’s Church\, Old Coal Mine Rd\, Gallup\, New Mexico\, 87301
END:VEVENT
END:VCALENDAR