BEGIN:VCALENDAR
VERSION:2.0
PRODID:-//Episcopal Church in Navajoland - ECPv6.15.20//NONSGML v1.0//EN
CALSCALE:GREGORIAN
METHOD:PUBLISH
X-WR-CALNAME:Episcopal Church in Navajoland
X-ORIGINAL-URL:https://ecofnavajoland.org
X-WR-CALDESC:Events for Episcopal Church in Navajoland
REFRESH-INTERVAL;VALUE=DURATION:PT1H
X-Robots-Tag:noindex
X-PUBLISHED-TTL:PT1H
BEGIN:VTIMEZONE
TZID:America/Denver
BEGIN:DAYLIGHT
TZOFFSETFROM:-0700
TZOFFSETTO:-0600
TZNAME:MDT
DTSTART:20240310T090000
END:DAYLIGHT
BEGIN:STANDARD
TZOFFSETFROM:-0600
TZOFFSETTO:-0700
TZNAME:MST
DTSTART:20241103T080000
END:STANDARD
BEGIN:DAYLIGHT
TZOFFSETFROM:-0700
TZOFFSETTO:-0600
TZNAME:MDT
DTSTART:20250309T090000
END:DAYLIGHT
BEGIN:STANDARD
TZOFFSETFROM:-0600
TZOFFSETTO:-0700
TZNAME:MST
DTSTART:20251102T080000
END:STANDARD
BEGIN:DAYLIGHT
TZOFFSETFROM:-0700
TZOFFSETTO:-0600
TZNAME:MDT
DTSTART:20260308T090000
END:DAYLIGHT
BEGIN:STANDARD
TZOFFSETFROM:-0600
TZOFFSETTO:-0700
TZNAME:MST
DTSTART:20261101T080000
END:STANDARD
END:VTIMEZONE
BEGIN:VEVENT
DTSTART;TZID=America/Denver:20251205T090000
DTEND;TZID=America/Denver:20251205T110000
DTSTAMP:20260424T164513
CREATED:20251204T222429Z
LAST-MODIFIED:20251204T222429Z
UID:2475-1764925200-1764932400@ecofnavajoland.org
SUMMARY:Rev. Cornelia Eaton - Westwater (UTR)
DESCRIPTION:We welcome our bishop nominees as they come to the Utah Region. This is a time when the long nights call us to listen\, to reflect\, and to share in community.While visiting our region\, the nominees will worship with us\, share the Word\, and spend time listening to the stories of our people and this land\, over the next 10 days. We encourage everyone to extend hospitality and join in conversation.May this time be a blessing for all. May our guests travel safely\, and may we continue to learn\, love\, and care for one another. \nRev. Cornelia Eaton will be visiting Westwater at 9:00 AM
URL:https://ecofnavajoland.org/event/rev-cornelia-eaton-westwater-utr/
LOCATION:NM
END:VEVENT
BEGIN:VEVENT
DTSTART;TZID=America/Denver:20251205T180000
DTEND;TZID=America/Denver:20251205T193000
DTSTAMP:20260424T164513
CREATED:20251204T222609Z
LAST-MODIFIED:20251204T222609Z
UID:2477-1764957600-1764963000@ecofnavajoland.org
SUMMARY:Rev. Alyssa Stebbing - St. Michael's
DESCRIPTION:Over the next 10 days\, we welcome our bishop nominees as they visit the San Juan Region. This winter season is a proper time for gathering\, reflection\, and storytelling among our people.During their time with us\, the nominees will join in worship\, share the Word through services\, and spend time listening to and learning from our communities. We invite everyone to take time to greet them\, speak with them\, and share your stories.May we be blessed with the words to speak\, may our guests be granted traveling mercies\, and may we continue to learn\, love\, and care for one another. \nRev. Alyssa Stebbing will be visiting St. Michael’s Church at 6:00 PM.
URL:https://ecofnavajoland.org/event/rev-alyssa-stebbing-st-michaels/
LOCATION:NM
END:VEVENT
END:VCALENDAR