BEGIN:VCALENDAR
VERSION:2.0
PRODID:-//Episcopal Church in Navajoland - ECPv6.15.20//NONSGML v1.0//EN
CALSCALE:GREGORIAN
METHOD:PUBLISH
X-ORIGINAL-URL:https://ecofnavajoland.org
X-WR-CALDESC:Events for Episcopal Church in Navajoland
REFRESH-INTERVAL;VALUE=DURATION:PT1H
X-Robots-Tag:noindex
X-PUBLISHED-TTL:PT1H
BEGIN:VTIMEZONE
TZID:America/Denver
BEGIN:DAYLIGHT
TZOFFSETFROM:-0700
TZOFFSETTO:-0600
TZNAME:MDT
DTSTART:20240310T090000
END:DAYLIGHT
BEGIN:STANDARD
TZOFFSETFROM:-0600
TZOFFSETTO:-0700
TZNAME:MST
DTSTART:20241103T080000
END:STANDARD
BEGIN:DAYLIGHT
TZOFFSETFROM:-0700
TZOFFSETTO:-0600
TZNAME:MDT
DTSTART:20250309T090000
END:DAYLIGHT
BEGIN:STANDARD
TZOFFSETFROM:-0600
TZOFFSETTO:-0700
TZNAME:MST
DTSTART:20251102T080000
END:STANDARD
BEGIN:DAYLIGHT
TZOFFSETFROM:-0700
TZOFFSETTO:-0600
TZNAME:MDT
DTSTART:20260308T090000
END:DAYLIGHT
BEGIN:STANDARD
TZOFFSETFROM:-0600
TZOFFSETTO:-0700
TZNAME:MST
DTSTART:20261101T080000
END:STANDARD
END:VTIMEZONE
BEGIN:VEVENT
DTSTART;TZID=America/Denver:20251207T080000
DTEND;TZID=America/Denver:20251207T120000
DTSTAMP:20260424T164607
CREATED:20251126T055829Z
LAST-MODIFIED:20251204T224038Z
UID:2418-1765094400-1765108800@ecofnavajoland.org
SUMMARY:SER Sunday Services - Rev. Cornelia Eaton (GSM)
DESCRIPTION:Join Rev. Cornelia Eaton and assisting clergy for Holy Eucharist every Sunday morning at our 2 locations in the Southeast Region. \n8 AM at St. Mark’s Church in Coalmine\, NM\n10 AM at Good Shepherd Mission in Fort Defiance\, AZ \nAll are welcome! \nIf you have any inquiries\, please do not hesitate to contact the church office at (928) 729-2322 or email us at officegoodshepherdmission@gmail.com. We look forward to assisting you!
URL:https://ecofnavajoland.org/event/utr-staff-meeting-12/
LOCATION:Good Shepherd Mission\, 1 kIt Carson Drive\, Fort Defiance\, AZ\, 86504\, United States
END:VEVENT
BEGIN:VEVENT
DTSTART;TZID=America/Denver:20251207T100000
DTEND;TZID=America/Denver:20251207T120000
DTSTAMP:20260424T164607
CREATED:20251126T060255Z
LAST-MODIFIED:20251126T060255Z
UID:2427-1765101600-1765108800@ecofnavajoland.org
SUMMARY:SJR Sunday Services
DESCRIPTION:We invite you to attend one of our 2 Sunday Services in the San Juan Region\, presided over by Rev. Michael Sells and Rev. Cornelia Eaton. \n10 AM at All Saints Church in Farmington\, NM\n10 AM at St. Michael’s Church in Upper Fruitland\, NM \nAll are welcome! \nIf you have any inquiries\, don’t hesitate to get in touch with Rev. Michael Sells by phone or email.\nOffice Phone: (505) 327-6904\nEmail Address: sanjuanmission1918@gmail.com
URL:https://ecofnavajoland.org/event/sjr-sunday-services-7/
LOCATION:All Saints Church\, 1257 Mission Ave\, Farmington\, NM\, 87499\, United States
END:VEVENT
BEGIN:VEVENT
DTSTART;TZID=America/Denver:20251207T100000
DTEND;TZID=America/Denver:20251207T120000
DTSTAMP:20260424T164607
CREATED:20251126T060807Z
LAST-MODIFIED:20251126T060807Z
UID:2435-1765101600-1765108800@ecofnavajoland.org
SUMMARY:UTR Sunday Services
DESCRIPTION:Come and join us for Holy Eucharist in our Utah region with Rev. Jack Chase and Rev. Paula Henson. \n10 AM at St. Christopher’s Mission in Bluff\, Utah\,\n10 AM at St. John’s the Baptizer in Montezuma Creek\, Utah. \nAll are welcome! \nIf you need more information\, please feel free to contact us. You can reach us by calling (435) 267-2813 or by emailing info@stchristophersmission.com.
URL:https://ecofnavajoland.org/event/utr-sunday-services-10/
LOCATION:St. Christopher’s Mission\, Mission Rd\, Bluff\, UT\, 84512\, United States
END:VEVENT
BEGIN:VEVENT
DTSTART;TZID=America/Denver:20251207T170000
DTEND;TZID=America/Denver:20251207T180000
DTSTAMP:20260424T164607
CREATED:20251204T223736Z
LAST-MODIFIED:20251204T223736Z
UID:2485-1765126800-1765130400@ecofnavajoland.org
SUMMARY:Rev. Alyssa Stebbing - St. Christopher's Mission (EP)
DESCRIPTION:We welcome our bishop nominees as they come to the Utah Region. This is a time when the long nights call us to listen\, to reflect\, and to share in community.While visiting our region\, the nominees will worship with us\, share the Word\, and spend time listening to the stories of our people and this land\, over the next 10 days. We encourage everyone to extend hospitality and join in conversation.May this time be a blessing for all. May our guests travel safely\, and may we continue to learn\, love\, and care for one another. \nRev. Alyssa Stebbing will be leading Evening Prayer at St. Christopher’s Mission at 5:00 PM.
URL:https://ecofnavajoland.org/event/rev-alyssa-stebbing-st-christophers-mission-ep/
LOCATION:St. Christopher’s Mission\, Mission Rd\, Bluff\, UT\, 84512\, United States
END:VEVENT
BEGIN:VEVENT
DTSTART;TZID=America/Denver:20251207T180000
DTEND;TZID=America/Denver:20251207T190000
DTSTAMP:20260424T164607
CREATED:20251204T223854Z
LAST-MODIFIED:20251204T223854Z
UID:2487-1765130400-1765134000@ecofnavajoland.org
SUMMARY:Rev. Leon Sampson - All Saint's Church (EP)
DESCRIPTION:Over the next 10 days\, we welcome our bishop nominees as they visit the San Juan Region. This winter season is a proper time for gathering\, reflection\, and storytelling among our people.During their time with us\, the nominees will join in worship\, share the Word through services\, and spend time listening to and learning from our communities. We invite everyone to take time to greet them\, speak with them\, and share your stories.May we be blessed with the words to speak\, may our guests be granted traveling mercies\, and may we continue to learn\, love\, and care for one another. \nRev. Leon Sampson will be leading Evening Prayer at All Saints Church at 6:00 PM
URL:https://ecofnavajoland.org/event/rev-leon-sampson-all-saints-church-ep/
LOCATION:All Saints Church\, 1257 Mission Ave\, Farmington\, NM\, 87499\, United States
END:VEVENT
END:VCALENDAR