BEGIN:VCALENDAR
VERSION:2.0
PRODID:-//Episcopal Church in Navajoland - ECPv6.15.20//NONSGML v1.0//EN
CALSCALE:GREGORIAN
METHOD:PUBLISH
X-WR-CALNAME:Episcopal Church in Navajoland
X-ORIGINAL-URL:https://ecofnavajoland.org
X-WR-CALDESC:Events for Episcopal Church in Navajoland
REFRESH-INTERVAL;VALUE=DURATION:PT1H
X-Robots-Tag:noindex
X-PUBLISHED-TTL:PT1H
BEGIN:VTIMEZONE
TZID:America/Denver
BEGIN:DAYLIGHT
TZOFFSETFROM:-0700
TZOFFSETTO:-0600
TZNAME:MDT
DTSTART:20240310T090000
END:DAYLIGHT
BEGIN:STANDARD
TZOFFSETFROM:-0600
TZOFFSETTO:-0700
TZNAME:MST
DTSTART:20241103T080000
END:STANDARD
BEGIN:DAYLIGHT
TZOFFSETFROM:-0700
TZOFFSETTO:-0600
TZNAME:MDT
DTSTART:20250309T090000
END:DAYLIGHT
BEGIN:STANDARD
TZOFFSETFROM:-0600
TZOFFSETTO:-0700
TZNAME:MST
DTSTART:20251102T080000
END:STANDARD
BEGIN:DAYLIGHT
TZOFFSETFROM:-0700
TZOFFSETTO:-0600
TZNAME:MDT
DTSTART:20260308T090000
END:DAYLIGHT
BEGIN:STANDARD
TZOFFSETFROM:-0600
TZOFFSETTO:-0700
TZNAME:MST
DTSTART:20261101T080000
END:STANDARD
END:VTIMEZONE
BEGIN:VEVENT
DTSTART;TZID=America/Denver:20251209T100000
DTEND;TZID=America/Denver:20251209T110000
DTSTAMP:20260424T164545
CREATED:20251126T054127Z
LAST-MODIFIED:20251126T054127Z
UID:2398-1765274400-1765278000@ecofnavajoland.org
SUMMARY:SJR Staff Meeting
DESCRIPTION:Staff meetings for the San Juan Region are an opportunity for us to come together\, either in the Hozho Meeting Room or online via Zoom\, every Tuesday at 10:00 AM.
URL:https://ecofnavajoland.org/event/sjr-staff-meeting-9/
LOCATION:NM
END:VEVENT
BEGIN:VEVENT
DTSTART;TZID=America/Denver:20251209T100000
DTEND;TZID=America/Denver:20251209T110000
DTSTAMP:20260424T164545
CREATED:20251126T054639Z
LAST-MODIFIED:20251126T054639Z
UID:2406-1765274400-1765278000@ecofnavajoland.org
SUMMARY:SER Staff Meeting
DESCRIPTION:Staff meetings for the South East Region are an opportunity for us to come together in the Parish Hall every Tuesday starting at 10:00 AM.
URL:https://ecofnavajoland.org/event/ser-staff-meeting-10/
LOCATION:Good Shepherd Mission\, 1 kIt Carson Drive\, Fort Defiance\, AZ\, 86504\, United States
END:VEVENT
BEGIN:VEVENT
DTSTART;TZID=America/Denver:20251209T180000
DTEND;TZID=America/Denver:20251209T190000
DTSTAMP:20260424T164545
CREATED:20251204T224933Z
LAST-MODIFIED:20251204T224933Z
UID:2494-1765303200-1765306800@ecofnavajoland.org
SUMMARY:Rev. Leon Sampson - St. John's (Compline)
DESCRIPTION:We welcome our bishop nominees as they come to the Utah Region. This is a time when the long nights call us to listen\, to reflect\, and to share in community.While visiting our region\, the nominees will worship with us\, share the Word\, and spend time listening to the stories of our people and this land\, over the next 10 days. We encourage everyone to extend hospitality and join in conversation.May this time be a blessing for all. May our guests travel safely\, and may we continue to learn\, love\, and care for one another. \nRev. Leon Sampson will be visiting St. John’s Church for Compline at 6:00 PM.
URL:https://ecofnavajoland.org/event/rev-leon-sampson-st-johns-compline/
LOCATION:NM
END:VEVENT
BEGIN:VEVENT
DTSTART;TZID=America/Denver:20251209T180000
DTEND;TZID=America/Denver:20251209T190000
DTSTAMP:20260424T164545
CREATED:20251204T225102Z
LAST-MODIFIED:20251204T225102Z
UID:2496-1765303200-1765306800@ecofnavajoland.org
SUMMARY:Rev. Alyssa Stebbing - GSM (EP)
DESCRIPTION:When the winter winds remind us to listen carefully and speak from the heart\, we welcome our bishop nominees to the Southeast Region over these next 10 days. This is a meaningful time for worship\, fellowship\, and sharing stories passed down through our people. Our nominees will visit congregations\, participate in services\, and take time for conversation with community members. All are encouraged to ask questions\, share experiences\, and be part of this time together.May our voices be strong\, may there be safe travels\, and may we walk together in respect\, understanding\, and care. \nRev. Alyssa Stebbing will be leading Evening Prayer at Good Shepherd Mission starting at 6:00 PM.
URL:https://ecofnavajoland.org/event/rev-alyssa-stebbing-gsm-ep/
LOCATION:Good Shepherd Mission\, 1 kIt Carson Drive\, Fort Defiance\, AZ\, 86504\, United States
END:VEVENT
BEGIN:VEVENT
DTSTART;TZID=America/Denver:20251209T180000
DTEND;TZID=America/Denver:20251209T190000
DTSTAMP:20260424T164545
CREATED:20251204T225219Z
LAST-MODIFIED:20251204T225219Z
UID:2498-1765303200-1765306800@ecofnavajoland.org
SUMMARY:Rev. Cornelia Eaton - St. Luke's (EP)
DESCRIPTION:Over the next 10 days\, we welcome our bishop nominees as they visit the San Juan Region. This winter season is a proper time for gathering\, reflection\, and storytelling among our people.During their time with us\, the nominees will join in worship\, share the Word through services\, and spend time listening to and learning from our communities. We invite everyone to take time to greet them\, speak with them\, and share your stories.May we be blessed with the words to speak\, may our guests be granted traveling mercies\, and may we continue to learn\, love\, and care for one another. \nRev. Cornelia Eaton will be leading Evening Prayer at St. Luke’s Church starting at 6:00 PM.
URL:https://ecofnavajoland.org/event/rev-cornelia-eaton-st-lukes-ep/
LOCATION:St. Luke’s Church\, 691-693 Co Rd 7150\, Bloomfield\, NM\, New Mexico\, 87413
END:VEVENT
END:VCALENDAR