BEGIN:VCALENDAR
VERSION:2.0
PRODID:-//Episcopal Church in Navajoland - ECPv6.15.20//NONSGML v1.0//EN
CALSCALE:GREGORIAN
METHOD:PUBLISH
X-WR-CALNAME:Episcopal Church in Navajoland
X-ORIGINAL-URL:https://ecofnavajoland.org
X-WR-CALDESC:Events for Episcopal Church in Navajoland
REFRESH-INTERVAL;VALUE=DURATION:PT1H
X-Robots-Tag:noindex
X-PUBLISHED-TTL:PT1H
BEGIN:VTIMEZONE
TZID:America/Denver
BEGIN:DAYLIGHT
TZOFFSETFROM:-0700
TZOFFSETTO:-0600
TZNAME:MDT
DTSTART:20240310T090000
END:DAYLIGHT
BEGIN:STANDARD
TZOFFSETFROM:-0600
TZOFFSETTO:-0700
TZNAME:MST
DTSTART:20241103T080000
END:STANDARD
BEGIN:DAYLIGHT
TZOFFSETFROM:-0700
TZOFFSETTO:-0600
TZNAME:MDT
DTSTART:20250309T090000
END:DAYLIGHT
BEGIN:STANDARD
TZOFFSETFROM:-0600
TZOFFSETTO:-0700
TZNAME:MST
DTSTART:20251102T080000
END:STANDARD
BEGIN:DAYLIGHT
TZOFFSETFROM:-0700
TZOFFSETTO:-0600
TZNAME:MDT
DTSTART:20260308T090000
END:DAYLIGHT
BEGIN:STANDARD
TZOFFSETFROM:-0600
TZOFFSETTO:-0700
TZNAME:MST
DTSTART:20261101T080000
END:STANDARD
END:VTIMEZONE
BEGIN:VEVENT
DTSTART;TZID=America/Denver:20251210T100000
DTEND;TZID=America/Denver:20251210T110000
DTSTAMP:20260424T164546
CREATED:20251126T054937Z
LAST-MODIFIED:20251126T054937Z
UID:2414-1765360800-1765364400@ecofnavajoland.org
SUMMARY:UTR Staff Meeting
DESCRIPTION:Our staff meetings for the Utah Region take place every Wednesday at 10 a.m. at St. Christopher’s Mission in Bluff\, Utah.
URL:https://ecofnavajoland.org/event/utr-staff-meeting-10/
LOCATION:St. Christopher’s Mission\, Mission Rd\, Bluff\, UT\, 84512\, United States
END:VEVENT
BEGIN:VEVENT
DTSTART;TZID=America/Denver:20251210T170000
DTEND;TZID=America/Denver:20251210T180000
DTSTAMP:20260424T164546
CREATED:20251204T225510Z
LAST-MODIFIED:20251204T225510Z
UID:2500-1765386000-1765389600@ecofnavajoland.org
SUMMARY:Rev. Leon Sampson - St. Christopher's Mission (EP)
DESCRIPTION:We welcome our bishop nominees as they come to the Utah Region. This is a time when the long nights call us to listen\, to reflect\, and to share in community.While visiting our region\, the nominees will worship with us\, share the Word\, and spend time listening to the stories of our people and this land\, over the next 10 days. We encourage everyone to extend hospitality and join in conversation.May this time be a blessing for all. May our guests travel safely\, and may we continue to learn\, love\, and care for one another. \nRev. Leon Sampson will be leading Evening Prayer at St. Christopher’s Mission starting at 6:00 PM.
URL:https://ecofnavajoland.org/event/rev-leon-sampson-st-christophers-mission-ep/
LOCATION:St. Christopher’s Mission\, Mission Rd\, Bluff\, UT\, 84512\, United States
END:VEVENT
BEGIN:VEVENT
DTSTART;TZID=America/Denver:20251210T180000
DTEND;TZID=America/Denver:20251210T190000
DTSTAMP:20260424T164546
CREATED:20251126T061626Z
LAST-MODIFIED:20251126T061626Z
UID:2443-1765389600-1765393200@ecofnavajoland.org
SUMMARY:Wellbriety Talking Circle
DESCRIPTION:We invite you to join us for Wellbriety as we take a thoughtful exploration of The Red Road to Wellbriety in the Native American Way book. This gathering will take place at 6 PM upstairs in the Hozho Center\, and we will provide light refreshments for your enjoyment.
URL:https://ecofnavajoland.org/event/wellbriety-talking-circle-18/
LOCATION:Hozho Center\, 1257 Mission Ave\, Farmington\, NM\, 87499
END:VEVENT
BEGIN:VEVENT
DTSTART;TZID=America/Denver:20251210T180000
DTEND;TZID=America/Denver:20251210T190000
DTSTAMP:20260424T164546
CREATED:20251204T225631Z
LAST-MODIFIED:20251204T225631Z
UID:2502-1765389600-1765393200@ecofnavajoland.org
SUMMARY:Rev. Alyssa Stebbing - St. Mark's (EP)
DESCRIPTION:When the winter winds remind us to listen carefully and speak from the heart\, we welcome our bishop nominees to the Southeast Region over these next 10 days. This is a meaningful time for worship\, fellowship\, and sharing stories passed down through our people. Our nominees will visit congregations\, participate in services\, and take time for conversation with community members. All are encouraged to ask questions\, share experiences\, and be part of this time together.May our voices be strong\, may there be safe travels\, and may we walk together in respect\, understanding\, and care. \nRev. Alyssa Stebbing will be leading Evening Prayer at St. Mark’s Chruch starting at 6:00 PM.
URL:https://ecofnavajoland.org/event/rev-alyssa-stebbing-st-marks-ep/
LOCATION:St. Mark’s Church\, Old Coal Mine Rd\, Gallup\, New Mexico\, 87301
END:VEVENT
BEGIN:VEVENT
DTSTART;TZID=America/Denver:20251210T180000
DTEND;TZID=America/Denver:20251210T190000
DTSTAMP:20260424T164546
CREATED:20251204T225801Z
LAST-MODIFIED:20251204T225801Z
UID:2504-1765389600-1765393200@ecofnavajoland.org
SUMMARY:Rev. Cornelia Eaton - All Saints Church (EP)
DESCRIPTION:Over the next 10 days\, we welcome our bishop nominees as they visit the San Juan Region. This winter season is a proper time for gathering\, reflection\, and storytelling among our people.During their time with us\, the nominees will join in worship\, share the Word through services\, and spend time listening to and learning from our communities. We invite everyone to take time to greet them\, speak with them\, and share your stories.May we be blessed with the words to speak\, may our guests be granted traveling mercies\, and may we continue to learn\, love\, and care for one another. \nRev. Cornelia Eaton will be leading Evening Prayer at All Saints Church starting at 6:00 PM.
URL:https://ecofnavajoland.org/event/rev-cornelia-eaton-all-saints-church-ep/
LOCATION:All Saints Church\, 1257 Mission Ave\, Farmington\, NM\, 87499\, United States
END:VEVENT
END:VCALENDAR