BEGIN:VCALENDAR
VERSION:2.0
PRODID:-//Episcopal Church in Navajoland - ECPv6.15.20//NONSGML v1.0//EN
CALSCALE:GREGORIAN
METHOD:PUBLISH
X-ORIGINAL-URL:https://ecofnavajoland.org
X-WR-CALDESC:Events for Episcopal Church in Navajoland
REFRESH-INTERVAL;VALUE=DURATION:PT1H
X-Robots-Tag:noindex
X-PUBLISHED-TTL:PT1H
BEGIN:VTIMEZONE
TZID:America/Denver
BEGIN:DAYLIGHT
TZOFFSETFROM:-0700
TZOFFSETTO:-0600
TZNAME:MDT
DTSTART:20240310T090000
END:DAYLIGHT
BEGIN:STANDARD
TZOFFSETFROM:-0600
TZOFFSETTO:-0700
TZNAME:MST
DTSTART:20241103T080000
END:STANDARD
BEGIN:DAYLIGHT
TZOFFSETFROM:-0700
TZOFFSETTO:-0600
TZNAME:MDT
DTSTART:20250309T090000
END:DAYLIGHT
BEGIN:STANDARD
TZOFFSETFROM:-0600
TZOFFSETTO:-0700
TZNAME:MST
DTSTART:20251102T080000
END:STANDARD
BEGIN:DAYLIGHT
TZOFFSETFROM:-0700
TZOFFSETTO:-0600
TZNAME:MDT
DTSTART:20260308T090000
END:DAYLIGHT
BEGIN:STANDARD
TZOFFSETFROM:-0600
TZOFFSETTO:-0700
TZNAME:MST
DTSTART:20261101T080000
END:STANDARD
END:VTIMEZONE
BEGIN:VEVENT
DTSTART;TZID=America/Denver:20251216T100000
DTEND;TZID=America/Denver:20251216T110000
DTSTAMP:20260424T164631
CREATED:20251126T054356Z
LAST-MODIFIED:20251126T054356Z
UID:2400-1765879200-1765882800@ecofnavajoland.org
SUMMARY:SJR Staff Meeting
DESCRIPTION:Staff meetings for the San Juan Region are an opportunity for us to come together\, either in the Hozho Meeting Room or online via Zoom\, every Tuesday at 10:00 AM.
URL:https://ecofnavajoland.org/event/sjr-staff-meeting-10/
LOCATION:Hozho Center\, 1257 Mission Ave\, Farmington\, NM\, 87499
END:VEVENT
BEGIN:VEVENT
DTSTART;TZID=America/Denver:20251216T100000
DTEND;TZID=America/Denver:20251216T110000
DTSTAMP:20260424T164631
CREATED:20251126T054734Z
LAST-MODIFIED:20251126T054734Z
UID:2408-1765879200-1765882800@ecofnavajoland.org
SUMMARY:SER Staff Meeting
DESCRIPTION:Staff meetings for the South East Region are an opportunity for us to come together in the Parish Hall every Tuesday starting at 10:00 AM.
URL:https://ecofnavajoland.org/event/ser-staff-meeting-11/
LOCATION:NM
END:VEVENT
END:VCALENDAR