BEGIN:VCALENDAR
VERSION:2.0
PRODID:-//Episcopal Church in Navajoland - ECPv6.15.20//NONSGML v1.0//EN
CALSCALE:GREGORIAN
METHOD:PUBLISH
X-WR-CALNAME:Episcopal Church in Navajoland
X-ORIGINAL-URL:https://ecofnavajoland.org
X-WR-CALDESC:Events for Episcopal Church in Navajoland
REFRESH-INTERVAL;VALUE=DURATION:PT1H
X-Robots-Tag:noindex
X-PUBLISHED-TTL:PT1H
BEGIN:VTIMEZONE
TZID:America/Denver
BEGIN:DAYLIGHT
TZOFFSETFROM:-0700
TZOFFSETTO:-0600
TZNAME:MDT
DTSTART:20250309T090000
END:DAYLIGHT
BEGIN:STANDARD
TZOFFSETFROM:-0600
TZOFFSETTO:-0700
TZNAME:MST
DTSTART:20251102T080000
END:STANDARD
BEGIN:DAYLIGHT
TZOFFSETFROM:-0700
TZOFFSETTO:-0600
TZNAME:MDT
DTSTART:20260308T090000
END:DAYLIGHT
BEGIN:STANDARD
TZOFFSETFROM:-0600
TZOFFSETTO:-0700
TZNAME:MST
DTSTART:20261101T080000
END:STANDARD
BEGIN:DAYLIGHT
TZOFFSETFROM:-0700
TZOFFSETTO:-0600
TZNAME:MDT
DTSTART:20270314T090000
END:DAYLIGHT
BEGIN:STANDARD
TZOFFSETFROM:-0600
TZOFFSETTO:-0700
TZNAME:MST
DTSTART:20271107T080000
END:STANDARD
END:VTIMEZONE
BEGIN:VEVENT
DTSTART;TZID=America/Denver:20260207T100000
DTEND;TZID=America/Denver:20260207T110000
DTSTAMP:20260424T131603
CREATED:20260205T004552Z
LAST-MODIFIED:20260205T004552Z
UID:2699-1770458400-1770462000@ecofnavajoland.org
SUMMARY:Hozho Winter Story Sharing
DESCRIPTION:Winter Story Sharing- Final Session of the Season\n\n\nWe are grateful to close out our Winter Story Sharing Series with Leonard Anthony\, who has guided us through all four winter sessions with generosity\, care\, and deep teaching.\n\n\n\nFor our final gathering\, Leonard will share the sacred story of the Navajo Twins.\n\n\nSince November\, Leonard has walked with us through teachings on the winter constellation\, Changing Woman\, the Four Sacred Words\, and more\, reminding us of who we are and how to live in a good way during the cold season.\n\n\n\n February 7th\, 2026\n 10:00 AM (MST)\n Zoom (same link used for all winter sessions\, ID and passcode on image)\n\n\nAll are welcome to join this final winter gathering to listen\, learn\, and sit together with these stories.\n\n\nAhéhee’ for being part of this season of sharing.
URL:https://ecofnavajoland.org/event/hozho-winter-story-sharing-3/
LOCATION:NM
ATTACH;FMTTYPE=image/png:https://ecofnavajoland.org/wp-content/uploads/2026/02/February-2026-Winter-Story-Sharing.png
END:VEVENT
BEGIN:VEVENT
DTSTART;TZID=America/Denver:20260207T120000
DTEND;TZID=America/Denver:20260207T150000
DTSTAMP:20260424T131603
CREATED:20260205T011407Z
LAST-MODIFIED:20260205T011407Z
UID:2730-1770465600-1770476400@ecofnavajoland.org
SUMMARY:Lay Worship Leader Training- In Person
DESCRIPTION:ECN Lay worship leader training- Three Stages \n\nOnline Zoom training with Rev. Jack Chase (4 Sessions)\nRegional Training with your Vicar (1 Session)\nIn Person Gathering with Rev. Jack- Morning prayer practice and discussion\n\nThis session will be stage three. Meeting in Farmington\, NM\, at All Saints’ Church.
URL:https://ecofnavajoland.org/event/lay-worship-leader-training-in-person/
LOCATION:NM
END:VEVENT
END:VCALENDAR