BEGIN:VCALENDAR
VERSION:2.0
PRODID:-//Episcopal Church in Navajoland - ECPv6.15.20//NONSGML v1.0//EN
CALSCALE:GREGORIAN
METHOD:PUBLISH
X-ORIGINAL-URL:https://ecofnavajoland.org
X-WR-CALDESC:Events for Episcopal Church in Navajoland
REFRESH-INTERVAL;VALUE=DURATION:PT1H
X-Robots-Tag:noindex
X-PUBLISHED-TTL:PT1H
BEGIN:VTIMEZONE
TZID:America/Denver
BEGIN:DAYLIGHT
TZOFFSETFROM:-0700
TZOFFSETTO:-0600
TZNAME:MDT
DTSTART:20250309T090000
END:DAYLIGHT
BEGIN:STANDARD
TZOFFSETFROM:-0600
TZOFFSETTO:-0700
TZNAME:MST
DTSTART:20251102T080000
END:STANDARD
BEGIN:DAYLIGHT
TZOFFSETFROM:-0700
TZOFFSETTO:-0600
TZNAME:MDT
DTSTART:20260308T090000
END:DAYLIGHT
BEGIN:STANDARD
TZOFFSETFROM:-0600
TZOFFSETTO:-0700
TZNAME:MST
DTSTART:20261101T080000
END:STANDARD
BEGIN:DAYLIGHT
TZOFFSETFROM:-0700
TZOFFSETTO:-0600
TZNAME:MDT
DTSTART:20270314T090000
END:DAYLIGHT
BEGIN:STANDARD
TZOFFSETFROM:-0600
TZOFFSETTO:-0700
TZNAME:MST
DTSTART:20271107T080000
END:STANDARD
END:VTIMEZONE
BEGIN:VEVENT
DTSTART;TZID=America/Denver:20260218T080000
DTEND;TZID=America/Denver:20260218T170000
DTSTAMP:20260424T131840
CREATED:20260205T010049Z
LAST-MODIFIED:20260205T010049Z
UID:2722-1771401600-1771434000@ecofnavajoland.org
SUMMARY:Ash Wednesday
DESCRIPTION:
URL:https://ecofnavajoland.org/event/ash-wednesday-2/
LOCATION:NM
END:VEVENT
BEGIN:VEVENT
DTSTART;TZID=America/Denver:20260218T100000
DTEND;TZID=America/Denver:20260218T110000
DTSTAMP:20260424T131840
CREATED:20260206T193253Z
LAST-MODIFIED:20260206T193253Z
UID:2762-1771408800-1771412400@ecofnavajoland.org
SUMMARY:UTR Staff Meeting
DESCRIPTION:Our staff meetings for the Utah Region take place every Wednesday at 10 a.m. at St. Christopher’s Mission in Bluff\, Utah. \n 
URL:https://ecofnavajoland.org/event/utr-staff-meeting-20/
LOCATION:NM
END:VEVENT
BEGIN:VEVENT
DTSTART;TZID=America/Denver:20260218T120000
DTEND;TZID=America/Denver:20260218T130000
DTSTAMP:20260424T131840
CREATED:20260217T212016Z
LAST-MODIFIED:20260217T212016Z
UID:2793-1771416000-1771419600@ecofnavajoland.org
SUMMARY:St. Luke's Ash Wednesday Service
DESCRIPTION:Join us for the Ash Wednesday Service at St. Luke’s starting at noon.
URL:https://ecofnavajoland.org/event/st-lukes-ash-wednesday-service/
LOCATION:NM
END:VEVENT
BEGIN:VEVENT
DTSTART;TZID=America/Denver:20260218T150000
DTEND;TZID=America/Denver:20260218T160000
DTSTAMP:20260424T131840
CREATED:20260217T213412Z
LAST-MODIFIED:20260217T213412Z
UID:2795-1771426800-1771430400@ecofnavajoland.org
SUMMARY:St. Michael's - Ash Wednesday
DESCRIPTION:Join us for the Ash Wednesday service at St. Michael’s\, starting at 3 PM.
URL:https://ecofnavajoland.org/event/st-michaels-ash-wednesday/
LOCATION:NM
END:VEVENT
BEGIN:VEVENT
DTSTART;TZID=America/Denver:20260218T180000
DTEND;TZID=America/Denver:20260218T190000
DTSTAMP:20260424T131840
CREATED:20260217T213524Z
LAST-MODIFIED:20260217T213524Z
UID:2797-1771437600-1771441200@ecofnavajoland.org
SUMMARY:All Saints' - Ash Wednesday
DESCRIPTION:Join us for the Ash Wednesday Service at All Saints’ Church starting at 6 PM.
URL:https://ecofnavajoland.org/event/all-saints-ash-wednesday/
LOCATION:NM
END:VEVENT
BEGIN:VEVENT
DTSTART;TZID=America/Denver:20260218T180000
DTEND;TZID=America/Denver:20260218T190000
DTSTAMP:20260424T131840
CREATED:20260217T233005Z
LAST-MODIFIED:20260217T233005Z
UID:2801-1771437600-1771441200@ecofnavajoland.org
SUMMARY:Ash Wednesday - GSM
DESCRIPTION:Join us for the Ash Wednesday Service at Good Shepherd Mission starting at 6 PM.
URL:https://ecofnavajoland.org/event/ash-wednesday-gsm/
LOCATION:NM
END:VEVENT
END:VCALENDAR