BEGIN:VCALENDAR
VERSION:2.0
PRODID:-//Episcopal Church in Navajoland - ECPv6.15.20//NONSGML v1.0//EN
CALSCALE:GREGORIAN
METHOD:PUBLISH
X-WR-CALNAME:Episcopal Church in Navajoland
X-ORIGINAL-URL:https://ecofnavajoland.org
X-WR-CALDESC:Events for Episcopal Church in Navajoland
REFRESH-INTERVAL;VALUE=DURATION:PT1H
X-Robots-Tag:noindex
X-PUBLISHED-TTL:PT1H
BEGIN:VTIMEZONE
TZID:America/Denver
BEGIN:DAYLIGHT
TZOFFSETFROM:-0700
TZOFFSETTO:-0600
TZNAME:MDT
DTSTART:20250309T090000
END:DAYLIGHT
BEGIN:STANDARD
TZOFFSETFROM:-0600
TZOFFSETTO:-0700
TZNAME:MST
DTSTART:20251102T080000
END:STANDARD
BEGIN:DAYLIGHT
TZOFFSETFROM:-0700
TZOFFSETTO:-0600
TZNAME:MDT
DTSTART:20260308T090000
END:DAYLIGHT
BEGIN:STANDARD
TZOFFSETFROM:-0600
TZOFFSETTO:-0700
TZNAME:MST
DTSTART:20261101T080000
END:STANDARD
BEGIN:DAYLIGHT
TZOFFSETFROM:-0700
TZOFFSETTO:-0600
TZNAME:MDT
DTSTART:20270314T090000
END:DAYLIGHT
BEGIN:STANDARD
TZOFFSETFROM:-0600
TZOFFSETTO:-0700
TZNAME:MST
DTSTART:20271107T080000
END:STANDARD
END:VTIMEZONE
BEGIN:VEVENT
DTSTART;TZID=America/Denver:20260327T140000
DTEND;TZID=America/Denver:20260327T153000
DTSTAMP:20260424T131641
CREATED:20260324T230846Z
LAST-MODIFIED:20260324T230846Z
UID:3098-1774620000-1774625400@ecofnavajoland.org
SUMMARY:Friends of Navajoland Zoom
DESCRIPTION:Thank you for the ways you continue to walk with Navajoland in prayer\, relationship\, and support. We are grateful for the strong start to this renewed season of Friends\, and for the thoughtful conversations we have shared over the past few months. \nThis gathering will follow the spirit of our November meeting\, creating space to hear directly from Navajoland voices and remain grounded in the life of the Diocese. \nAt this meeting\, we will: \n\nWelcome and Introductions\nHear check-ins and updates from the Bishop and ECN clergy/ Laity\nContinue conversation around partnerships and mission relationships\nProvide an update on the developing Friends Cultural Learning Zooms\, which will be offered in the months between our regular gatherings\n\nAs we move forward\, we hold both immediate needs and long-term relationships together. This includes strengthening how we walk alongside Navajoland in ways that are respectful\, sustainable\, and rooted in trust. \n\nIf it is helpful\, you might take a few moments before we gather to sit with one or two of these questions:\nFor all participants: \n\nWhat does it mean to walk together in a good way in this season?\nWhat have you been noticing\, learning\, or wondering about in your connection to Navajoland?\n\nFor those joining from outside Navajoland: \n\nWhat does it look like to listen well before acting?\nHow might partnership begin with relationship rather than activity?\n\nFor those within Navajoland (clergy and laity): \n\nWhat is happening in your community right now that others may not see?\nWhere are you seeing strength\, resilience\, or hope?\n\nThere is no expectation to have fully formed responses. These are simply invitations to ponder and help ground our time together. \nWhether you have been part of Friends for many years or are joining more recently\, your presence matters. These gatherings are a space to listen\, learn\, and stay connected to the life and ministry of the Episcopal Church in Navajoland. \n\nContact GJ for the Zoom link.
URL:https://ecofnavajoland.org/event/friends-of-navajoland-zoom/
LOCATION:NM
END:VEVENT
END:VCALENDAR