BEGIN:VCALENDAR
VERSION:2.0
PRODID:-//Episcopal Church in Navajoland - ECPv6.15.20//NONSGML v1.0//EN
CALSCALE:GREGORIAN
METHOD:PUBLISH
X-WR-CALNAME:Episcopal Church in Navajoland
X-ORIGINAL-URL:https://ecofnavajoland.org
X-WR-CALDESC:Events for Episcopal Church in Navajoland
REFRESH-INTERVAL;VALUE=DURATION:PT1H
X-Robots-Tag:noindex
X-PUBLISHED-TTL:PT1H
BEGIN:VTIMEZONE
TZID:America/Denver
BEGIN:DAYLIGHT
TZOFFSETFROM:-0700
TZOFFSETTO:-0600
TZNAME:MDT
DTSTART:20250309T090000
END:DAYLIGHT
BEGIN:STANDARD
TZOFFSETFROM:-0600
TZOFFSETTO:-0700
TZNAME:MST
DTSTART:20251102T080000
END:STANDARD
BEGIN:DAYLIGHT
TZOFFSETFROM:-0700
TZOFFSETTO:-0600
TZNAME:MDT
DTSTART:20260308T090000
END:DAYLIGHT
BEGIN:STANDARD
TZOFFSETFROM:-0600
TZOFFSETTO:-0700
TZNAME:MST
DTSTART:20261101T080000
END:STANDARD
BEGIN:DAYLIGHT
TZOFFSETFROM:-0700
TZOFFSETTO:-0600
TZNAME:MDT
DTSTART:20270314T090000
END:DAYLIGHT
BEGIN:STANDARD
TZOFFSETFROM:-0600
TZOFFSETTO:-0700
TZNAME:MST
DTSTART:20271107T080000
END:STANDARD
END:VTIMEZONE
BEGIN:VEVENT
DTSTART;TZID=America/Denver:20260411T100000
DTEND;TZID=America/Denver:20260411T120000
DTSTAMP:20260424T100759
CREATED:20260410T162924Z
LAST-MODIFIED:20260411T153533Z
UID:3182-1775901600-1775908800@ecofnavajoland.org
SUMMARY:ECN Council Meeting
DESCRIPTION:Yá’át’ééh ECN Council\, \nThis is a friendly reminder of the regularly scheduled ECN Council meeting this Saturday. \nPlease use the correct meeting details below: \nTopic: 2026 ECN Council Meeting\nJoin Zoom Meeting\nhttps://us02web.zoom.us/j/81752409131?pwd=qWWpojrkKkoePMEUmuKoXFxUWckljl.1 \nMeeting ID: 817 5240 9131\nPasscode: 513270 \nOne tap mobile\n+12532158782\,\,81752409131#\,\,\,\,*513270# US (Tacoma)\n+13462487799\,\,81752409131#\,\,\,\,*513270# US (Houston) \n 
URL:https://ecofnavajoland.org/event/ecn-council-meeting/
LOCATION:Hozho Center\, 1257 Mission Ave\, Farmington\, NM\, 87499
END:VEVENT
BEGIN:VEVENT
DTSTART;TZID=America/Denver:20260411T130000
DTEND;TZID=America/Denver:20260411T143000
DTSTAMP:20260424T100759
CREATED:20260320T155846Z
LAST-MODIFIED:20260320T155846Z
UID:2998-1775912400-1775917800@ecofnavajoland.org
SUMMARY:ECN Confirmation Service
DESCRIPTION:Yá’át’ééh\, A Service of Confirmation will take place in the Episcopal Church in Navajoland.Saturday\, April 11\, 1:00 PMAll Saints Episcopal Church\, FarmingtonIndividuals from across Navajoland will be confirmed as part of their continued walk in faith.Please keep all those preparing for Confirmation in your prayers. Ahéheeʼ
URL:https://ecofnavajoland.org/event/ecn-confirmation-service/
LOCATION:All Saints Church\, 1257 Mission Ave\, Farmington\, NM\, 87499\, United States
ATTACH;FMTTYPE=image/png:https://ecofnavajoland.org/wp-content/uploads/2026/03/Confirmation-Service-2026-ASC.png
END:VEVENT
BEGIN:VEVENT
DTSTART;TZID=America/Denver:20260411T180000
DTEND;TZID=America/Denver:20260411T190000
DTSTAMP:20260424T100759
CREATED:20260406T211357Z
LAST-MODIFIED:20260406T211357Z
UID:3166-1775930400-1775934000@ecofnavajoland.org
SUMMARY:AA Recovery Open Group (GSM)
DESCRIPTION:The Recovery Open Group Meeting is held every Saturday at the GSM Parish Hall. For more information\, please contact Rev. Leon Sampson or Rev. Cathlena Plummer at 928-729-2322.
URL:https://ecofnavajoland.org/event/aa-recovery-open-group-gsm/
LOCATION:Good Shepherd Mission\, 1 kIt Carson Drive\, Fort Defiance\, AZ\, 86504\, United States
END:VEVENT
END:VCALENDAR