BEGIN:VCALENDAR
VERSION:2.0
PRODID:-//Episcopal Church in Navajoland - ECPv6.15.20//NONSGML v1.0//EN
CALSCALE:GREGORIAN
METHOD:PUBLISH
X-WR-CALNAME:Episcopal Church in Navajoland
X-ORIGINAL-URL:https://ecofnavajoland.org
X-WR-CALDESC:Events for Episcopal Church in Navajoland
REFRESH-INTERVAL;VALUE=DURATION:PT1H
X-Robots-Tag:noindex
X-PUBLISHED-TTL:PT1H
BEGIN:VTIMEZONE
TZID:America/Denver
BEGIN:DAYLIGHT
TZOFFSETFROM:-0700
TZOFFSETTO:-0600
TZNAME:MDT
DTSTART:20250309T090000
END:DAYLIGHT
BEGIN:STANDARD
TZOFFSETFROM:-0600
TZOFFSETTO:-0700
TZNAME:MST
DTSTART:20251102T080000
END:STANDARD
BEGIN:DAYLIGHT
TZOFFSETFROM:-0700
TZOFFSETTO:-0600
TZNAME:MDT
DTSTART:20260308T090000
END:DAYLIGHT
BEGIN:STANDARD
TZOFFSETFROM:-0600
TZOFFSETTO:-0700
TZNAME:MST
DTSTART:20261101T080000
END:STANDARD
BEGIN:DAYLIGHT
TZOFFSETFROM:-0700
TZOFFSETTO:-0600
TZNAME:MDT
DTSTART:20270314T090000
END:DAYLIGHT
BEGIN:STANDARD
TZOFFSETFROM:-0600
TZOFFSETTO:-0700
TZNAME:MST
DTSTART:20271107T080000
END:STANDARD
END:VTIMEZONE
BEGIN:VEVENT
DTSTART;TZID=America/Denver:20260428T100000
DTEND;TZID=America/Denver:20260428T110000
DTSTAMP:20260424T100651
CREATED:20260406T201753Z
LAST-MODIFIED:20260406T201753Z
UID:3122-1777370400-1777374000@ecofnavajoland.org
SUMMARY:SJR Staff Meeting
DESCRIPTION:Staff meetings for the San Juan Region are an opportunity for us to come together\, either in the Hozho Meeting Room or online via Zoom\, every Tuesday at 10:00 AM.
URL:https://ecofnavajoland.org/event/sjr-staff-meeting-30/
LOCATION:Hozho Center\, 1257 Mission Ave\, Farmington\, NM\, 87499
END:VEVENT
BEGIN:VEVENT
DTSTART;TZID=America/Denver:20260428T100000
DTEND;TZID=America/Denver:20260428T110000
DTSTAMP:20260424T100651
CREATED:20260406T201907Z
LAST-MODIFIED:20260406T201907Z
UID:3124-1777370400-1777374000@ecofnavajoland.org
SUMMARY:SER Staff Meeting
DESCRIPTION:Staff meetings for the South East Region are an opportunity for us to come together in the Parish Hall every Tuesday starting at 10:00 AM.
URL:https://ecofnavajoland.org/event/ser-staff-meeting-30/
LOCATION:Good Shepherd Mission\, 1 kIt Carson Drive\, Fort Defiance\, AZ\, 86504\, United States
END:VEVENT
BEGIN:VEVENT
DTSTART;TZID=America/Denver:20260428T100000
DTEND;TZID=America/Denver:20260428T110000
DTSTAMP:20260424T100651
CREATED:20260406T202407Z
LAST-MODIFIED:20260406T202407Z
UID:3133-1777370400-1777374000@ecofnavajoland.org
SUMMARY:UTR Staff Meeting
DESCRIPTION:Our staff meetings for the Utah Region take place every Wednesday at 10 a.m. at St. Christopher’s Mission in Bluff\, Utah.
URL:https://ecofnavajoland.org/event/utr-staff-meeting-28/
LOCATION:St. Christopher’s Mission\, Mission Rd\, Bluff\, UT\, 84512\, United States
END:VEVENT
END:VCALENDAR