BEGIN:VCALENDAR
VERSION:2.0
PRODID:-//Episcopal Church in Navajoland - ECPv6.15.20//NONSGML v1.0//EN
CALSCALE:GREGORIAN
METHOD:PUBLISH
X-ORIGINAL-URL:https://ecofnavajoland.org
X-WR-CALDESC:Events for Episcopal Church in Navajoland
REFRESH-INTERVAL;VALUE=DURATION:PT1H
X-Robots-Tag:noindex
X-PUBLISHED-TTL:PT1H
BEGIN:VTIMEZONE
TZID:America/Denver
BEGIN:DAYLIGHT
TZOFFSETFROM:-0700
TZOFFSETTO:-0600
TZNAME:MDT
DTSTART:20240310T090000
END:DAYLIGHT
BEGIN:STANDARD
TZOFFSETFROM:-0600
TZOFFSETTO:-0700
TZNAME:MST
DTSTART:20241103T080000
END:STANDARD
BEGIN:DAYLIGHT
TZOFFSETFROM:-0700
TZOFFSETTO:-0600
TZNAME:MDT
DTSTART:20250309T090000
END:DAYLIGHT
BEGIN:STANDARD
TZOFFSETFROM:-0600
TZOFFSETTO:-0700
TZNAME:MST
DTSTART:20251102T080000
END:STANDARD
BEGIN:DAYLIGHT
TZOFFSETFROM:-0700
TZOFFSETTO:-0600
TZNAME:MDT
DTSTART:20260308T090000
END:DAYLIGHT
BEGIN:STANDARD
TZOFFSETFROM:-0600
TZOFFSETTO:-0700
TZNAME:MST
DTSTART:20261101T080000
END:STANDARD
END:VTIMEZONE
BEGIN:VEVENT
DTSTART;TZID=America/Denver:20250715T100000
DTEND;TZID=America/Denver:20250715T110000
DTSTAMP:20260425T075901
CREATED:20250702T202016Z
LAST-MODIFIED:20250702T202016Z
UID:1828-1752573600-1752577200@ecofnavajoland.org
SUMMARY:SER Staff Meeting
DESCRIPTION:Staff meetings for the South East Region are an opportunity for us to come together in the Parish Hall every Tuesday starting at 10:00 AM.
URL:https://ecofnavajoland.org/event/ser-staff-meeting-45/
LOCATION:Good Shepherd Mission\, 1 kIt Carson Drive\, Fort Defiance\, AZ\, 86504\, United States
END:VEVENT
BEGIN:VEVENT
DTSTART;TZID=America/Denver:20250716T100000
DTEND;TZID=America/Denver:20250716T110000
DTSTAMP:20260425T075901
CREATED:20250702T205356Z
LAST-MODIFIED:20250702T205356Z
UID:1836-1752660000-1752663600@ecofnavajoland.org
SUMMARY:UTR Staff Meeting
DESCRIPTION:Our staff meetings for the Utah Region take place every Wednesday at 10 a.m. at St. Christopher’s Mission in Bluff\, Utah.
URL:https://ecofnavajoland.org/event/utr-staff-meeting-44/
LOCATION:St. Christopher’s Mission\, Mission Rd\, Bluff\, UT\, 84512\, United States
END:VEVENT
BEGIN:VEVENT
DTSTART;VALUE=DATE:20250717
DTEND;VALUE=DATE:20250721
DTSTAMP:20260425T075901
CREATED:20250709T223545Z
LAST-MODIFIED:20250709T223545Z
UID:1899-1752710400-1753055999@ecofnavajoland.org
SUMMARY:Mar Thoma Bible Camp (All Saint's Church) (8 AM - 4:30 PM)
DESCRIPTION:Hello Farmington!\nThe Mar Thoma Mission Groups\, along with All Saints Episcopal Church\, invite you to a Bible Camp from Thursday\, July 17th to Saturday\, July 19th\, 8:30 AM to 4 PM at 1259 Mission Avenue\, the pink church in Farmington. \nKids ages 3 to adults are welcome for breakfast\, singing\, Bible classes\, lunch\, crafts\, and fun activities! \nThis year’s theme is: “Magnified: Discovering the BIGNESS of GOD in the smallest of things\,” with the motto “Made to Magnify God!” and the theme verse from Psalm 34:3 – “Proclaim the Lord’s greatness with me; let us exalt His name together.” \nJoin us Saturday at 5:30 PM for a Cultural Exchange Night and Sunday\, July 20th at 10 AM for a joint worship service with food and fellowship. \nCome one\, come all – everyone is welcome!
URL:https://ecofnavajoland.org/event/mar-thoma-bible-camp-all-saints-church-8-am-430-pm/
LOCATION:All Saints Church\, 1257 Mission Ave\, Farmington\, NM\, 87499\, United States
ATTACH;FMTTYPE=image/jpeg:https://ecofnavajoland.org/wp-content/uploads/2025/07/Mar-Thoma-Bible-Camp-Farmington-NM.jpg
END:VEVENT
BEGIN:VEVENT
DTSTART;TZID=America/Denver:20250717T180000
DTEND;TZID=America/Denver:20250717T190000
DTSTAMP:20260425T075901
CREATED:20250702T210929Z
LAST-MODIFIED:20250702T210929Z
UID:1868-1752775200-1752778800@ecofnavajoland.org
SUMMARY:“R” for Thursday Recovery Meeting (GSM)
DESCRIPTION:“R” for Thursday Recovery meetings takes place every Thursday at the Good Shepherd Mission Parish Hall in Fort Defiance\, AZ\, starting at 6 PM. Don’t miss this important opportunity to connect with a dedicated community focused on recovery and personal growth. \nAll are welcome! \nIf you have any inquiries\, please do not hesitate to contact the church office at (928) 729-2322 or email us at officegoodshepherdmission@gmail.com. We look forward to assisting you!
URL:https://ecofnavajoland.org/event/r-for-thursday-recovery-meeting-gsm-24/
LOCATION:Good Shepherd Mission\, 1 kIt Carson Drive\, Fort Defiance\, AZ\, 86504\, United States
END:VEVENT
BEGIN:VEVENT
DTSTART;TZID=America/Denver:20250718T180000
DTEND;TZID=America/Denver:20250718T190000
DTSTAMP:20260425T075901
CREATED:20250702T165548Z
LAST-MODIFIED:20250702T165548Z
UID:1807-1752861600-1752865200@ecofnavajoland.org
SUMMARY:Wellbriety Talking Circle
DESCRIPTION:We invite you to join us for Wellbriety as we take a thoughtful Reflection of The Day. This gathering will take place at 6 PM upstairs in the Hozho Center\, and we will provide light refreshments for your enjoyment.
URL:https://ecofnavajoland.org/event/wellbriety-talking-circle-13/
LOCATION:Hozho Center\, 1257 Mission Ave\, Farmington\, NM\, 87499
END:VEVENT
BEGIN:VEVENT
DTSTART;TZID=America/Denver:20250719T173000
DTEND;TZID=America/Denver:20250719T193000
DTSTAMP:20260425T075901
CREATED:20250709T223812Z
LAST-MODIFIED:20250709T223812Z
UID:1902-1752946200-1752953400@ecofnavajoland.org
SUMMARY:Mar Thoma Cultural Exchange Night
DESCRIPTION:Join us Saturday at 5:30 PM for a Cultural Exchange Night and Sunday\, July 20th at 10 AM for a joint worship service with food and fellowship. \nCome one\, come all – everyone is welcome!
URL:https://ecofnavajoland.org/event/mar-thoma-cultural-exchange-night/
LOCATION:All Saints Church\, 1257 Mission Ave\, Farmington\, NM\, 87499\, United States
ATTACH;FMTTYPE=image/jpeg:https://ecofnavajoland.org/wp-content/uploads/2025/07/Mar-Thoma-Bible-Camp-Farmington-NM.jpg
END:VEVENT
BEGIN:VEVENT
DTSTART;TZID=America/Denver:20250720T080000
DTEND;TZID=America/Denver:20250720T120000
DTSTAMP:20260425T075901
CREATED:20250702T205846Z
LAST-MODIFIED:20250702T205846Z
UID:1846-1752998400-1753012800@ecofnavajoland.org
SUMMARY:SER Sunday Services
DESCRIPTION:Join Rev. Cathlena Plummer and Rev. Leon Sampson for Holy Eucharist every Sunday morning at our 2 locations in the Southeast Region. \n8 AM at St. Mark’s Church in Coalmine\, NM\n10 AM at Good Shepherd Mission in Fort Defiance\, AZ \nAll are welcome! \nIf you have any inquiries\, please do not hesitate to contact the church office at (928) 729-2322 or email us at officegoodshepherdmission@gmail.com. We look forward to assisting you!
URL:https://ecofnavajoland.org/event/ser-sunday-services-42/
LOCATION:UT
END:VEVENT
BEGIN:VEVENT
DTSTART;TZID=America/Denver:20250720T100000
DTEND;TZID=America/Denver:20250720T120000
DTSTAMP:20260425T075901
CREATED:20250702T210031Z
LAST-MODIFIED:20250702T210031Z
UID:1854-1753005600-1753012800@ecofnavajoland.org
SUMMARY:SJR Sunday Services
DESCRIPTION:We invite you to attend one of our 2 Sunday Services in the San Juan Region\, presided over by Rev. Michael Sells and Rev. Cornelia Eaton. \n10 AM at All Saints Church in Farmington\, NM\n10 AM at St. Michael’s Church in Upper Fruitland\, NM \nAll are welcome! \nIf you have any inquiries\, don’t hesitate to get in touch with Rev. Michael Sells by phone or email.\nOffice Phone: (505) 327-6904\nEmail Address: sanjuanmission1918@gmail.com
URL:https://ecofnavajoland.org/event/sjr-sunday-services-45/
LOCATION:UT
END:VEVENT
BEGIN:VEVENT
DTSTART;TZID=America/Denver:20250720T100000
DTEND;TZID=America/Denver:20250720T120000
DTSTAMP:20260425T075901
CREATED:20250702T210234Z
LAST-MODIFIED:20250702T210234Z
UID:1862-1753005600-1753012800@ecofnavajoland.org
SUMMARY:UTR Sunday Services
DESCRIPTION:Come and join us for Holy Eucharist in our Utah region with Rev. Jack Chase and Rev. Paula Henson. \n10 AM at St. Christopher’s Mission in Bluff\, Utah\,\n10 AM at St. John’s the Baptizer in Montezuma Creek\, Utah. \nAll are welcome! \nIf you need more information\, please feel free to contact us. You can reach us by calling (435) 267-2813 or by emailing info@stchristophersmission.com.
URL:https://ecofnavajoland.org/event/utr-sunday-services-47/
LOCATION:UT
END:VEVENT
BEGIN:VEVENT
DTSTART;TZID=America/Denver:20250720T120000
DTEND;TZID=America/Denver:20250720T140000
DTSTAMP:20260425T075901
CREATED:20250702T212006Z
LAST-MODIFIED:20250702T212006Z
UID:1874-1753012800-1753020000@ecofnavajoland.org
SUMMARY:SER Parish Council Meeting
DESCRIPTION:The Good Shepherd Parish Council invites you to come together for a meaningful meeting following the 10 AM Sunday service\, where your voice and vision can help guide our community forward.
URL:https://ecofnavajoland.org/event/ser-parish-council-meeting/
LOCATION:Good Shepherd Mission\, 1 kIt Carson Drive\, Fort Defiance\, AZ\, 86504\, United States
END:VEVENT
BEGIN:VEVENT
DTSTART;TZID=America/Denver:20250722T100000
DTEND;TZID=America/Denver:20250722T110000
DTSTAMP:20260425T075901
CREATED:20250702T200943Z
LAST-MODIFIED:20250702T200943Z
UID:1820-1753178400-1753182000@ecofnavajoland.org
SUMMARY:SJR Staff Meeting
DESCRIPTION:Staff meetings for the San Juan Region are an opportunity for us to come together\, either in the Hozho Meeting Room or online via Zoom\, every Tuesday at 10:00 AM.
URL:https://ecofnavajoland.org/event/sjr-staff-meeting-46/
LOCATION:Hozho Center\, 1257 Mission Ave\, Farmington\, NM\, 87499
END:VEVENT
BEGIN:VEVENT
DTSTART;TZID=America/Denver:20250722T100000
DTEND;TZID=America/Denver:20250722T110000
DTSTAMP:20260425T075901
CREATED:20250702T202132Z
LAST-MODIFIED:20250702T202132Z
UID:1832-1753178400-1753182000@ecofnavajoland.org
SUMMARY:SER Staff Meeting
DESCRIPTION:Staff meetings for the South East Region are an opportunity for us to come together in the Parish Hall every Tuesday starting at 10:00 AM.
URL:https://ecofnavajoland.org/event/ser-staff-meeting-47/
LOCATION:Good Shepherd Mission\, 1 kIt Carson Drive\, Fort Defiance\, AZ\, 86504\, United States
END:VEVENT
BEGIN:VEVENT
DTSTART;TZID=America/Denver:20250723T100000
DTEND;TZID=America/Denver:20250723T110000
DTSTAMP:20260425T075901
CREATED:20250702T205432Z
LAST-MODIFIED:20250702T205432Z
UID:1838-1753264800-1753268400@ecofnavajoland.org
SUMMARY:UTR Staff Meeting
DESCRIPTION:Our staff meetings for the Utah Region take place every Wednesday at 10 a.m. at St. Christopher’s Mission in Bluff\, Utah.
URL:https://ecofnavajoland.org/event/utr-staff-meeting-45/
LOCATION:St. Christopher’s Mission\, Mission Rd\, Bluff\, UT\, 84512\, United States
END:VEVENT
BEGIN:VEVENT
DTSTART;TZID=America/Denver:20250724T180000
DTEND;TZID=America/Denver:20250724T190000
DTSTAMP:20260425T075901
CREATED:20250702T211007Z
LAST-MODIFIED:20250702T211007Z
UID:1870-1753380000-1753383600@ecofnavajoland.org
SUMMARY:“R” for Thursday Recovery Meeting (GSM)
DESCRIPTION:“R” for Thursday Recovery meetings takes place every Thursday at the Good Shepherd Mission Parish Hall in Fort Defiance\, AZ\, starting at 6 PM. Don’t miss this important opportunity to connect with a dedicated community focused on recovery and personal growth. \nAll are welcome! \nIf you have any inquiries\, please do not hesitate to contact the church office at (928) 729-2322 or email us at officegoodshepherdmission@gmail.com. We look forward to assisting you!
URL:https://ecofnavajoland.org/event/r-for-thursday-recovery-meeting-gsm-25/
LOCATION:Good Shepherd Mission\, 1 kIt Carson Drive\, Fort Defiance\, AZ\, 86504\, United States
END:VEVENT
BEGIN:VEVENT
DTSTART;TZID=America/Denver:20250726T100000
DTEND;TZID=America/Denver:20250726T140000
DTSTAMP:20260425T075901
CREATED:20250724T163908Z
LAST-MODIFIED:20250724T163908Z
UID:1920-1753524000-1753538400@ecofnavajoland.org
SUMMARY:Owens Project - Chromebook Class
DESCRIPTION:Join the Owen Project group from Seguin\, Texas\, for a class on how to use Chromebooks at the Hozho Center classroom. This session will provide a basic exploration of apps that can help you understand and learn about the features and capabilities of Chromebooks. Lunch will be provided.
URL:https://ecofnavajoland.org/event/owens-project-chromebook-class/
LOCATION:Hozho Center\, 1257 Mission Ave\, Farmington\, NM\, 87499
ATTACH;FMTTYPE=image/png:https://ecofnavajoland.org/wp-content/uploads/2025/07/Owens-Project-Basic-Chrome-Book.png
END:VEVENT
BEGIN:VEVENT
DTSTART;TZID=America/Denver:20250727T080000
DTEND;TZID=America/Denver:20250727T120000
DTSTAMP:20260425T075901
CREATED:20250702T205905Z
LAST-MODIFIED:20250702T205905Z
UID:1848-1753603200-1753617600@ecofnavajoland.org
SUMMARY:SER Sunday Services
DESCRIPTION:Join Rev. Cathlena Plummer and Rev. Leon Sampson for Holy Eucharist every Sunday morning at our 2 locations in the Southeast Region. \n8 AM at St. Mark’s Church in Coalmine\, NM\n10 AM at Good Shepherd Mission in Fort Defiance\, AZ \nAll are welcome! \nIf you have any inquiries\, please do not hesitate to contact the church office at (928) 729-2322 or email us at officegoodshepherdmission@gmail.com. We look forward to assisting you!
URL:https://ecofnavajoland.org/event/ser-sunday-services-43/
LOCATION:UT
END:VEVENT
BEGIN:VEVENT
DTSTART;TZID=America/Denver:20250727T100000
DTEND;TZID=America/Denver:20250727T120000
DTSTAMP:20260425T075901
CREATED:20250702T210052Z
LAST-MODIFIED:20250702T210052Z
UID:1856-1753610400-1753617600@ecofnavajoland.org
SUMMARY:SJR Sunday Services
DESCRIPTION:We invite you to attend one of our 2 Sunday Services in the San Juan Region\, presided over by Rev. Michael Sells and Rev. Cornelia Eaton. \n10 AM at All Saints Church in Farmington\, NM\n10 AM at St. Michael’s Church in Upper Fruitland\, NM \nAll are welcome! \nIf you have any inquiries\, don’t hesitate to get in touch with Rev. Michael Sells by phone or email.\nOffice Phone: (505) 327-6904\nEmail Address: sanjuanmission1918@gmail.com
URL:https://ecofnavajoland.org/event/sjr-sunday-services-46/
LOCATION:UT
END:VEVENT
BEGIN:VEVENT
DTSTART;TZID=America/Denver:20250727T100000
DTEND;TZID=America/Denver:20250727T120000
DTSTAMP:20260425T075901
CREATED:20250702T210255Z
LAST-MODIFIED:20250702T210255Z
UID:1864-1753610400-1753617600@ecofnavajoland.org
SUMMARY:UTR Sunday Services
DESCRIPTION:Come and join us for Holy Eucharist in our Utah region with Rev. Jack Chase and Rev. Paula Henson. \n10 AM at St. Christopher’s Mission in Bluff\, Utah\,\n10 AM at St. John’s the Baptizer in Montezuma Creek\, Utah. \nAll are welcome! \nIf you need more information\, please feel free to contact us. You can reach us by calling (435) 267-2813 or by emailing info@stchristophersmission.com.
URL:https://ecofnavajoland.org/event/utr-sunday-services-48/
LOCATION:UT
END:VEVENT
BEGIN:VEVENT
DTSTART;TZID=America/Denver:20250729T100000
DTEND;TZID=America/Denver:20250729T110000
DTSTAMP:20260425T075901
CREATED:20250702T201023Z
LAST-MODIFIED:20250702T201023Z
UID:1822-1753783200-1753786800@ecofnavajoland.org
SUMMARY:SJR Staff Meeting
DESCRIPTION:Staff meetings for the San Juan Region are an opportunity for us to come together\, either in the Hozho Meeting Room or online via Zoom\, every Tuesday at 10:00 AM.
URL:https://ecofnavajoland.org/event/sjr-staff-meeting-47/
LOCATION:Hozho Center\, 1257 Mission Ave\, Farmington\, NM\, 87499
END:VEVENT
BEGIN:VEVENT
DTSTART;TZID=America/Denver:20250729T100000
DTEND;TZID=America/Denver:20250729T110000
DTSTAMP:20260425T075901
CREATED:20250702T202046Z
LAST-MODIFIED:20250702T202046Z
UID:1830-1753783200-1753786800@ecofnavajoland.org
SUMMARY:SER Staff Meeting
DESCRIPTION:Staff meetings for the South East Region are an opportunity for us to come together in the Parish Hall every Tuesday starting at 10:00 AM.
URL:https://ecofnavajoland.org/event/ser-staff-meeting-46/
LOCATION:Good Shepherd Mission\, 1 kIt Carson Drive\, Fort Defiance\, AZ\, 86504\, United States
END:VEVENT
BEGIN:VEVENT
DTSTART;TZID=America/Denver:20250730T100000
DTEND;TZID=America/Denver:20250730T110000
DTSTAMP:20260425T075901
CREATED:20250702T205459Z
LAST-MODIFIED:20250702T205459Z
UID:1840-1753869600-1753873200@ecofnavajoland.org
SUMMARY:UTR Staff Meeting
DESCRIPTION:Our staff meetings for the Utah Region take place every Wednesday at 10 a.m. at St. Christopher’s Mission in Bluff\, Utah.
URL:https://ecofnavajoland.org/event/utr-staff-meeting-46/
LOCATION:St. Christopher’s Mission\, Mission Rd\, Bluff\, UT\, 84512\, United States
END:VEVENT
BEGIN:VEVENT
DTSTART;TZID=America/Denver:20250731T180000
DTEND;TZID=America/Denver:20250731T190000
DTSTAMP:20260425T075901
CREATED:20250702T211034Z
LAST-MODIFIED:20250702T211034Z
UID:1872-1753984800-1753988400@ecofnavajoland.org
SUMMARY:“R” for Thursday Recovery Meeting (GSM)
DESCRIPTION:“R” for Thursday Recovery meetings takes place every Thursday at the Good Shepherd Mission Parish Hall in Fort Defiance\, AZ\, starting at 6 PM. Don’t miss this important opportunity to connect with a dedicated community focused on recovery and personal growth. \nAll are welcome! \nIf you have any inquiries\, please do not hesitate to contact the church office at (928) 729-2322 or email us at officegoodshepherdmission@gmail.com. We look forward to assisting you!
URL:https://ecofnavajoland.org/event/r-for-thursday-recovery-meeting-gsm-26/
LOCATION:Good Shepherd Mission\, 1 kIt Carson Drive\, Fort Defiance\, AZ\, 86504\, United States
END:VEVENT
BEGIN:VEVENT
DTSTART;VALUE=DATE:20250801
DTEND;VALUE=DATE:20250809
DTSTAMP:20260425T075901
CREATED:20250801T155608Z
LAST-MODIFIED:20250801T160332Z
UID:1992-1754006400-1754697599@ecofnavajoland.org
SUMMARY:Anglican Pilgrimage in Navajoland
DESCRIPTION:We are excited to welcome the Anglican Pilgrimage to Navajoland. The group of 34\, led by Archbishop Don Tamihere\, will be visiting each of our three regions. The Pilgrimage consists of our friends from New Zealand\, Brazil\, Canada\, and Australia. This sacred journey celebrates our new status as a Missionary Diocese and honors Indigenous leadership. \n 
URL:https://ecofnavajoland.org/event/anglican-pilgrimage-in-navajoland/
LOCATION:UT
END:VEVENT
BEGIN:VEVENT
DTSTART;TZID=America/Denver:20250802T040000
DTEND;TZID=America/Denver:20250802T193000
DTSTAMP:20260425T075901
CREATED:20250801T161139Z
LAST-MODIFIED:20250801T161139Z
UID:1996-1754107200-1754163000@ecofnavajoland.org
SUMMARY:Talking Circle\, Evening Prayer\, & Community Dinner (GSM)
DESCRIPTION:Southeast Region (Good Shepherd Mission) \nJoin Rev. Cornelia for the Anglican Pilgrimage as we journey through our three regions together. Experience an evening of learning\, sharing\, and celebration on Saturday\, August 2nd. We will gather for a meaningful Talking Circle at 4 PM\, Evening Prayer at 6 PM\, and conclude with a nourishing Community Dinner at 6:30 PM. See you there!
URL:https://ecofnavajoland.org/event/talking-circle-evening-prayer-community-dinner-gsm/
LOCATION:Good Shepherd Mission\, 1 kIt Carson Drive\, Fort Defiance\, AZ\, 86504\, United States
END:VEVENT
BEGIN:VEVENT
DTSTART;TZID=America/Denver:20250803T080000
DTEND;TZID=America/Denver:20250803T120000
DTSTAMP:20260425T075901
CREATED:20250801T153918Z
LAST-MODIFIED:20250801T153918Z
UID:1962-1754208000-1754222400@ecofnavajoland.org
SUMMARY:SER Sunday Services
DESCRIPTION:Join Rev. Cathlena Plummer and Rev. Leon Sampson for Holy Eucharist every Sunday morning at our 2 locations in the Southeast Region. \n8 AM at St. Mark’s Church in Coalmine\, NM\n10 AM at Good Shepherd Mission in Fort Defiance\, AZ \nAll are welcome! \nIf you have any inquiries\, please do not hesitate to contact the church office at (928) 729-2322 or email us at officegoodshepherdmission@gmail.com. We look forward to assisting you!
URL:https://ecofnavajoland.org/event/ser-sunday-services-44/
LOCATION:Good Shepherd Mission\, 1 kIt Carson Drive\, Fort Defiance\, AZ\, 86504\, United States
END:VEVENT
BEGIN:VEVENT
DTSTART;TZID=America/Denver:20250803T100000
DTEND;TZID=America/Denver:20250803T120000
DTSTAMP:20260425T075901
CREATED:20250801T154151Z
LAST-MODIFIED:20250801T154151Z
UID:1972-1754215200-1754222400@ecofnavajoland.org
SUMMARY:SJR Sunday Services
DESCRIPTION:We invite you to attend one of our 2 Sunday Services in the San Juan Region\, presided over by Rev. Michael Sells and Rev. Cornelia Eaton. \n10 AM at All Saints Church in Farmington\, NM\n10 AM at St. Michael’s Church in Upper Fruitland\, NM \nAll are welcome! \nIf you have any inquiries\, don’t hesitate to get in touch with Rev. Michael Sells by phone or email.\nOffice Phone: (505) 327-6904\nEmail Address: sanjuanmission1918@gmail.com
URL:https://ecofnavajoland.org/event/sjr-sunday-services-47/
LOCATION:UT
END:VEVENT
BEGIN:VEVENT
DTSTART;TZID=America/Denver:20250803T100000
DTEND;TZID=America/Denver:20250803T120000
DTSTAMP:20260425T075901
CREATED:20250801T154416Z
LAST-MODIFIED:20250801T154426Z
UID:1982-1754215200-1754222400@ecofnavajoland.org
SUMMARY:UTR Sunday Services
DESCRIPTION:Come and join us for Holy Eucharist in our Utah region with Rev. Jack Chase and Rev. Paula Henson. \n10 AM at St. Christopher’s Mission in Bluff\, Utah\,\n10 AM at St. John’s the Baptizer in Montezuma Creek\, Utah. \nAll are welcome! \nIf you need more information\, please feel free to contact us. You can reach us by calling (435) 267-2813 or by emailing info@stchristophersmission.com.
URL:https://ecofnavajoland.org/event/utr-sunday-services-49/
LOCATION:St. Christopher’s Mission\, Mission Rd\, Bluff\, UT\, 84512\, United States
END:VEVENT
BEGIN:VEVENT
DTSTART;TZID=America/Denver:20250804T160000
DTEND;TZID=America/Denver:20250804T200000
DTSTAMP:20260425T075901
CREATED:20250801T161520Z
LAST-MODIFIED:20250801T161520Z
UID:1998-1754323200-1754337600@ecofnavajoland.org
SUMMARY:Talking Circle\, Evening Prayer\, and Community Dinner (St. Christopher's)
DESCRIPTION:Utah Region (St. Christopher’s Mission) \nJoin Rev. Cornelia for the Anglican Pilgrimage as we journey through our three regions together. Experience an evening of learning\, sharing\, and celebration on Monday\, August 4th. We will gather for a meaningful Talking Circle at 4 PM\, Evening Prayer at 6 PM\, and conclude with a nourishing Community Dinner at 6:30 PM. See you there!
URL:https://ecofnavajoland.org/event/talking-circle-evening-prayer-and-community-dinner-st-christophers/
LOCATION:St. Christopher’s Mission\, Mission Rd\, Bluff\, UT\, 84512\, United States
END:VEVENT
BEGIN:VEVENT
DTSTART;TZID=America/Denver:20250805T100000
DTEND;TZID=America/Denver:20250805T110000
DTSTAMP:20260425T075901
CREATED:20250801T152755Z
LAST-MODIFIED:20250801T152755Z
UID:1928-1754388000-1754391600@ecofnavajoland.org
SUMMARY:SJR Staff Meeting
DESCRIPTION:Staff meetings for the San Juan Region are an opportunity for us to come together\, either in the Hozho Meeting Room or online via Zoom\, every Tuesday at 10:00 AM.
URL:https://ecofnavajoland.org/event/sjr-staff-meeting-48/
LOCATION:Hozho Center\, 1257 Mission Ave\, Farmington\, NM\, 87499
END:VEVENT
BEGIN:VEVENT
DTSTART;TZID=America/Denver:20250805T100000
DTEND;TZID=America/Denver:20250805T110000
DTSTAMP:20260425T075901
CREATED:20250801T153038Z
LAST-MODIFIED:20250801T153038Z
UID:1936-1754388000-1754391600@ecofnavajoland.org
SUMMARY:SER Staff Meeting
DESCRIPTION:Staff meetings for the South East Region are an opportunity for us to come together in the Parish Hall every Tuesday starting at 10:00 AM.
URL:https://ecofnavajoland.org/event/ser-staff-meeting-48/
LOCATION:Good Shepherd Mission\, 1 kIt Carson Drive\, Fort Defiance\, AZ\, 86504\, United States
END:VEVENT
END:VCALENDAR