BEGIN:VCALENDAR
VERSION:2.0
PRODID:-//Episcopal Church in Navajoland - ECPv6.15.20//NONSGML v1.0//EN
CALSCALE:GREGORIAN
METHOD:PUBLISH
X-ORIGINAL-URL:https://ecofnavajoland.org
X-WR-CALDESC:Events for Episcopal Church in Navajoland
REFRESH-INTERVAL;VALUE=DURATION:PT1H
X-Robots-Tag:noindex
X-PUBLISHED-TTL:PT1H
BEGIN:VTIMEZONE
TZID:America/Denver
BEGIN:DAYLIGHT
TZOFFSETFROM:-0700
TZOFFSETTO:-0600
TZNAME:MDT
DTSTART:20240310T090000
END:DAYLIGHT
BEGIN:STANDARD
TZOFFSETFROM:-0600
TZOFFSETTO:-0700
TZNAME:MST
DTSTART:20241103T080000
END:STANDARD
BEGIN:DAYLIGHT
TZOFFSETFROM:-0700
TZOFFSETTO:-0600
TZNAME:MDT
DTSTART:20250309T090000
END:DAYLIGHT
BEGIN:STANDARD
TZOFFSETFROM:-0600
TZOFFSETTO:-0700
TZNAME:MST
DTSTART:20251102T080000
END:STANDARD
BEGIN:DAYLIGHT
TZOFFSETFROM:-0700
TZOFFSETTO:-0600
TZNAME:MDT
DTSTART:20260308T090000
END:DAYLIGHT
BEGIN:STANDARD
TZOFFSETFROM:-0600
TZOFFSETTO:-0700
TZNAME:MST
DTSTART:20261101T080000
END:STANDARD
END:VTIMEZONE
BEGIN:VEVENT
DTSTART;TZID=America/Denver:20250805T100000
DTEND;TZID=America/Denver:20250805T110000
DTSTAMP:20260425T045335
CREATED:20250801T153038Z
LAST-MODIFIED:20250801T153038Z
UID:1936-1754388000-1754391600@ecofnavajoland.org
SUMMARY:SER Staff Meeting
DESCRIPTION:Staff meetings for the South East Region are an opportunity for us to come together in the Parish Hall every Tuesday starting at 10:00 AM.
URL:https://ecofnavajoland.org/event/ser-staff-meeting-48/
LOCATION:Good Shepherd Mission\, 1 kIt Carson Drive\, Fort Defiance\, AZ\, 86504\, United States
END:VEVENT
BEGIN:VEVENT
DTSTART;TZID=America/Denver:20250806T100000
DTEND;TZID=America/Denver:20250806T110000
DTSTAMP:20260425T045335
CREATED:20250801T153322Z
LAST-MODIFIED:20250801T153322Z
UID:1944-1754474400-1754478000@ecofnavajoland.org
SUMMARY:UTR Staff Meeting
DESCRIPTION:Our staff meetings for the Utah Region take place every Wednesday at 10 a.m. at St. Christopher’s Mission in Bluff\, Utah.
URL:https://ecofnavajoland.org/event/utr-staff-meeting-47/
LOCATION:St. Christopher’s Mission\, Mission Rd\, Bluff\, UT\, 84512\, United States
END:VEVENT
BEGIN:VEVENT
DTSTART;TZID=America/Denver:20250806T173000
DTEND;TZID=America/Denver:20250806T193000
DTSTAMP:20260425T045335
CREATED:20250801T162010Z
LAST-MODIFIED:20250801T162010Z
UID:2000-1754501400-1754508600@ecofnavajoland.org
SUMMARY:Talking Circle & Community Dinner (All Saints)
DESCRIPTION:San Juan Region (All Saints) \nJoin Rev. Cornelia for the Anglican Pilgrimage as we journey together through our three regions. Experience an evening of learning\, sharing\, and celebration on Wednesday\, August 6th. We will begin with a meaningful Talking Circle at 5:30 PM\, followed by a nourishing Community Dinner at 6:30 PM. We hope to see you there!
URL:https://ecofnavajoland.org/event/talking-circle-community-dinner-all-saints/
LOCATION:All Saints Church\, 1257 Mission Ave\, Farmington\, NM\, 87499\, United States
END:VEVENT
BEGIN:VEVENT
DTSTART;TZID=America/Denver:20250807T180000
DTEND;TZID=America/Denver:20250807T190000
DTSTAMP:20260425T045335
CREATED:20250801T153636Z
LAST-MODIFIED:20250801T153636Z
UID:1954-1754589600-1754593200@ecofnavajoland.org
SUMMARY:“R” for Thursday Recovery Meeting (GSM)
DESCRIPTION:“R” for Thursday Recovery meetings takes place every Thursday at the Good Shepherd Mission Parish Hall in Fort Defiance\, AZ\, starting at 6 PM. Don’t miss this important opportunity to connect with a dedicated community focused on recovery and personal growth. \nAll are welcome! \nIf you have any inquiries\, please do not hesitate to contact the church office at (928) 729-2322 or email us at officegoodshepherdmission@gmail.com. We look forward to assisting you!
URL:https://ecofnavajoland.org/event/r-for-thursday-recovery-meeting-gsm-27/
LOCATION:Good Shepherd Mission\, 1 kIt Carson Drive\, Fort Defiance\, AZ\, 86504\, United States
END:VEVENT
BEGIN:VEVENT
DTSTART;TZID=America/Denver:20250808T180000
DTEND;TZID=America/Denver:20250808T190000
DTSTAMP:20260425T045335
CREATED:20250722T204815Z
LAST-MODIFIED:20250722T204815Z
UID:1911-1754676000-1754679600@ecofnavajoland.org
SUMMARY:Wellbriety Talking Circle
DESCRIPTION:We invite you to join us for Wellbriety as we take a thoughtful exploration of The Red Road to Wellbriety in the Native American Way book. This gathering will take place at 6 PM upstairs in the Hozho Center\, and we will provide light refreshments for your enjoyment.
URL:https://ecofnavajoland.org/event/wellbriety-talking-circle-14/
LOCATION:Hozho Center\, 1257 Mission Ave\, Farmington\, NM\, 87499
ATTACH;FMTTYPE=image/png:https://ecofnavajoland.org/wp-content/uploads/2025/07/August-2025-Wellbreity-Hozho-Center.png
END:VEVENT
BEGIN:VEVENT
DTSTART;TZID=America/Denver:20250809T100000
DTEND;TZID=America/Denver:20250809T140000
DTSTAMP:20260425T045335
CREATED:20250801T171857Z
LAST-MODIFIED:20250801T171857Z
UID:2002-1754733600-1754748000@ecofnavajoland.org
SUMMARY:ECN Council Meeting
DESCRIPTION:The ECN Council Meeting will be held on Saturday\, August 9\, 2025. Together\, we can inspire change and achieve great things!
URL:https://ecofnavajoland.org/event/ecn-council-meeting-5/
LOCATION:UT
END:VEVENT
BEGIN:VEVENT
DTSTART;TZID=America/Denver:20250810T080000
DTEND;TZID=America/Denver:20250810T120000
DTSTAMP:20260425T045335
CREATED:20250801T153947Z
LAST-MODIFIED:20250801T153947Z
UID:1964-1754812800-1754827200@ecofnavajoland.org
SUMMARY:SER Sunday Services
DESCRIPTION:Join Rev. Cathlena Plummer and Rev. Leon Sampson for Holy Eucharist every Sunday morning at our 2 locations in the Southeast Region. \n8 AM at St. Mark’s Church in Coalmine\, NM\n10 AM at Good Shepherd Mission in Fort Defiance\, AZ \nAll are welcome! \nIf you have any inquiries\, please do not hesitate to contact the church office at (928) 729-2322 or email us at officegoodshepherdmission@gmail.com. We look forward to assisting you!
URL:https://ecofnavajoland.org/event/ser-sunday-services-45/
LOCATION:Good Shepherd Mission\, 1 kIt Carson Drive\, Fort Defiance\, AZ\, 86504\, United States
END:VEVENT
BEGIN:VEVENT
DTSTART;TZID=America/Denver:20250810T100000
DTEND;TZID=America/Denver:20250810T120000
DTSTAMP:20260425T045335
CREATED:20250801T154215Z
LAST-MODIFIED:20250801T154215Z
UID:1974-1754820000-1754827200@ecofnavajoland.org
SUMMARY:SJR Sunday Services
DESCRIPTION:We invite you to attend one of our 2 Sunday Services in the San Juan Region\, presided over by Rev. Michael Sells and Rev. Cornelia Eaton. \n10 AM at All Saints Church in Farmington\, NM\n10 AM at St. Michael’s Church in Upper Fruitland\, NM \nAll are welcome! \nIf you have any inquiries\, don’t hesitate to get in touch with Rev. Michael Sells by phone or email.\nOffice Phone: (505) 327-6904\nEmail Address: sanjuanmission1918@gmail.com
URL:https://ecofnavajoland.org/event/sjr-sunday-services-48/
LOCATION:UT
END:VEVENT
BEGIN:VEVENT
DTSTART;TZID=America/Denver:20250810T100000
DTEND;TZID=America/Denver:20250810T120000
DTSTAMP:20260425T045335
CREATED:20250801T154452Z
LAST-MODIFIED:20250801T154452Z
UID:1984-1754820000-1754827200@ecofnavajoland.org
SUMMARY:UTR Sunday Services
DESCRIPTION:Come and join us for Holy Eucharist in our Utah region with Rev. Jack Chase and Rev. Paula Henson. \n10 AM at St. Christopher’s Mission in Bluff\, Utah\,\n10 AM at St. John’s the Baptizer in Montezuma Creek\, Utah. \nAll are welcome! \nIf you need more information\, please feel free to contact us. You can reach us by calling (435) 267-2813 or by emailing info@stchristophersmission.com.
URL:https://ecofnavajoland.org/event/utr-sunday-services-50/
LOCATION:St. Christopher’s Mission\, Mission Rd\, Bluff\, UT\, 84512\, United States
END:VEVENT
BEGIN:VEVENT
DTSTART;TZID=America/Denver:20250810T113000
DTEND;TZID=America/Denver:20250810T143000
DTSTAMP:20260425T045335
CREATED:20250801T172023Z
LAST-MODIFIED:20250801T172023Z
UID:2004-1754825400-1754836200@ecofnavajoland.org
SUMMARY:San Juan Regional Council Meeting
DESCRIPTION:The San Juan Regional Council invites you to join us for a meaningful meeting following the 10:00 AM Sunday service\, where your voice and vision can help guide our community forward.
URL:https://ecofnavajoland.org/event/san-juan-regional-council-meeting/
LOCATION:All Saints Church\, 1257 Mission Ave\, Farmington\, NM\, 87499\, United States
END:VEVENT
BEGIN:VEVENT
DTSTART;TZID=America/Denver:20250812T100000
DTEND;TZID=America/Denver:20250812T110000
DTSTAMP:20260425T045335
CREATED:20250801T152832Z
LAST-MODIFIED:20250801T152832Z
UID:1930-1754992800-1754996400@ecofnavajoland.org
SUMMARY:SJR Staff Meeting
DESCRIPTION:Staff meetings for the San Juan Region are an opportunity for us to come together\, either in the Hozho Meeting Room or online via Zoom\, every Tuesday at 10:00 AM.
URL:https://ecofnavajoland.org/event/sjr-staff-meeting-49/
LOCATION:Hozho Center\, 1257 Mission Ave\, Farmington\, NM\, 87499
END:VEVENT
BEGIN:VEVENT
DTSTART;TZID=America/Denver:20250812T100000
DTEND;TZID=America/Denver:20250812T110000
DTSTAMP:20260425T045335
CREATED:20250801T153121Z
LAST-MODIFIED:20250801T153121Z
UID:1938-1754992800-1754996400@ecofnavajoland.org
SUMMARY:SER Staff Meeting
DESCRIPTION:Staff meetings for the South East Region are an opportunity for us to come together in the Parish Hall every Tuesday starting at 10:00 AM.
URL:https://ecofnavajoland.org/event/ser-staff-meeting-49/
LOCATION:Good Shepherd Mission\, 1 kIt Carson Drive\, Fort Defiance\, AZ\, 86504\, United States
END:VEVENT
BEGIN:VEVENT
DTSTART;TZID=America/Denver:20250813T100000
DTEND;TZID=America/Denver:20250813T110000
DTSTAMP:20260425T045335
CREATED:20250801T153400Z
LAST-MODIFIED:20250801T153400Z
UID:1946-1755079200-1755082800@ecofnavajoland.org
SUMMARY:UTR Staff Meeting
DESCRIPTION:Our staff meetings for the Utah Region take place every Wednesday at 10 a.m. at St. Christopher’s Mission in Bluff\, Utah.
URL:https://ecofnavajoland.org/event/utr-staff-meeting-48/
LOCATION:St. Christopher’s Mission\, Mission Rd\, Bluff\, UT\, 84512\, United States
END:VEVENT
BEGIN:VEVENT
DTSTART;TZID=America/Denver:20250813T100000
DTEND;TZID=America/Denver:20250813T110000
DTSTAMP:20260425T045335
CREATED:20250801T153428Z
LAST-MODIFIED:20250801T153428Z
UID:1948-1755079200-1755082800@ecofnavajoland.org
SUMMARY:UTR Staff Meeting
DESCRIPTION:Our staff meetings for the Utah Region take place every Wednesday at 10 a.m. at St. Christopher’s Mission in Bluff\, Utah.
URL:https://ecofnavajoland.org/event/utr-staff-meeting-49/
LOCATION:St. Christopher’s Mission\, Mission Rd\, Bluff\, UT\, 84512\, United States
END:VEVENT
BEGIN:VEVENT
DTSTART;TZID=America/Denver:20250814T180000
DTEND;TZID=America/Denver:20250814T190000
DTSTAMP:20260425T045335
CREATED:20250801T153720Z
LAST-MODIFIED:20250801T153720Z
UID:1956-1755194400-1755198000@ecofnavajoland.org
SUMMARY:“R” for Thursday Recovery Meeting (GSM)
DESCRIPTION:“R” for Thursday Recovery meetings takes place every Thursday at the Good Shepherd Mission Parish Hall in Fort Defiance\, AZ\, starting at 6 PM. Don’t miss this important opportunity to connect with a dedicated community focused on recovery and personal growth. \nAll are welcome! \nIf you have any inquiries\, please do not hesitate to contact the church office at (928) 729-2322 or email us at officegoodshepherdmission@gmail.com. We look forward to assisting you!
URL:https://ecofnavajoland.org/event/r-for-thursday-recovery-meeting-gsm-28/
LOCATION:Good Shepherd Mission\, 1 kIt Carson Drive\, Fort Defiance\, AZ\, 86504\, United States
END:VEVENT
BEGIN:VEVENT
DTSTART;TZID=America/Denver:20250817T080000
DTEND;TZID=America/Denver:20250817T120000
DTSTAMP:20260425T045335
CREATED:20250801T154017Z
LAST-MODIFIED:20250801T154017Z
UID:1966-1755417600-1755432000@ecofnavajoland.org
SUMMARY:SER Sunday Services
DESCRIPTION:Join Rev. Cathlena Plummer and Rev. Leon Sampson for Holy Eucharist every Sunday morning at our 2 locations in the Southeast Region. \n8 AM at St. Mark’s Church in Coalmine\, NM\n10 AM at Good Shepherd Mission in Fort Defiance\, AZ \nAll are welcome! \nIf you have any inquiries\, please do not hesitate to contact the church office at (928) 729-2322 or email us at officegoodshepherdmission@gmail.com. We look forward to assisting you!
URL:https://ecofnavajoland.org/event/ser-sunday-services-46/
LOCATION:Good Shepherd Mission\, 1 kIt Carson Drive\, Fort Defiance\, AZ\, 86504\, United States
END:VEVENT
BEGIN:VEVENT
DTSTART;TZID=America/Denver:20250817T100000
DTEND;TZID=America/Denver:20250817T120000
DTSTAMP:20260425T045335
CREATED:20250801T154252Z
LAST-MODIFIED:20250801T154252Z
UID:1976-1755424800-1755432000@ecofnavajoland.org
SUMMARY:SJR Sunday Services
DESCRIPTION:We invite you to attend one of our 2 Sunday Services in the San Juan Region\, presided over by Rev. Michael Sells and Rev. Cornelia Eaton. \n10 AM at All Saints Church in Farmington\, NM\n10 AM at St. Michael’s Church in Upper Fruitland\, NM \nAll are welcome! \nIf you have any inquiries\, don’t hesitate to get in touch with Rev. Michael Sells by phone or email.\nOffice Phone: (505) 327-6904\nEmail Address: sanjuanmission1918@gmail.com
URL:https://ecofnavajoland.org/event/sjr-sunday-services-49/
LOCATION:UT
END:VEVENT
BEGIN:VEVENT
DTSTART;TZID=America/Denver:20250817T100000
DTEND;TZID=America/Denver:20250817T120000
DTSTAMP:20260425T045335
CREATED:20250801T154529Z
LAST-MODIFIED:20250801T154529Z
UID:1986-1755424800-1755432000@ecofnavajoland.org
SUMMARY:UTR Sunday Services
DESCRIPTION:Come and join us for Holy Eucharist in our Utah region with Rev. Jack Chase and Rev. Paula Henson. \n10 AM at St. Christopher’s Mission in Bluff\, Utah\,\n10 AM at St. John’s the Baptizer in Montezuma Creek\, Utah. \nAll are welcome! \nIf you need more information\, please feel free to contact us. You can reach us by calling (435) 267-2813 or by emailing info@stchristophersmission.com.
URL:https://ecofnavajoland.org/event/utr-sunday-services-51/
LOCATION:St. Christopher’s Mission\, Mission Rd\, Bluff\, UT\, 84512\, United States
END:VEVENT
BEGIN:VEVENT
DTSTART;TZID=America/Denver:20250819T100000
DTEND;TZID=America/Denver:20250819T110000
DTSTAMP:20260425T045335
CREATED:20250801T152910Z
LAST-MODIFIED:20250801T152910Z
UID:1932-1755597600-1755601200@ecofnavajoland.org
SUMMARY:SJR Staff Meeting
DESCRIPTION:Staff meetings for the San Juan Region are an opportunity for us to come together\, either in the Hozho Meeting Room or online via Zoom\, every Tuesday at 10:00 AM.
URL:https://ecofnavajoland.org/event/sjr-staff-meeting-50/
LOCATION:Hozho Center\, 1257 Mission Ave\, Farmington\, NM\, 87499
END:VEVENT
BEGIN:VEVENT
DTSTART;TZID=America/Denver:20250819T100000
DTEND;TZID=America/Denver:20250819T110000
DTSTAMP:20260425T045335
CREATED:20250801T153203Z
LAST-MODIFIED:20250801T153203Z
UID:1940-1755597600-1755601200@ecofnavajoland.org
SUMMARY:SER Staff Meeting
DESCRIPTION:Staff meetings for the South East Region are an opportunity for us to come together in the Parish Hall every Tuesday starting at 10:00 AM.
URL:https://ecofnavajoland.org/event/ser-staff-meeting-50/
LOCATION:Good Shepherd Mission\, 1 kIt Carson Drive\, Fort Defiance\, AZ\, 86504\, United States
END:VEVENT
BEGIN:VEVENT
DTSTART;TZID=America/Denver:20250820T100000
DTEND;TZID=America/Denver:20250820T110000
DTSTAMP:20260425T045335
CREATED:20250801T153504Z
LAST-MODIFIED:20250801T153504Z
UID:1950-1755684000-1755687600@ecofnavajoland.org
SUMMARY:UTR Staff Meeting
DESCRIPTION:Our staff meetings for the Utah Region take place every Wednesday at 10 a.m. at St. Christopher’s Mission in Bluff\, Utah.
URL:https://ecofnavajoland.org/event/utr-staff-meeting-50/
LOCATION:St. Christopher’s Mission\, Mission Rd\, Bluff\, UT\, 84512\, United States
END:VEVENT
BEGIN:VEVENT
DTSTART;TZID=America/Denver:20250821T180000
DTEND;TZID=America/Denver:20250821T190000
DTSTAMP:20260425T045335
CREATED:20250801T153748Z
LAST-MODIFIED:20250801T153748Z
UID:1958-1755799200-1755802800@ecofnavajoland.org
SUMMARY:“R” for Thursday Recovery Meeting (GSM)
DESCRIPTION:“R” for Thursday Recovery meetings takes place every Thursday at the Good Shepherd Mission Parish Hall in Fort Defiance\, AZ\, starting at 6 PM. Don’t miss this important opportunity to connect with a dedicated community focused on recovery and personal growth. \nAll are welcome! \nIf you have any inquiries\, please do not hesitate to contact the church office at (928) 729-2322 or email us at officegoodshepherdmission@gmail.com. We look forward to assisting you!
URL:https://ecofnavajoland.org/event/r-for-thursday-recovery-meeting-gsm-29/
LOCATION:Good Shepherd Mission\, 1 kIt Carson Drive\, Fort Defiance\, AZ\, 86504\, United States
END:VEVENT
BEGIN:VEVENT
DTSTART;TZID=America/Denver:20250822T180000
DTEND;TZID=America/Denver:20250822T190000
DTSTAMP:20260425T045335
CREATED:20250722T205016Z
LAST-MODIFIED:20250722T205016Z
UID:1914-1755885600-1755889200@ecofnavajoland.org
SUMMARY:Wellbriety Talking Circle
DESCRIPTION:We invite you to join us for Wellbriety as we take a thoughtful exploration of The Red Road to Wellbriety in the Native American Way book. This gathering will take place at 6 PM upstairs in the Hozho Center\, and we will provide light refreshments for your enjoyment.
URL:https://ecofnavajoland.org/event/wellbriety-talking-circle-15/
LOCATION:Hozho Center\, 1257 Mission Ave\, Farmington\, NM\, 87499
ATTACH;FMTTYPE=image/png:https://ecofnavajoland.org/wp-content/uploads/2025/07/August-2025-Wellbreity-Hozho-Center.png
END:VEVENT
BEGIN:VEVENT
DTSTART;TZID=America/Denver:20250823T100000
DTEND;TZID=America/Denver:20250823T120000
DTSTAMP:20260425T045335
CREATED:20250821T185841Z
LAST-MODIFIED:20250821T190052Z
UID:2007-1755943200-1755950400@ecofnavajoland.org
SUMMARY:Healing in Hózhó
DESCRIPTION:You’re invited to join us for Healing in Hózhó\, a series of Saturday Awareness Sessions hosted by the HOZHO Center and led by LaCinda Hardy-Constant\, BSW\, MSW-Student (LSAA). These gatherings are open to anyone looking to heal\, support others\, or listen with an open heart.\nWe come together as a community to raise awareness\, restore balance\, and support each other in a safe and welcoming space. \nHere’s what’s coming up: \nAlcohol Awareness Circle– Saturday\, August 23\, 2025\, 10:00 AM to 12:00 PM\nWe’ll talk about the roots of addiction\, share stories of recovery\, and offer tools for living in wellness. This session is grounded in cultural humility\, trauma-informed care\, and community support. \nAlcohol misuse continues to impact families across the Navajo Nation and beyond. We believe in responding with compassion\, prayer\, education\, and strength rather than judgment. Together\, we’ll explore how healing is possible when we return to our teachings\, lean on faith\, and support one another. \nDomestic Violence Awareness Circle– Saturday\, September 27\, 2025\, 10:00 AM to 12:00 PM\nThis circle offers a safe space for survivors\, families\, and allies. We’ll reflect on the impact of domestic violence\, break the silence\, and focus on reclaiming dignity and restoring sacred boundaries. \nGrounded in Indigenous values and community protection\, this session includes education\, cultural teachings\, prayer\, and honest conversations. \nWhere\nThe HOZHO Building\n1257 Mission Ave. Farmington\, NM\nAlso available on Zoom: Register Here to receive the link  \nWho Should Come\nAnyone from ECN congregations or the wider community who wants to learn\, share\, or just be present. Whether you’ve been directly affected or care about these issues\, you are welcome. \nPlease feel free to share this invitation with others. Your presence matters.
URL:https://ecofnavajoland.org/event/healing-in-hozho/
LOCATION:Hozho Center\, 1257 Mission Ave\, Farmington\, NM\, 87499
ATTACH;FMTTYPE=image/png:https://ecofnavajoland.org/wp-content/uploads/2025/08/FLYER-FOR-HEALING-CIRCLES-.png
END:VEVENT
BEGIN:VEVENT
DTSTART;TZID=America/Denver:20250824T080000
DTEND;TZID=America/Denver:20250824T120000
DTSTAMP:20260425T045335
CREATED:20250801T154052Z
LAST-MODIFIED:20250801T154052Z
UID:1968-1756022400-1756036800@ecofnavajoland.org
SUMMARY:SER Sunday Services
DESCRIPTION:Join Rev. Cathlena Plummer and Rev. Leon Sampson for Holy Eucharist every Sunday morning at our 2 locations in the Southeast Region. \n8 AM at St. Mark’s Church in Coalmine\, NM\n10 AM at Good Shepherd Mission in Fort Defiance\, AZ \nAll are welcome! \nIf you have any inquiries\, please do not hesitate to contact the church office at (928) 729-2322 or email us at officegoodshepherdmission@gmail.com. We look forward to assisting you!
URL:https://ecofnavajoland.org/event/ser-sunday-services-47/
LOCATION:Good Shepherd Mission\, 1 kIt Carson Drive\, Fort Defiance\, AZ\, 86504\, United States
END:VEVENT
BEGIN:VEVENT
DTSTART;TZID=America/Denver:20250824T100000
DTEND;TZID=America/Denver:20250824T120000
DTSTAMP:20260425T045335
CREATED:20250801T154315Z
LAST-MODIFIED:20250801T154315Z
UID:1978-1756029600-1756036800@ecofnavajoland.org
SUMMARY:SJR Sunday Services
DESCRIPTION:We invite you to attend one of our 2 Sunday Services in the San Juan Region\, presided over by Rev. Michael Sells and Rev. Cornelia Eaton. \n10 AM at All Saints Church in Farmington\, NM\n10 AM at St. Michael’s Church in Upper Fruitland\, NM \nAll are welcome! \nIf you have any inquiries\, don’t hesitate to get in touch with Rev. Michael Sells by phone or email.\nOffice Phone: (505) 327-6904\nEmail Address: sanjuanmission1918@gmail.com
URL:https://ecofnavajoland.org/event/sjr-sunday-services-50/
LOCATION:UT
END:VEVENT
BEGIN:VEVENT
DTSTART;TZID=America/Denver:20250824T100000
DTEND;TZID=America/Denver:20250824T120000
DTSTAMP:20260425T045335
CREATED:20250801T154601Z
LAST-MODIFIED:20250801T154601Z
UID:1988-1756029600-1756036800@ecofnavajoland.org
SUMMARY:UTR Sunday Services
DESCRIPTION:Come and join us for Holy Eucharist in our Utah region with Rev. Jack Chase and Rev. Paula Henson. \n10 AM at St. Christopher’s Mission in Bluff\, Utah\,\n10 AM at St. John’s the Baptizer in Montezuma Creek\, Utah. \nAll are welcome! \nIf you need more information\, please feel free to contact us. You can reach us by calling (435) 267-2813 or by emailing info@stchristophersmission.com.
URL:https://ecofnavajoland.org/event/utr-sunday-services-52/
LOCATION:St. Christopher’s Mission\, Mission Rd\, Bluff\, UT\, 84512\, United States
END:VEVENT
BEGIN:VEVENT
DTSTART;TZID=America/Denver:20250826T100000
DTEND;TZID=America/Denver:20250826T110000
DTSTAMP:20260425T045335
CREATED:20250801T152939Z
LAST-MODIFIED:20250801T152939Z
UID:1934-1756202400-1756206000@ecofnavajoland.org
SUMMARY:SJR Staff Meeting
DESCRIPTION:Staff meetings for the San Juan Region are an opportunity for us to come together\, either in the Hozho Meeting Room or online via Zoom\, every Tuesday at 10:00 AM.
URL:https://ecofnavajoland.org/event/sjr-staff-meeting-51/
LOCATION:Hozho Center\, 1257 Mission Ave\, Farmington\, NM\, 87499
END:VEVENT
BEGIN:VEVENT
DTSTART;TZID=America/Denver:20250826T100000
DTEND;TZID=America/Denver:20250826T110000
DTSTAMP:20260425T045335
CREATED:20250801T153235Z
LAST-MODIFIED:20250801T153235Z
UID:1942-1756202400-1756206000@ecofnavajoland.org
SUMMARY:SER Staff Meeting
DESCRIPTION:Staff meetings for the South East Region are an opportunity for us to come together in the Parish Hall every Tuesday starting at 10:00 AM.
URL:https://ecofnavajoland.org/event/ser-staff-meeting-51/
LOCATION:Good Shepherd Mission\, 1 kIt Carson Drive\, Fort Defiance\, AZ\, 86504\, United States
END:VEVENT
BEGIN:VEVENT
DTSTART;TZID=America/Denver:20250827T100000
DTEND;TZID=America/Denver:20250827T110000
DTSTAMP:20260425T045335
CREATED:20250801T153531Z
LAST-MODIFIED:20250801T153531Z
UID:1952-1756288800-1756292400@ecofnavajoland.org
SUMMARY:UTR Staff Meeting
DESCRIPTION:Our staff meetings for the Utah Region take place every Wednesday at 10 a.m. at St. Christopher’s Mission in Bluff\, Utah.
URL:https://ecofnavajoland.org/event/utr-staff-meeting-51/
LOCATION:St. Christopher’s Mission\, Mission Rd\, Bluff\, UT\, 84512\, United States
END:VEVENT
END:VCALENDAR