BEGIN:VCALENDAR
VERSION:2.0
PRODID:-//Episcopal Church in Navajoland - ECPv6.15.20//NONSGML v1.0//EN
CALSCALE:GREGORIAN
METHOD:PUBLISH
X-WR-CALNAME:Episcopal Church in Navajoland
X-ORIGINAL-URL:https://ecofnavajoland.org
X-WR-CALDESC:Events for Episcopal Church in Navajoland
REFRESH-INTERVAL;VALUE=DURATION:PT1H
X-Robots-Tag:noindex
X-PUBLISHED-TTL:PT1H
BEGIN:VTIMEZONE
TZID:America/Denver
BEGIN:DAYLIGHT
TZOFFSETFROM:-0700
TZOFFSETTO:-0600
TZNAME:MDT
DTSTART:20240310T090000
END:DAYLIGHT
BEGIN:STANDARD
TZOFFSETFROM:-0600
TZOFFSETTO:-0700
TZNAME:MST
DTSTART:20241103T080000
END:STANDARD
BEGIN:DAYLIGHT
TZOFFSETFROM:-0700
TZOFFSETTO:-0600
TZNAME:MDT
DTSTART:20250309T090000
END:DAYLIGHT
BEGIN:STANDARD
TZOFFSETFROM:-0600
TZOFFSETTO:-0700
TZNAME:MST
DTSTART:20251102T080000
END:STANDARD
BEGIN:DAYLIGHT
TZOFFSETFROM:-0700
TZOFFSETTO:-0600
TZNAME:MDT
DTSTART:20260308T090000
END:DAYLIGHT
BEGIN:STANDARD
TZOFFSETFROM:-0600
TZOFFSETTO:-0700
TZNAME:MST
DTSTART:20261101T080000
END:STANDARD
END:VTIMEZONE
BEGIN:VEVENT
DTSTART;TZID=America/Denver:20250625T100000
DTEND;TZID=America/Denver:20250625T110000
DTSTAMP:20260425T082512
CREATED:20250530T151731Z
LAST-MODIFIED:20250530T151731Z
UID:1673-1750845600-1750849200@ecofnavajoland.org
SUMMARY:UTR Staff Meeting
DESCRIPTION:Our staff meetings for the Utah Region take place every Wednesday at 10 a.m. at St. Christopher’s Mission in Bluff\, Utah.
URL:https://ecofnavajoland.org/event/utr-staff-meeting-41/
LOCATION:St. Christopher’s Mission\, Mission Rd\, Bluff\, UT\, 84512\, United States
END:VEVENT
BEGIN:VEVENT
DTSTART;TZID=America/Denver:20250624T100000
DTEND;TZID=America/Denver:20250624T110000
DTSTAMP:20260425T082512
CREATED:20250530T151428Z
LAST-MODIFIED:20250530T151428Z
UID:1663-1750759200-1750762800@ecofnavajoland.org
SUMMARY:SER Staff Meeting
DESCRIPTION:Staff meetings for the South East Region are an opportunity for us to come together in the Parish Hall every Tuesday starting at 10:00 AM.
URL:https://ecofnavajoland.org/event/ser-staff-meeting-42/
LOCATION:Good Shepherd Mission\, 1 kIt Carson Drive\, Fort Defiance\, AZ\, 86504\, United States
END:VEVENT
BEGIN:VEVENT
DTSTART;TZID=America/Denver:20250624T100000
DTEND;TZID=America/Denver:20250624T110000
DTSTAMP:20260425T082512
CREATED:20250530T151102Z
LAST-MODIFIED:20250530T151102Z
UID:1653-1750759200-1750762800@ecofnavajoland.org
SUMMARY:SJR Staff Meeting
DESCRIPTION:Staff meetings for the San Juan Region are an opportunity for us to come together\, either in the Hozho Meeting Room or online via Zoom\, every Tuesday at 10:00 AM.
URL:https://ecofnavajoland.org/event/sjr-staff-meeting-42/
LOCATION:Hozho Center\, 1257 Mission Ave\, Farmington\, NM\, 87499
END:VEVENT
BEGIN:VEVENT
DTSTART;TZID=America/Denver:20250622T100000
DTEND;TZID=America/Denver:20250622T120000
DTSTAMP:20260425T082512
CREATED:20250530T152633Z
LAST-MODIFIED:20250530T152633Z
UID:1703-1750586400-1750593600@ecofnavajoland.org
SUMMARY:UTR Sunday Services
DESCRIPTION:Come and join us for Holy Eucharist in our Utah region with Rev. Jack Chase and Rev. Paula Henson. \n10 AM at St. Christopher’s Mission in Bluff\, Utah\,\n10 AM at St. John’s the Baptizer in Montezuma Creek\, Utah. \nAll are welcome! \nIf you need more information\, please feel free to contact us. You can reach us by calling (435) 267-2813 or by emailing info@stchristophersmission.com.
URL:https://ecofnavajoland.org/event/utr-sunday-services-43/
END:VEVENT
BEGIN:VEVENT
DTSTART;TZID=America/Denver:20250622T100000
DTEND;TZID=America/Denver:20250622T120000
DTSTAMP:20260425T082512
CREATED:20250530T152340Z
LAST-MODIFIED:20250530T152340Z
UID:1693-1750586400-1750593600@ecofnavajoland.org
SUMMARY:SJR Sunday Services
DESCRIPTION:We invite you to attend one of our 2 Sunday Services in the San Juan Region\, presided over by Rev. Michael Sells and Rev. Cornelia Eaton. \n10 AM at All Saints Church in Farmington\, NM\n10 AM at St. Michael’s Church in Upper Fruitland\, NM \nAll are welcome! \nIf you have any inquiries\, don’t hesitate to get in touch with Rev. Michael Sells by phone or email.\nOffice Phone: (505) 327-6904\nEmail Address: sanjuanmission1918@gmail.com
URL:https://ecofnavajoland.org/event/sjr-sunday-services-41/
END:VEVENT
BEGIN:VEVENT
DTSTART;TZID=America/Denver:20250622T080000
DTEND;TZID=America/Denver:20250622T120000
DTSTAMP:20260425T082512
CREATED:20250530T152100Z
LAST-MODIFIED:20250530T152100Z
UID:1683-1750579200-1750593600@ecofnavajoland.org
SUMMARY:SER Sunday Services
DESCRIPTION:Join Rev. Cathlena Plummer and Rev. Leon Sampson for Holy Eucharist every Sunday morning at our 2 locations in the Southeast Region. \n8 AM at St. Mark’s Church in Coalmine\, NM\n10 AM at Good Shepherd Mission in Fort Defiance\, AZ \nAll are welcome! \nIf you have any inquiries\, please do not hesitate to contact the church office at (928) 729-2322 or email us at officegoodshepherdmission@gmail.com. We look forward to assisting you!
URL:https://ecofnavajoland.org/event/ser-sunday-services-38/
LOCATION:Good Shepherd Mission\, 1 kIt Carson Drive\, Fort Defiance\, AZ\, 86504\, United States
END:VEVENT
BEGIN:VEVENT
DTSTART;TZID=America/Denver:20250620T180000
DTEND;TZID=America/Denver:20250620T190000
DTSTAMP:20260425T082512
CREATED:20250530T153822Z
LAST-MODIFIED:20250530T153822Z
UID:1719-1750442400-1750446000@ecofnavajoland.org
SUMMARY:Wellbriety Talking Circle
DESCRIPTION:Join us for Wellbriety Talking Circles at the Hozho Building\, 1257 Mission Ave\, Farmington\, on June 20th. These are opportunities to connect\, learn\, and grow in indigenous wellness. All are welcome!
URL:https://ecofnavajoland.org/event/wellbriety-talking-circle-11/
LOCATION:Hozho Center\, 1257 Mission Ave\, Farmington\, NM\, 87499
END:VEVENT
BEGIN:VEVENT
DTSTART;VALUE=DATE:20250620
DTEND;VALUE=DATE:20250621
DTSTAMP:20260425T082512
CREATED:20250530T154414Z
LAST-MODIFIED:20250530T154414Z
UID:1727-1750377600-1750463999@ecofnavajoland.org
SUMMARY:Summer Begins
DESCRIPTION:
URL:https://ecofnavajoland.org/event/summer-begins/
END:VEVENT
BEGIN:VEVENT
DTSTART;TZID=America/Denver:20250619T180000
DTEND;TZID=America/Denver:20250619T190000
DTSTAMP:20260425T082512
CREATED:20250530T153417Z
LAST-MODIFIED:20250530T153417Z
UID:1711-1750356000-1750359600@ecofnavajoland.org
SUMMARY:“R” for Thursday Recovery Meeting (GSM)
DESCRIPTION:“R” for Thursday Recovery meetings takes place every Thursday at the Good Shepherd Mission Parish Hall in Fort Defiance\, AZ\, starting at 6 PM. Don’t miss this important opportunity to connect with a dedicated community focused on recovery and personal growth. \nAll are welcome! \nIf you have any inquiries\, please do not hesitate to contact the church office at (928) 729-2322 or email us at officegoodshepherdmission@gmail.com. We look forward to assisting you!
URL:https://ecofnavajoland.org/event/r-for-thursday-recovery-meeting-gsm-20/
LOCATION:Good Shepherd Mission\, 1 kIt Carson Drive\, Fort Defiance\, AZ\, 86504\, United States
END:VEVENT
BEGIN:VEVENT
DTSTART;TZID=America/Denver:20250619T100000
DTEND;TZID=America/Denver:20250619T120000
DTSTAMP:20260425T082512
CREATED:20250530T154027Z
LAST-MODIFIED:20250530T154027Z
UID:1721-1750327200-1750334400@ecofnavajoland.org
SUMMARY:ECN Clergy Meeting
DESCRIPTION:Clergy from Navajoland come together to collaboratively discuss the important events taking place in their regions. This meeting serves as a valuable opportunity to share ideas\, address challenges\, and strengthen their communities through open dialogue and support.
URL:https://ecofnavajoland.org/event/ecn-clergy-meeting/
END:VEVENT
BEGIN:VEVENT
DTSTART;TZID=America/Denver:20250618T100000
DTEND;TZID=America/Denver:20250618T110000
DTSTAMP:20260425T082512
CREATED:20250530T151704Z
LAST-MODIFIED:20250530T151704Z
UID:1671-1750240800-1750244400@ecofnavajoland.org
SUMMARY:UTR Staff Meeting
DESCRIPTION:Our staff meetings for the Utah Region take place every Wednesday at 10 a.m. at St. Christopher’s Mission in Bluff\, Utah.
URL:https://ecofnavajoland.org/event/utr-staff-meeting-40/
LOCATION:St. Christopher’s Mission\, Mission Rd\, Bluff\, UT\, 84512\, United States
END:VEVENT
BEGIN:VEVENT
DTSTART;TZID=America/Denver:20250617T100000
DTEND;TZID=America/Denver:20250617T110000
DTSTAMP:20260425T082512
CREATED:20250530T151352Z
LAST-MODIFIED:20250530T151352Z
UID:1661-1750154400-1750158000@ecofnavajoland.org
SUMMARY:SER Staff Meeting
DESCRIPTION:Staff meetings for the South East Region are an opportunity for us to come together in the Parish Hall every Tuesday starting at 10:00 AM.
URL:https://ecofnavajoland.org/event/ser-staff-meeting-41/
LOCATION:Good Shepherd Mission\, 1 kIt Carson Drive\, Fort Defiance\, AZ\, 86504\, United States
END:VEVENT
BEGIN:VEVENT
DTSTART;TZID=America/Denver:20250617T100000
DTEND;TZID=America/Denver:20250617T110000
DTSTAMP:20260425T082512
CREATED:20250530T151024Z
LAST-MODIFIED:20250530T151024Z
UID:1651-1750154400-1750158000@ecofnavajoland.org
SUMMARY:SJR Staff Meeting
DESCRIPTION:Staff meetings for the San Juan Region are an opportunity for us to come together\, either in the Hozho Meeting Room or online via Zoom\, every Tuesday at 10:00 AM.
URL:https://ecofnavajoland.org/event/sjr-staff-meeting-41/
LOCATION:Hozho Center\, 1257 Mission Ave\, Farmington\, NM\, 87499
END:VEVENT
BEGIN:VEVENT
DTSTART;TZID=America/Denver:20250615T100000
DTEND;TZID=America/Denver:20250615T120000
DTSTAMP:20260425T082512
CREATED:20250530T152602Z
LAST-MODIFIED:20250530T152602Z
UID:1701-1749981600-1749988800@ecofnavajoland.org
SUMMARY:UTR Sunday Services
DESCRIPTION:Come and join us for Holy Eucharist in our Utah region with Rev. Jack Chase and Rev. Paula Henson. \n10 AM at St. Christopher’s Mission in Bluff\, Utah\,\n10 AM at St. John’s the Baptizer in Montezuma Creek\, Utah. \nAll are welcome! \nIf you need more information\, please feel free to contact us. You can reach us by calling (435) 267-2813 or by emailing info@stchristophersmission.com.
URL:https://ecofnavajoland.org/event/utr-sunday-services-42/
END:VEVENT
BEGIN:VEVENT
DTSTART;TZID=America/Denver:20250615T100000
DTEND;TZID=America/Denver:20250615T120000
DTSTAMP:20260425T082512
CREATED:20250530T152318Z
LAST-MODIFIED:20250530T152318Z
UID:1691-1749981600-1749988800@ecofnavajoland.org
SUMMARY:SJR Sunday Services
DESCRIPTION:We invite you to attend one of our 2 Sunday Services in the San Juan Region\, presided over by Rev. Michael Sells and Rev. Cornelia Eaton. \n10 AM at All Saints Church in Farmington\, NM\n10 AM at St. Michael’s Church in Upper Fruitland\, NM \nAll are welcome! \nIf you have any inquiries\, don’t hesitate to get in touch with Rev. Michael Sells by phone or email.\nOffice Phone: (505) 327-6904\nEmail Address: sanjuanmission1918@gmail.com
URL:https://ecofnavajoland.org/event/sjr-sunday-services-40/
END:VEVENT
BEGIN:VEVENT
DTSTART;TZID=America/Denver:20250615T080000
DTEND;TZID=America/Denver:20250615T120000
DTSTAMP:20260425T082512
CREATED:20250530T152030Z
LAST-MODIFIED:20250530T152030Z
UID:1681-1749974400-1749988800@ecofnavajoland.org
SUMMARY:SER Sunday Services
DESCRIPTION:Join Rev. Cathlena Plummer and Rev. Leon Sampson for Holy Eucharist every Sunday morning at our 2 locations in the Southeast Region. \n8 AM at St. Mark’s Church in Coalmine\, NM\n10 AM at Good Shepherd Mission in Fort Defiance\, AZ \nAll are welcome! \nIf you have any inquiries\, please do not hesitate to contact the church office at (928) 729-2322 or email us at officegoodshepherdmission@gmail.com. We look forward to assisting you!
URL:https://ecofnavajoland.org/event/ser-sunday-services-37/
LOCATION:Good Shepherd Mission\, 1 kIt Carson Drive\, Fort Defiance\, AZ\, 86504\, United States
END:VEVENT
BEGIN:VEVENT
DTSTART;VALUE=DATE:20250615
DTEND;VALUE=DATE:20250616
DTSTAMP:20260425T082512
CREATED:20250530T154339Z
LAST-MODIFIED:20250530T154339Z
UID:1725-1749945600-1750031999@ecofnavajoland.org
SUMMARY:Father's Day
DESCRIPTION:
URL:https://ecofnavajoland.org/event/fathers-day/
END:VEVENT
BEGIN:VEVENT
DTSTART;VALUE=DATE:20250614
DTEND;VALUE=DATE:20250615
DTSTAMP:20260425T082512
CREATED:20250530T154540Z
LAST-MODIFIED:20250530T154540Z
UID:1731-1749859200-1749945599@ecofnavajoland.org
SUMMARY:Flag Day
DESCRIPTION:
URL:https://ecofnavajoland.org/event/flag-day/
END:VEVENT
BEGIN:VEVENT
DTSTART;TZID=America/Denver:20250612T180000
DTEND;TZID=America/Denver:20250612T190000
DTSTAMP:20260425T082512
CREATED:20250530T153350Z
LAST-MODIFIED:20250530T153350Z
UID:1709-1749751200-1749754800@ecofnavajoland.org
SUMMARY:“R” for Thursday Recovery Meeting (GSM)
DESCRIPTION:“R” for Thursday Recovery meetings takes place every Thursday at the Good Shepherd Mission Parish Hall in Fort Defiance\, AZ\, starting at 6 PM. Don’t miss this important opportunity to connect with a dedicated community focused on recovery and personal growth. \nAll are welcome! \nIf you have any inquiries\, please do not hesitate to contact the church office at (928) 729-2322 or email us at officegoodshepherdmission@gmail.com. We look forward to assisting you!
URL:https://ecofnavajoland.org/event/r-for-thursday-recovery-meeting-gsm-19/
LOCATION:Good Shepherd Mission\, 1 kIt Carson Drive\, Fort Defiance\, AZ\, 86504\, United States
END:VEVENT
BEGIN:VEVENT
DTSTART;TZID=America/Denver:20250611T100000
DTEND;TZID=America/Denver:20250611T110000
DTSTAMP:20260425T082512
CREATED:20250530T151632Z
LAST-MODIFIED:20250530T151632Z
UID:1669-1749636000-1749639600@ecofnavajoland.org
SUMMARY:UTR Staff Meeting
DESCRIPTION:Our staff meetings for the Utah Region take place every Wednesday at 10 a.m. at St. Christopher’s Mission in Bluff\, Utah.
URL:https://ecofnavajoland.org/event/utr-staff-meeting-39/
LOCATION:St. Christopher’s Mission\, Mission Rd\, Bluff\, UT\, 84512\, United States
END:VEVENT
BEGIN:VEVENT
DTSTART;TZID=America/Denver:20250610T100000
DTEND;TZID=America/Denver:20250610T110000
DTSTAMP:20260425T082512
CREATED:20250530T151306Z
LAST-MODIFIED:20250530T151306Z
UID:1659-1749549600-1749553200@ecofnavajoland.org
SUMMARY:SER Staff Meeting
DESCRIPTION:Staff meetings for the South East Region are an opportunity for us to come together in the Parish Hall every Tuesday starting at 10:00 AM.
URL:https://ecofnavajoland.org/event/ser-staff-meeting-40/
LOCATION:Good Shepherd Mission\, 1 kIt Carson Drive\, Fort Defiance\, AZ\, 86504\, United States
END:VEVENT
BEGIN:VEVENT
DTSTART;TZID=America/Denver:20250610T100000
DTEND;TZID=America/Denver:20250610T110000
DTSTAMP:20260425T082512
CREATED:20250530T150807Z
LAST-MODIFIED:20250530T150807Z
UID:1649-1749549600-1749553200@ecofnavajoland.org
SUMMARY:SJR Staff Meeting
DESCRIPTION:Staff meetings for the San Juan Region are an opportunity for us to come together\, either in the Hozho Meeting Room or online via Zoom\, every Tuesday at 10:00 AM.
URL:https://ecofnavajoland.org/event/sjr-staff-meeting-40/
LOCATION:Hozho Center\, 1257 Mission Ave\, Farmington\, NM\, 87499
END:VEVENT
BEGIN:VEVENT
DTSTART;TZID=America/Denver:20250608T100000
DTEND;TZID=America/Denver:20250608T120000
DTSTAMP:20260425T082512
CREATED:20250530T152536Z
LAST-MODIFIED:20250530T152536Z
UID:1699-1749376800-1749384000@ecofnavajoland.org
SUMMARY:UTR Sunday Services
DESCRIPTION:Come and join us for Holy Eucharist in our Utah region with Rev. Jack Chase and Rev. Paula Henson. \n10 AM at St. Christopher’s Mission in Bluff\, Utah\,\n10 AM at St. John’s the Baptizer in Montezuma Creek\, Utah. \nAll are welcome! \nIf you need more information\, please feel free to contact us. You can reach us by calling (435) 267-2813 or by emailing info@stchristophersmission.com.
URL:https://ecofnavajoland.org/event/utr-sunday-services-41/
END:VEVENT
BEGIN:VEVENT
DTSTART;TZID=America/Denver:20250608T100000
DTEND;TZID=America/Denver:20250608T120000
DTSTAMP:20260425T082512
CREATED:20250530T152246Z
LAST-MODIFIED:20250530T152246Z
UID:1689-1749376800-1749384000@ecofnavajoland.org
SUMMARY:SJR Sunday Services
DESCRIPTION:We invite you to attend one of our 2 Sunday Services in the San Juan Region\, presided over by Rev. Michael Sells and Rev. Cornelia Eaton. \n10 AM at All Saints Church in Farmington\, NM\n10 AM at St. Michael’s Church in Upper Fruitland\, NM \nAll are welcome! \nIf you have any inquiries\, don’t hesitate to get in touch with Rev. Michael Sells by phone or email.\nOffice Phone: (505) 327-6904\nEmail Address: sanjuanmission1918@gmail.com
URL:https://ecofnavajoland.org/event/sjr-sunday-services-39/
END:VEVENT
BEGIN:VEVENT
DTSTART;TZID=America/Denver:20250608T080000
DTEND;TZID=America/Denver:20250608T120000
DTSTAMP:20260425T082512
CREATED:20250530T151941Z
LAST-MODIFIED:20250530T151941Z
UID:1679-1749369600-1749384000@ecofnavajoland.org
SUMMARY:SER Sunday Services
DESCRIPTION:Join Rev. Cathlena Plummer and Rev. Leon Sampson for Holy Eucharist every Sunday morning at our 2 locations in the Southeast Region. \n8 AM at St. Mark’s Church in Coalmine\, NM\n10 AM at Good Shepherd Mission in Fort Defiance\, AZ \nAll are welcome! \nIf you have any inquiries\, please do not hesitate to contact the church office at (928) 729-2322 or email us at officegoodshepherdmission@gmail.com. We look forward to assisting you!
URL:https://ecofnavajoland.org/event/ser-sunday-services-36/
LOCATION:Good Shepherd Mission\, 1 kIt Carson Drive\, Fort Defiance\, AZ\, 86504\, United States
END:VEVENT
BEGIN:VEVENT
DTSTART;TZID=America/Denver:20250606T180000
DTEND;TZID=America/Denver:20250606T190000
DTSTAMP:20260425T082512
CREATED:20250530T153737Z
LAST-MODIFIED:20250530T153737Z
UID:1717-1749232800-1749236400@ecofnavajoland.org
SUMMARY:Wellbriety Talking Circle
DESCRIPTION:Join us for Wellbriety Talking Circles at the Hozho Building\, 1257 Mission Ave\, Farmington\, on June 6th and 20th. These are opportunities to connect\, learn\, and grow in indigenous wellness. All are welcome!
URL:https://ecofnavajoland.org/event/wellbriety-talking-circle-10/
LOCATION:Hozho Center\, 1257 Mission Ave\, Farmington\, NM\, 87499
END:VEVENT
BEGIN:VEVENT
DTSTART;VALUE=DATE:20250606
DTEND;VALUE=DATE:20250608
DTSTAMP:20260425T082512
CREATED:20250530T150356Z
LAST-MODIFIED:20250530T150356Z
UID:1645-1749168000-1749340799@ecofnavajoland.org
SUMMARY:1st Annual Convention of ECN
DESCRIPTION:The 1st Annual Convention of the Missionary Diocese of Navajoland is approaching! This two-day event will be streamed live\, providing an opportunity for you to connect with us. The Convention will take place in Fort Defiance\, Arizona\, at the Good Shepherd Mission. For more information\, visit Summer Convention 2025. Stay tuned for more information and links to join us virtually!
URL:https://ecofnavajoland.org/event/1st-annual-convention-of-ecn/
LOCATION:Good Shepherd Mission\, 1 kIt Carson Drive\, Fort Defiance\, AZ\, 86504\, United States
END:VEVENT
BEGIN:VEVENT
DTSTART;TZID=America/Denver:20250605T180000
DTEND;TZID=America/Denver:20250605T190000
DTSTAMP:20260425T082512
CREATED:20250530T153315Z
LAST-MODIFIED:20250530T153315Z
UID:1707-1749146400-1749150000@ecofnavajoland.org
SUMMARY:“R” for Thursday Recovery Meeting (GSM)
DESCRIPTION:“R” for Thursday Recovery meetings takes place every Thursday at the Good Shepherd Mission Parish Hall in Fort Defiance\, AZ\, starting at 6 PM. Don’t miss this important opportunity to connect with a dedicated community focused on recovery and personal growth. \nAll are welcome! \nIf you have any inquiries\, please do not hesitate to contact the church office at (928) 729-2322 or email us at officegoodshepherdmission@gmail.com. We look forward to assisting you!
URL:https://ecofnavajoland.org/event/r-for-thursday-recovery-meeting-gsm-18/
LOCATION:Good Shepherd Mission\, 1 kIt Carson Drive\, Fort Defiance\, AZ\, 86504\, United States
END:VEVENT
BEGIN:VEVENT
DTSTART;TZID=America/Denver:20250605T140000
DTEND;TZID=America/Denver:20250605T153000
DTSTAMP:20260425T082512
CREATED:20250530T154213Z
LAST-MODIFIED:20250530T154213Z
UID:1723-1749132000-1749137400@ecofnavajoland.org
SUMMARY:Standing Committee Mtg
DESCRIPTION:The ECN Standing Committee gathers to engage in constructive discussions on key issues and topics.
URL:https://ecofnavajoland.org/event/standing-committee-mtg/
END:VEVENT
BEGIN:VEVENT
DTSTART;TZID=America/Denver:20250604T100000
DTEND;TZID=America/Denver:20250604T110000
DTSTAMP:20260425T082512
CREATED:20250530T151604Z
LAST-MODIFIED:20250530T151604Z
UID:1667-1749031200-1749034800@ecofnavajoland.org
SUMMARY:UTR Staff Meeting
DESCRIPTION:Our staff meetings for the Utah Region take place every Wednesday at 10 a.m. at St. Christopher’s Mission in Bluff\, Utah.
URL:https://ecofnavajoland.org/event/utr-staff-meeting-38/
LOCATION:St. Christopher’s Mission\, Mission Rd\, Bluff\, UT\, 84512\, United States
END:VEVENT
END:VCALENDAR