BEGIN:VCALENDAR
VERSION:2.0
PRODID:-//Episcopal Church in Navajoland - ECPv6.15.20//NONSGML v1.0//EN
CALSCALE:GREGORIAN
METHOD:PUBLISH
X-WR-CALNAME:Episcopal Church in Navajoland
X-ORIGINAL-URL:https://ecofnavajoland.org
X-WR-CALDESC:Events for Episcopal Church in Navajoland
REFRESH-INTERVAL;VALUE=DURATION:PT1H
X-Robots-Tag:noindex
X-PUBLISHED-TTL:PT1H
BEGIN:VTIMEZONE
TZID:America/Denver
BEGIN:DAYLIGHT
TZOFFSETFROM:-0700
TZOFFSETTO:-0600
TZNAME:MDT
DTSTART:20240310T090000
END:DAYLIGHT
BEGIN:STANDARD
TZOFFSETFROM:-0600
TZOFFSETTO:-0700
TZNAME:MST
DTSTART:20241103T080000
END:STANDARD
BEGIN:DAYLIGHT
TZOFFSETFROM:-0700
TZOFFSETTO:-0600
TZNAME:MDT
DTSTART:20250309T090000
END:DAYLIGHT
BEGIN:STANDARD
TZOFFSETFROM:-0600
TZOFFSETTO:-0700
TZNAME:MST
DTSTART:20251102T080000
END:STANDARD
BEGIN:DAYLIGHT
TZOFFSETFROM:-0700
TZOFFSETTO:-0600
TZNAME:MDT
DTSTART:20260308T090000
END:DAYLIGHT
BEGIN:STANDARD
TZOFFSETFROM:-0600
TZOFFSETTO:-0700
TZNAME:MST
DTSTART:20261101T080000
END:STANDARD
END:VTIMEZONE
BEGIN:VEVENT
DTSTART;TZID=America/Denver:20250923T100000
DTEND;TZID=America/Denver:20250923T110000
DTSTAMP:20260425T051234
CREATED:20250828T154609Z
LAST-MODIFIED:20250828T154609Z
UID:2025-1758621600-1758625200@ecofnavajoland.org
SUMMARY:SJR Staff Meeting
DESCRIPTION:Staff meetings for the San Juan Region are an opportunity for us to come together\, either in the Hozho Meeting Room or online via Zoom\, every Tuesday at 10:00 AM.
URL:https://ecofnavajoland.org/event/sjr-staff-meeting-55/
LOCATION:Hozho Center\, 1257 Mission Ave\, Farmington\, NM\, 87499
END:VEVENT
BEGIN:VEVENT
DTSTART;TZID=America/Denver:20250921T100000
DTEND;TZID=America/Denver:20250921T120000
DTSTAMP:20260425T051234
CREATED:20250828T161454Z
LAST-MODIFIED:20250828T161454Z
UID:2079-1758448800-1758456000@ecofnavajoland.org
SUMMARY:UTR Sunday Services
DESCRIPTION:Come and join us for Holy Eucharist in our Utah region with Rev. Jack Chase and Rev. Paula Henson. \n10 AM at St. Christopher’s Mission in Bluff\, Utah\,\n10 AM at St. John’s the Baptizer in Montezuma Creek\, Utah. \nAll are welcome! \nIf you need more information\, please feel free to contact us. You can reach us by calling (435) 267-2813 or by emailing info@stchristophersmission.com.
URL:https://ecofnavajoland.org/event/utr-sunday-services-56/
END:VEVENT
BEGIN:VEVENT
DTSTART;TZID=America/Denver:20250921T100000
DTEND;TZID=America/Denver:20250921T120000
DTSTAMP:20260425T051234
CREATED:20250828T161245Z
LAST-MODIFIED:20250828T161245Z
UID:2071-1758448800-1758456000@ecofnavajoland.org
SUMMARY:SER Sunday Services
DESCRIPTION:Join Rev. Cathlena Plummer and assisting clergy for Holy Eucharist every Sunday morning at our 2 locations in the Southeast Region. \n8 AM at St. Mark’s Church in Coalmine\, NM\n10 AM at Good Shepherd Mission in Fort Defiance\, AZ \nAll are welcome! \nIf you have any inquiries\, please do not hesitate to contact the church office at (928) 729-2322 or email us at officegoodshepherdmission@gmail.com. We look forward to assisting you!
URL:https://ecofnavajoland.org/event/ser-sunday-services-51/
END:VEVENT
BEGIN:VEVENT
DTSTART;TZID=America/Denver:20250921T100000
DTEND;TZID=America/Denver:20250921T120000
DTSTAMP:20260425T051234
CREATED:20250828T160922Z
LAST-MODIFIED:20250828T160922Z
UID:2063-1758448800-1758456000@ecofnavajoland.org
SUMMARY:SJR Sunday Services
DESCRIPTION:We invite you to attend one of our 2 Sunday Services in the San Juan Region\, presided over by Rev. Michael Sells and Rev. Cornelia Eaton. \n10 AM at All Saints Church in Farmington\, NM\n10 AM at St. Michael’s Church in Upper Fruitland\, NM \nAll are welcome! \nIf you have any inquiries\, don’t hesitate to get in touch with Rev. Michael Sells by phone or email.\nOffice Phone: (505) 327-6904\nEmail Address: sanjuanmission1918@gmail.com
URL:https://ecofnavajoland.org/event/sjr-sunday-services-54/
END:VEVENT
BEGIN:VEVENT
DTSTART;TZID=America/Denver:20250919T180000
DTEND;TZID=America/Denver:20250919T190000
DTSTAMP:20260425T051234
CREATED:20250905T151206Z
LAST-MODIFIED:20250905T151206Z
UID:2126-1758304800-1758308400@ecofnavajoland.org
SUMMARY:Reflection of the Day
DESCRIPTION:We invite you to join us for “Reflection of the Day\,” where we will thoughtfully explore our journey on the road to recovery. This gathering will take place at 6 PM upstairs in the Hozho Center\, and we will provide light refreshments for your enjoyment.
URL:https://ecofnavajoland.org/event/reflection-of-the-day/
LOCATION:Hozho Center\, 1257 Mission Ave\, Farmington\, NM\, 87499
END:VEVENT
BEGIN:VEVENT
DTSTART;TZID=America/Denver:20250918T180000
DTEND;TZID=America/Denver:20250918T190000
DTSTAMP:20260425T051234
CREATED:20250828T160148Z
LAST-MODIFIED:20250828T160148Z
UID:2053-1758218400-1758222000@ecofnavajoland.org
SUMMARY:“R” for Thursday Recovery Meeting (GSM)
DESCRIPTION:“R” for Thursday Recovery meetings takes place every Thursday at the Good Shepherd Mission Parish Hall in Fort Defiance\, AZ\, starting at 6 PM. Don’t miss this important opportunity to connect with a dedicated community focused on recovery and personal growth. \nAll are welcome! \nIf you have any inquiries\, please do not hesitate to contact the church office at (928) 729-2322 or email us at officegoodshepherdmission@gmail.com. We look forward to assisting you!
URL:https://ecofnavajoland.org/event/r-for-thursday-recovery-meeting-gsm-33/
LOCATION:Good Shepherd Mission\, 1 kIt Carson Drive\, Fort Defiance\, AZ\, 86504\, United States
END:VEVENT
BEGIN:VEVENT
DTSTART;TZID=America/Denver:20250917T100000
DTEND;TZID=America/Denver:20250917T110000
DTSTAMP:20260425T051234
CREATED:20250828T155329Z
LAST-MODIFIED:20250828T155329Z
UID:2043-1758103200-1758106800@ecofnavajoland.org
SUMMARY:UTR Staff Meeting
DESCRIPTION:Our staff meetings for the Utah Region take place every Wednesday at 10 a.m. at St. Christopher’s Mission in Bluff\, Utah.
URL:https://ecofnavajoland.org/event/utr-staff-meeting-54/
LOCATION:St. Christopher’s Mission\, Mission Rd\, Bluff\, UT\, 84512\, United States
END:VEVENT
BEGIN:VEVENT
DTSTART;TZID=America/Denver:20250916T100000
DTEND;TZID=America/Denver:20250916T110000
DTSTAMP:20260425T051234
CREATED:20250828T154827Z
LAST-MODIFIED:20250828T154827Z
UID:2033-1758016800-1758020400@ecofnavajoland.org
SUMMARY:SER Staff Meeting
DESCRIPTION:Staff meetings for the South East Region are an opportunity for us to come together in the Parish Hall every Tuesday starting at 10:00 AM.
URL:https://ecofnavajoland.org/event/ser-staff-meeting-53/
LOCATION:Good Shepherd Mission\, 1 kIt Carson Drive\, Fort Defiance\, AZ\, 86504\, United States
END:VEVENT
BEGIN:VEVENT
DTSTART;TZID=America/Denver:20250916T100000
DTEND;TZID=America/Denver:20250916T110000
DTSTAMP:20260425T051234
CREATED:20250828T154540Z
LAST-MODIFIED:20250828T154540Z
UID:2023-1758016800-1758020400@ecofnavajoland.org
SUMMARY:SJR Staff Meeting
DESCRIPTION:Staff meetings for the San Juan Region are an opportunity for us to come together\, either in the Hozho Meeting Room or online via Zoom\, every Tuesday at 10:00 AM.
URL:https://ecofnavajoland.org/event/sjr-staff-meeting-54/
LOCATION:Hozho Center\, 1257 Mission Ave\, Farmington\, NM\, 87499
END:VEVENT
BEGIN:VEVENT
DTSTART;TZID=America/Denver:20250914T120000
DTEND;TZID=America/Denver:20250914T140000
DTSTAMP:20260425T051234
CREATED:20250828T162114Z
LAST-MODIFIED:20250828T162114Z
UID:2083-1757851200-1757858400@ecofnavajoland.org
SUMMARY:San Juan Regional Council Meeting
DESCRIPTION:The San Juan Regional Council invites you to join us for a meaningful meeting following the 10:00 AM Sunday service\, where your voice and vision can help guide our community forward.
URL:https://ecofnavajoland.org/event/san-juan-regional-council-meeting-2/
LOCATION:All Saints Church\, 1257 Mission Ave\, Farmington\, NM\, 87499\, United States
END:VEVENT
BEGIN:VEVENT
DTSTART;TZID=America/Denver:20250914T100000
DTEND;TZID=America/Denver:20250914T120000
DTSTAMP:20260425T051234
CREATED:20250828T161425Z
LAST-MODIFIED:20250828T161425Z
UID:2077-1757844000-1757851200@ecofnavajoland.org
SUMMARY:UTR Sunday Services
DESCRIPTION:Come and join us for Holy Eucharist in our Utah region with Rev. Jack Chase and Rev. Paula Henson. \n10 AM at St. Christopher’s Mission in Bluff\, Utah\,\n10 AM at St. John’s the Baptizer in Montezuma Creek\, Utah. \nAll are welcome! \nIf you need more information\, please feel free to contact us. You can reach us by calling (435) 267-2813 or by emailing info@stchristophersmission.com.
URL:https://ecofnavajoland.org/event/utr-sunday-services-55/
END:VEVENT
BEGIN:VEVENT
DTSTART;TZID=America/Denver:20250914T100000
DTEND;TZID=America/Denver:20250914T120000
DTSTAMP:20260425T051234
CREATED:20250828T161217Z
LAST-MODIFIED:20250828T161217Z
UID:2069-1757844000-1757851200@ecofnavajoland.org
SUMMARY:SER Sunday Services
DESCRIPTION:Join Rev. Cathlena Plummer and assisting clergy for Holy Eucharist every Sunday morning at our 2 locations in the Southeast Region. \n8 AM at St. Mark’s Church in Coalmine\, NM\n10 AM at Good Shepherd Mission in Fort Defiance\, AZ \nAll are welcome! \nIf you have any inquiries\, please do not hesitate to contact the church office at (928) 729-2322 or email us at officegoodshepherdmission@gmail.com. We look forward to assisting you!
URL:https://ecofnavajoland.org/event/ser-sunday-services-50/
END:VEVENT
BEGIN:VEVENT
DTSTART;TZID=America/Denver:20250914T100000
DTEND;TZID=America/Denver:20250914T120000
DTSTAMP:20260425T051234
CREATED:20250828T160738Z
LAST-MODIFIED:20250828T160738Z
UID:2061-1757844000-1757851200@ecofnavajoland.org
SUMMARY:SJR Sunday Services
DESCRIPTION:We invite you to attend one of our 2 Sunday Services in the San Juan Region\, presided over by Rev. Michael Sells and Rev. Cornelia Eaton. \n10 AM at All Saints Church in Farmington\, NM\n10 AM at St. Michael’s Church in Upper Fruitland\, NM \nAll are welcome! \nIf you have any inquiries\, don’t hesitate to get in touch with Rev. Michael Sells by phone or email.\nOffice Phone: (505) 327-6904\nEmail Address: sanjuanmission1918@gmail.com
URL:https://ecofnavajoland.org/event/sjr-sunday-services-53/
END:VEVENT
BEGIN:VEVENT
DTSTART;TZID=America/Denver:20250911T180000
DTEND;TZID=America/Denver:20250911T190000
DTSTAMP:20260425T051234
CREATED:20250828T160112Z
LAST-MODIFIED:20250828T160112Z
UID:2051-1757613600-1757617200@ecofnavajoland.org
SUMMARY:“R” for Thursday Recovery Meeting (GSM)
DESCRIPTION:“R” for Thursday Recovery meetings takes place every Thursday at the Good Shepherd Mission Parish Hall in Fort Defiance\, AZ\, starting at 6 PM. Don’t miss this important opportunity to connect with a dedicated community focused on recovery and personal growth. \nAll are welcome! \nIf you have any inquiries\, please do not hesitate to contact the church office at (928) 729-2322 or email us at officegoodshepherdmission@gmail.com. We look forward to assisting you!
URL:https://ecofnavajoland.org/event/r-for-thursday-recovery-meeting-gsm-32/
LOCATION:Good Shepherd Mission\, 1 kIt Carson Drive\, Fort Defiance\, AZ\, 86504\, United States
END:VEVENT
BEGIN:VEVENT
DTSTART;TZID=America/Denver:20250910T100000
DTEND;TZID=America/Denver:20250910T110000
DTSTAMP:20260425T051234
CREATED:20250828T155258Z
LAST-MODIFIED:20250828T155258Z
UID:2041-1757498400-1757502000@ecofnavajoland.org
SUMMARY:UTR Staff Meeting
DESCRIPTION:Our staff meetings for the Utah Region take place every Wednesday at 10 a.m. at St. Christopher’s Mission in Bluff\, Utah.
URL:https://ecofnavajoland.org/event/utr-staff-meeting-53/
LOCATION:St. Christopher’s Mission\, Mission Rd\, Bluff\, UT\, 84512\, United States
END:VEVENT
BEGIN:VEVENT
DTSTART;TZID=America/Denver:20250909T100000
DTEND;TZID=America/Denver:20250909T110000
DTSTAMP:20260425T051234
CREATED:20250828T154751Z
LAST-MODIFIED:20250828T154751Z
UID:2031-1757412000-1757415600@ecofnavajoland.org
SUMMARY:SER Staff Meeting
DESCRIPTION:Staff meetings for the South East Region are an opportunity for us to come together in the Parish Hall every Tuesday starting at 10:00 AM.
URL:https://ecofnavajoland.org/event/ser-staff-meeting-52/
LOCATION:Good Shepherd Mission\, 1 kIt Carson Drive\, Fort Defiance\, AZ\, 86504\, United States
END:VEVENT
BEGIN:VEVENT
DTSTART;TZID=America/Denver:20250909T100000
DTEND;TZID=America/Denver:20250909T110000
DTSTAMP:20260425T051234
CREATED:20250828T154512Z
LAST-MODIFIED:20250828T154512Z
UID:2021-1757412000-1757415600@ecofnavajoland.org
SUMMARY:SJR Staff Meeting
DESCRIPTION:Staff meetings for the San Juan Region are an opportunity for us to come together\, either in the Hozho Meeting Room or online via Zoom\, every Tuesday at 10:00 AM.
URL:https://ecofnavajoland.org/event/sjr-staff-meeting-53/
LOCATION:Hozho Center\, 1257 Mission Ave\, Farmington\, NM\, 87499
END:VEVENT
BEGIN:VEVENT
DTSTART;TZID=America/Denver:20250907T100000
DTEND;TZID=America/Denver:20250907T120000
DTSTAMP:20260425T051234
CREATED:20250828T161403Z
LAST-MODIFIED:20250828T161403Z
UID:2075-1757239200-1757246400@ecofnavajoland.org
SUMMARY:UTR Sunday Services
DESCRIPTION:Come and join us for Holy Eucharist in our Utah region with Rev. Jack Chase and Rev. Paula Henson. \n10 AM at St. Christopher’s Mission in Bluff\, Utah\,\n10 AM at St. John’s the Baptizer in Montezuma Creek\, Utah. \nAll are welcome! \nIf you need more information\, please feel free to contact us. You can reach us by calling (435) 267-2813 or by emailing info@stchristophersmission.com.
URL:https://ecofnavajoland.org/event/utr-sunday-services-54/
END:VEVENT
BEGIN:VEVENT
DTSTART;TZID=America/Denver:20250907T100000
DTEND;TZID=America/Denver:20250907T120000
DTSTAMP:20260425T051234
CREATED:20250828T160704Z
LAST-MODIFIED:20250828T160704Z
UID:2059-1757239200-1757246400@ecofnavajoland.org
SUMMARY:SJR Sunday Services
DESCRIPTION:We invite you to attend one of our 2 Sunday Services in the San Juan Region\, presided over by Rev. Michael Sells and Rev. Cornelia Eaton. \n10 AM at All Saints Church in Farmington\, NM\n10 AM at St. Michael’s Church in Upper Fruitland\, NM \nAll are welcome! \nIf you have any inquiries\, don’t hesitate to get in touch with Rev. Michael Sells by phone or email.\nOffice Phone: (505) 327-6904\nEmail Address: sanjuanmission1918@gmail.com
URL:https://ecofnavajoland.org/event/sjr-sunday-services-52/
END:VEVENT
BEGIN:VEVENT
DTSTART;TZID=America/Denver:20250907T100000
DTEND;TZID=America/Denver:20250907T110000
DTSTAMP:20260425T051234
CREATED:20250828T161107Z
LAST-MODIFIED:20250828T161107Z
UID:2067-1757239200-1757242800@ecofnavajoland.org
SUMMARY:SER Sunday Services
DESCRIPTION:Join Rev. Cathlena Plummer and assisting clergy for Holy Eucharist every Sunday morning at our 2 locations in the Southeast Region. \n8 AM at St. Mark’s Church in Coalmine\, NM\n10 AM at Good Shepherd Mission in Fort Defiance\, AZ \nAll are welcome! \nIf you have any inquiries\, please do not hesitate to contact the church office at (928) 729-2322 or email us at officegoodshepherdmission@gmail.com. We look forward to assisting you!
URL:https://ecofnavajoland.org/event/ser-sunday-services-49/
END:VEVENT
BEGIN:VEVENT
DTSTART;TZID=America/Denver:20250905T180000
DTEND;TZID=America/Denver:20250905T190000
DTSTAMP:20260425T051234
CREATED:20250905T150317Z
LAST-MODIFIED:20250905T150317Z
UID:2122-1757095200-1757098800@ecofnavajoland.org
SUMMARY:Wellbriety Talking Circle
DESCRIPTION:We invite you to join us for Wellbriety as we take a thoughtful exploration of The Red Road to Wellbriety in the Native American Way book. This gathering will take place at 6 PM upstairs in the Hozho Center\, and we will provide light refreshments for your enjoyment.
URL:https://ecofnavajoland.org/event/wellbriety-talking-circle-16/
LOCATION:Hozho Center\, 1257 Mission Ave\, Farmington\, NM\, 87499
END:VEVENT
BEGIN:VEVENT
DTSTART;TZID=America/Denver:20250904T180000
DTEND;TZID=America/Denver:20250904T190000
DTSTAMP:20260425T051234
CREATED:20250828T155717Z
LAST-MODIFIED:20250828T155717Z
UID:2049-1757008800-1757012400@ecofnavajoland.org
SUMMARY:“R” for Thursday Recovery Meeting (GSM)
DESCRIPTION:“R” for Thursday Recovery meetings takes place every Thursday at the Good Shepherd Mission Parish Hall in Fort Defiance\, AZ\, starting at 6 PM. Don’t miss this important opportunity to connect with a dedicated community focused on recovery and personal growth. \nAll are welcome! \nIf you have any inquiries\, please do not hesitate to contact the church office at (928) 729-2322 or email us at officegoodshepherdmission@gmail.com. We look forward to assisting you!
URL:https://ecofnavajoland.org/event/r-for-thursday-recovery-meeting-gsm-31/
LOCATION:Good Shepherd Mission\, 1 kIt Carson Drive\, Fort Defiance\, AZ\, 86504\, United States
END:VEVENT
BEGIN:VEVENT
DTSTART;TZID=America/Denver:20250903T100000
DTEND;TZID=America/Denver:20250903T110000
DTSTAMP:20260425T051234
CREATED:20250828T155224Z
LAST-MODIFIED:20250828T155224Z
UID:2039-1756893600-1756897200@ecofnavajoland.org
SUMMARY:UTR Staff Meeting
DESCRIPTION:Our staff meetings for the Utah Region take place every Wednesday at 10 a.m. at St. Christopher’s Mission in Bluff\, Utah.
URL:https://ecofnavajoland.org/event/utr-staff-meeting-52/
LOCATION:St. Christopher’s Mission\, Mission Rd\, Bluff\, UT\, 84512\, United States
END:VEVENT
BEGIN:VEVENT
DTSTART;TZID=America/Denver:20250902T100000
DTEND;TZID=America/Denver:20250902T110000
DTSTAMP:20260425T051234
CREATED:20250828T154720Z
LAST-MODIFIED:20250828T154720Z
UID:2029-1756807200-1756810800@ecofnavajoland.org
SUMMARY:SER Staff Meeting
DESCRIPTION:Staff meetings for the South East Region are an opportunity for us to come together in the Parish Hall every Tuesday starting at 10:00 AM.
URL:https://ecofnavajoland.org/event/ser-staff-meeting/
LOCATION:Good Shepherd Mission\, 1 kIt Carson Drive\, Fort Defiance\, AZ\, 86504\, United States
END:VEVENT
BEGIN:VEVENT
DTSTART;TZID=America/Denver:20250902T100000
DTEND;TZID=America/Denver:20250902T110000
DTSTAMP:20260425T051234
CREATED:20250828T154432Z
LAST-MODIFIED:20250828T154432Z
UID:2019-1756807200-1756810800@ecofnavajoland.org
SUMMARY:SJR Staff Meeting
DESCRIPTION:Staff meetings for the San Juan Region are an opportunity for us to come together\, either in the Hozho Meeting Room or online via Zoom\, every Tuesday at 10:00 AM.
URL:https://ecofnavajoland.org/event/sjr-staff-meeting-52/
LOCATION:Hozho Center\, 1257 Mission Ave\, Farmington\, NM\, 87499
END:VEVENT
BEGIN:VEVENT
DTSTART;VALUE=DATE:20250901
DTEND;VALUE=DATE:20250902
DTSTAMP:20260425T051234
CREATED:20250828T162922Z
LAST-MODIFIED:20250828T162922Z
UID:2085-1756684800-1756771199@ecofnavajoland.org
SUMMARY:Labor Day Holiday
DESCRIPTION:In observance of Labor Day\, all ECN Offices and Churches will be closed. We appreciate your understanding and look forward to welcoming you back during our regular business hours on Tuesday\, September 2.
URL:https://ecofnavajoland.org/event/labor-day-holiday/
END:VEVENT
BEGIN:VEVENT
DTSTART;TZID=America/Denver:20250831T100000
DTEND;TZID=America/Denver:20250831T120000
DTSTAMP:20260425T051234
CREATED:20250801T154632Z
LAST-MODIFIED:20250801T154632Z
UID:1990-1756634400-1756641600@ecofnavajoland.org
SUMMARY:UTR Sunday Services
DESCRIPTION:Come and join us for Holy Eucharist in our Utah region with Rev. Jack Chase and Rev. Paula Henson. \n10 AM at St. Christopher’s Mission in Bluff\, Utah\,\n10 AM at St. John’s the Baptizer in Montezuma Creek\, Utah. \nAll are welcome! \nIf you need more information\, please feel free to contact us. You can reach us by calling (435) 267-2813 or by emailing info@stchristophersmission.com.
URL:https://ecofnavajoland.org/event/utr-sunday-services-53/
LOCATION:St. Christopher’s Mission\, Mission Rd\, Bluff\, UT\, 84512\, United States
END:VEVENT
BEGIN:VEVENT
DTSTART;TZID=America/Denver:20250831T100000
DTEND;TZID=America/Denver:20250831T120000
DTSTAMP:20260425T051234
CREATED:20250801T154339Z
LAST-MODIFIED:20250801T154339Z
UID:1980-1756634400-1756641600@ecofnavajoland.org
SUMMARY:SJR Sunday Services
DESCRIPTION:We invite you to attend one of our 2 Sunday Services in the San Juan Region\, presided over by Rev. Michael Sells and Rev. Cornelia Eaton. \n10 AM at All Saints Church in Farmington\, NM\n10 AM at St. Michael’s Church in Upper Fruitland\, NM \nAll are welcome! \nIf you have any inquiries\, don’t hesitate to get in touch with Rev. Michael Sells by phone or email.\nOffice Phone: (505) 327-6904\nEmail Address: sanjuanmission1918@gmail.com
URL:https://ecofnavajoland.org/event/sjr-sunday-services-51/
END:VEVENT
BEGIN:VEVENT
DTSTART;TZID=America/Denver:20250831T080000
DTEND;TZID=America/Denver:20250831T120000
DTSTAMP:20260425T051234
CREATED:20250801T154120Z
LAST-MODIFIED:20250801T154120Z
UID:1970-1756627200-1756641600@ecofnavajoland.org
SUMMARY:SER Sunday Services
DESCRIPTION:Join Rev. Cathlena Plummer and Rev. Leon Sampson for Holy Eucharist every Sunday morning at our 2 locations in the Southeast Region. \n8 AM at St. Mark’s Church in Coalmine\, NM\n10 AM at Good Shepherd Mission in Fort Defiance\, AZ \nAll are welcome! \nIf you have any inquiries\, please do not hesitate to contact the church office at (928) 729-2322 or email us at officegoodshepherdmission@gmail.com. We look forward to assisting you!
URL:https://ecofnavajoland.org/event/ser-sunday-services-48/
LOCATION:Good Shepherd Mission\, 1 kIt Carson Drive\, Fort Defiance\, AZ\, 86504\, United States
END:VEVENT
BEGIN:VEVENT
DTSTART;TZID=America/Denver:20250830T100000
DTEND;TZID=America/Denver:20250830T120000
DTSTAMP:20260425T051234
CREATED:20250827T151354Z
LAST-MODIFIED:20250827T151948Z
UID:2012-1756548000-1756555200@ecofnavajoland.org
SUMMARY:Celebration of Life for Eric Heidecker
DESCRIPTION:In Loving Memory of Eric Heidecker\nCelebration of Life – August 30\, 2025 \nWith deep love and remembrance\, we invite you to join us in celebrating the life of Eric Heidecker\, who passed away in June 2025. Eric touched the hearts of so many with his kindness\, strength\, and unwavering spirit. His presence enriched the lives of everyone who knew him\, and his memory will continue to inspire and comfort us. \nA Celebration of Life Ceremony will be held to honor Eric’s journey\, share stories\, and cherish the memories that made him so special. All who knew and loved him are welcome to attend. \n📅 Date: Saturday\, August 30\, 2025\n📍 Location: Good Shepherd Mission – 1 Kit Carson Drive\, Box 618\, Fort Defiance\, AZ 86504\n🕰 Time: 10:00 AM \nPlease come as you are—Eric would want this to be a time of warmth\, laughter\, and reflection. \nLet us gather not in sorrow\, but in gratitude for a life well-lived and deeply loved.
URL:https://ecofnavajoland.org/event/celebration-of-life-for-eric-heidecker/
LOCATION:Good Shepherd Mission\, 1 kIt Carson Drive\, Fort Defiance\, AZ\, 86504\, United States
ATTACH;FMTTYPE=image/png:https://ecofnavajoland.org/wp-content/uploads/2025/08/Eric-Heidecker-Memorial-Service.png
END:VEVENT
END:VCALENDAR