BEGIN:VCALENDAR
VERSION:2.0
PRODID:-//Episcopal Church in Navajoland - ECPv6.15.20//NONSGML v1.0//EN
CALSCALE:GREGORIAN
METHOD:PUBLISH
X-WR-CALNAME:Episcopal Church in Navajoland
X-ORIGINAL-URL:https://ecofnavajoland.org
X-WR-CALDESC:Events for Episcopal Church in Navajoland
REFRESH-INTERVAL;VALUE=DURATION:PT1H
X-Robots-Tag:noindex
X-PUBLISHED-TTL:PT1H
BEGIN:VTIMEZONE
TZID:America/Denver
BEGIN:DAYLIGHT
TZOFFSETFROM:-0700
TZOFFSETTO:-0600
TZNAME:MDT
DTSTART:20240310T090000
END:DAYLIGHT
BEGIN:STANDARD
TZOFFSETFROM:-0600
TZOFFSETTO:-0700
TZNAME:MST
DTSTART:20241103T080000
END:STANDARD
BEGIN:DAYLIGHT
TZOFFSETFROM:-0700
TZOFFSETTO:-0600
TZNAME:MDT
DTSTART:20250309T090000
END:DAYLIGHT
BEGIN:STANDARD
TZOFFSETFROM:-0600
TZOFFSETTO:-0700
TZNAME:MST
DTSTART:20251102T080000
END:STANDARD
BEGIN:DAYLIGHT
TZOFFSETFROM:-0700
TZOFFSETTO:-0600
TZNAME:MDT
DTSTART:20260308T090000
END:DAYLIGHT
BEGIN:STANDARD
TZOFFSETFROM:-0600
TZOFFSETTO:-0700
TZNAME:MST
DTSTART:20261101T080000
END:STANDARD
END:VTIMEZONE
BEGIN:VEVENT
DTSTART;TZID=America/Denver:20250923T100000
DTEND;TZID=America/Denver:20250923T120000
DTSTAMP:20260425T095129
CREATED:20250828T154854Z
LAST-MODIFIED:20250828T154854Z
UID:2035-1758621600-1758628800@ecofnavajoland.org
SUMMARY:SER Staff Meeting
DESCRIPTION:Staff meetings for the South East Region are an opportunity for us to come together in the Parish Hall every Tuesday starting at 10:00 AM.
URL:https://ecofnavajoland.org/event/ser-staff-meeting-54/
LOCATION:Good Shepherd Mission\, 1 kIt Carson Drive\, Fort Defiance\, AZ\, 86504\, United States
END:VEVENT
BEGIN:VEVENT
DTSTART;TZID=America/Denver:20250924T100000
DTEND;TZID=America/Denver:20250924T110000
DTSTAMP:20260425T095129
CREATED:20250828T155356Z
LAST-MODIFIED:20250828T155356Z
UID:2045-1758708000-1758711600@ecofnavajoland.org
SUMMARY:UTR Staff Meeting
DESCRIPTION:Our staff meetings for the Utah Region take place every Wednesday at 10 a.m. at St. Christopher’s Mission in Bluff\, Utah.
URL:https://ecofnavajoland.org/event/utr-staff-meeting-55/
LOCATION:St. Christopher’s Mission\, Mission Rd\, Bluff\, UT\, 84512\, United States
END:VEVENT
BEGIN:VEVENT
DTSTART;TZID=America/Denver:20250925T180000
DTEND;TZID=America/Denver:20250925T190000
DTSTAMP:20260425T095129
CREATED:20250828T160219Z
LAST-MODIFIED:20250828T160219Z
UID:2055-1758823200-1758826800@ecofnavajoland.org
SUMMARY:“R” for Thursday Recovery Meeting (GSM)
DESCRIPTION:“R” for Thursday Recovery meetings takes place every Thursday at the Good Shepherd Mission Parish Hall in Fort Defiance\, AZ\, starting at 6 PM. Don’t miss this important opportunity to connect with a dedicated community focused on recovery and personal growth. \nAll are welcome! \nIf you have any inquiries\, please do not hesitate to contact the church office at (928) 729-2322 or email us at officegoodshepherdmission@gmail.com. We look forward to assisting you!
URL:https://ecofnavajoland.org/event/r-for-thursday-recovery-meeting-gsm-34/
LOCATION:Good Shepherd Mission\, 1 kIt Carson Drive\, Fort Defiance\, AZ\, 86504\, United States
END:VEVENT
BEGIN:VEVENT
DTSTART;TZID=America/Denver:20250927T100000
DTEND;TZID=America/Denver:20250927T120000
DTSTAMP:20260425T095129
CREATED:20250905T150658Z
LAST-MODIFIED:20250905T150658Z
UID:2124-1758967200-1758974400@ecofnavajoland.org
SUMMARY:Domestic Violence Awareness Class
DESCRIPTION:You’re invited to join us for Healing in Hózhó\, a series of Domestic Violence Awareness Sessions hosted by the HOZHO Center and led by LaCinda Hardy-Constant\, BSW\, MSW-Student (LSAA). These gatherings are open to anyone looking to heal\, support others\, or listen with an open heart. \nWe come together as a community to raise awareness\, restore balance\, and support each other in a safe and welcoming space.
URL:https://ecofnavajoland.org/event/domestic-violence-awareness-class/
LOCATION:Hozho Center\, 1257 Mission Ave\, Farmington\, NM\, 87499
END:VEVENT
BEGIN:VEVENT
DTSTART;TZID=America/Denver:20250928T100000
DTEND;TZID=America/Denver:20250928T110000
DTSTAMP:20260425T095129
CREATED:20250828T161001Z
LAST-MODIFIED:20250828T161001Z
UID:2065-1759053600-1759057200@ecofnavajoland.org
SUMMARY:SJR Sunday Services
DESCRIPTION:We invite you to attend one of our 2 Sunday Services in the San Juan Region\, presided over by Rev. Michael Sells and Rev. Cornelia Eaton. \n10 AM at All Saints Church in Farmington\, NM\n10 AM at St. Michael’s Church in Upper Fruitland\, NM \nAll are welcome! \nIf you have any inquiries\, don’t hesitate to get in touch with Rev. Michael Sells by phone or email.\nOffice Phone: (505) 327-6904\nEmail Address: sanjuanmission1918@gmail.com
URL:https://ecofnavajoland.org/event/sjr-sunday-services-55/
END:VEVENT
BEGIN:VEVENT
DTSTART;TZID=America/Denver:20250928T100000
DTEND;TZID=America/Denver:20250928T120000
DTSTAMP:20260425T095129
CREATED:20250828T161321Z
LAST-MODIFIED:20250828T161321Z
UID:2073-1759053600-1759060800@ecofnavajoland.org
SUMMARY:SER Sunday Services
DESCRIPTION:Join Rev. Cathlena Plummer and assisting clergy for Holy Eucharist every Sunday morning at our 2 locations in the Southeast Region. \n8 AM at St. Mark’s Church in Coalmine\, NM\n10 AM at Good Shepherd Mission in Fort Defiance\, AZ \nAll are welcome! \nIf you have any inquiries\, please do not hesitate to contact the church office at (928) 729-2322 or email us at officegoodshepherdmission@gmail.com. We look forward to assisting you!
URL:https://ecofnavajoland.org/event/ser-sunday-services-52/
END:VEVENT
BEGIN:VEVENT
DTSTART;TZID=America/Denver:20250928T100000
DTEND;TZID=America/Denver:20250928T120000
DTSTAMP:20260425T095129
CREATED:20250828T161524Z
LAST-MODIFIED:20250828T161524Z
UID:2081-1759053600-1759060800@ecofnavajoland.org
SUMMARY:UTR Sunday Services
DESCRIPTION:Come and join us for Holy Eucharist in our Utah region with Rev. Jack Chase and Rev. Paula Henson. \n10 AM at St. Christopher’s Mission in Bluff\, Utah\,\n10 AM at St. John’s the Baptizer in Montezuma Creek\, Utah. \nAll are welcome! \nIf you need more information\, please feel free to contact us. You can reach us by calling (435) 267-2813 or by emailing info@stchristophersmission.com.
URL:https://ecofnavajoland.org/event/utr-sunday-services-57/
END:VEVENT
BEGIN:VEVENT
DTSTART;TZID=America/Denver:20250930T100000
DTEND;TZID=America/Denver:20250930T110000
DTSTAMP:20260425T095129
CREATED:20250828T154639Z
LAST-MODIFIED:20250828T154639Z
UID:2027-1759226400-1759230000@ecofnavajoland.org
SUMMARY:SJR Staff Meeting
DESCRIPTION:Staff meetings for the San Juan Region are an opportunity for us to come together\, either in the Hozho Meeting Room or online via Zoom\, every Tuesday at 10:00 AM.
URL:https://ecofnavajoland.org/event/sjr-staff-meeting-56/
LOCATION:Hozho Center\, 1257 Mission Ave\, Farmington\, NM\, 87499
END:VEVENT
BEGIN:VEVENT
DTSTART;TZID=America/Denver:20250930T100000
DTEND;TZID=America/Denver:20250930T110000
DTSTAMP:20260425T095129
CREATED:20250828T154936Z
LAST-MODIFIED:20250828T154936Z
UID:2037-1759226400-1759230000@ecofnavajoland.org
SUMMARY:SER Staff Meeting
DESCRIPTION:Staff meetings for the South East Region are an opportunity for us to come together in the Parish Hall every Tuesday starting at 10:00 AM.
URL:https://ecofnavajoland.org/event/ser-staff-meeting-55/
LOCATION:Good Shepherd Mission\, 1 kIt Carson Drive\, Fort Defiance\, AZ\, 86504\, United States
END:VEVENT
BEGIN:VEVENT
DTSTART;TZID=America/Denver:20251001T100000
DTEND;TZID=America/Denver:20251001T110000
DTSTAMP:20260425T095129
CREATED:20250828T155443Z
LAST-MODIFIED:20250828T155443Z
UID:2047-1759312800-1759316400@ecofnavajoland.org
SUMMARY:UTR Staff Meeting
DESCRIPTION:Our staff meetings for the Utah Region take place every Wednesday at 10 a.m. at St. Christopher’s Mission in Bluff\, Utah.
URL:https://ecofnavajoland.org/event/utr-staff-meeting-56/
LOCATION:St. Christopher’s Mission\, Mission Rd\, Bluff\, UT\, 84512\, United States
END:VEVENT
BEGIN:VEVENT
DTSTART;TZID=America/Denver:20251002T180000
DTEND;TZID=America/Denver:20251002T190000
DTSTAMP:20260425T095129
CREATED:20250828T160252Z
LAST-MODIFIED:20250828T160252Z
UID:2057-1759428000-1759431600@ecofnavajoland.org
SUMMARY:“R” for Thursday Recovery Meeting (GSM)
DESCRIPTION:“R” for Thursday Recovery meetings takes place every Thursday at the Good Shepherd Mission Parish Hall in Fort Defiance\, AZ\, starting at 6 PM. Don’t miss this important opportunity to connect with a dedicated community focused on recovery and personal growth. \nAll are welcome! \nIf you have any inquiries\, please do not hesitate to contact the church office at (928) 729-2322 or email us at officegoodshepherdmission@gmail.com. We look forward to assisting you!
URL:https://ecofnavajoland.org/event/r-for-thursday-recovery-meeting-gsm-35/
LOCATION:Good Shepherd Mission\, 1 kIt Carson Drive\, Fort Defiance\, AZ\, 86504\, United States
END:VEVENT
BEGIN:VEVENT
DTSTART;TZID=America/Denver:20251005T080000
DTEND;TZID=America/Denver:20251005T120000
DTSTAMP:20260425T095129
CREATED:20251001T211738Z
LAST-MODIFIED:20251001T211738Z
UID:2169-1759651200-1759665600@ecofnavajoland.org
SUMMARY:SER Sunday Services
DESCRIPTION:Join Rev. Cathlena Plummer and assisting clergy for Holy Eucharist every Sunday morning at our 2 locations in the Southeast Region. \n8 AM at St. Mark’s Church in Coalmine\, NM\n10 AM at Good Shepherd Mission in Fort Defiance\, AZ \nAll are welcome! \nIf you have any inquiries\, please do not hesitate to contact the church office at (928) 729-2322 or email us at officegoodshepherdmission@gmail.com. We look forward to assisting you!
URL:https://ecofnavajoland.org/event/ser-sunday-services/
END:VEVENT
BEGIN:VEVENT
DTSTART;TZID=America/Denver:20251005T100000
DTEND;TZID=America/Denver:20251005T120000
DTSTAMP:20260425T095129
CREATED:20251001T211117Z
LAST-MODIFIED:20251001T211117Z
UID:2161-1759658400-1759665600@ecofnavajoland.org
SUMMARY:SJR Sunday Services
DESCRIPTION:We invite you to attend one of our 2 Sunday Services in the San Juan Region\, presided over by Rev. Michael Sells and Rev. Cornelia Eaton. \n10 AM at All Saints Church in Farmington\, NM\n10 AM at St. Michael’s Church in Upper Fruitland\, NM \nAll are welcome! \nIf you have any inquiries\, don’t hesitate to get in touch with Rev. Michael Sells by phone or email.\nOffice Phone: (505) 327-6904\nEmail Address: sanjuanmission1918@gmail.com
URL:https://ecofnavajoland.org/event/sjr-sunday-services/
END:VEVENT
BEGIN:VEVENT
DTSTART;TZID=America/Denver:20251005T100000
DTEND;TZID=America/Denver:20251005T120000
DTSTAMP:20260425T095129
CREATED:20251001T212125Z
LAST-MODIFIED:20251001T212125Z
UID:2177-1759658400-1759665600@ecofnavajoland.org
SUMMARY:UTR Sunday Services
DESCRIPTION:Come and join us for Holy Eucharist in our Utah region with Rev. Jack Chase and Rev. Paula Henson. \n10 AM at St. Christopher’s Mission in Bluff\, Utah\,\n10 AM at St. John’s the Baptizer in Montezuma Creek\, Utah. \nAll are welcome! \nIf you need more information\, please feel free to contact us. You can reach us by calling (435) 267-2813 or by emailing info@stchristophersmission.com.
URL:https://ecofnavajoland.org/event/utr-sunday-services/
END:VEVENT
BEGIN:VEVENT
DTSTART;TZID=America/Denver:20251007T100000
DTEND;TZID=America/Denver:20251007T110000
DTSTAMP:20260425T095129
CREATED:20251001T212541Z
LAST-MODIFIED:20251001T212627Z
UID:2185-1759831200-1759834800@ecofnavajoland.org
SUMMARY:SJR Staff Meeting
DESCRIPTION:Staff meetings for the San Juan Region are an opportunity for us to come together\, either in the Hozho Meeting Room or online via Zoom\, every Tuesday at 10:00 AM.
URL:https://ecofnavajoland.org/event/sjr-staff-meeting/
LOCATION:Hozho Center\, 1257 Mission Ave\, Farmington\, NM\, 87499
END:VEVENT
BEGIN:VEVENT
DTSTART;TZID=America/Denver:20251007T100000
DTEND;TZID=America/Denver:20251007T110000
DTSTAMP:20260425T095129
CREATED:20251001T213247Z
LAST-MODIFIED:20251001T213247Z
UID:2193-1759831200-1759834800@ecofnavajoland.org
SUMMARY:SER Staff Meeting
DESCRIPTION:Staff meetings for the South East Region are an opportunity for us to come together in the Parish Hall every Tuesday starting at 10:00 AM.
URL:https://ecofnavajoland.org/event/ser-staff-meeting-2/
LOCATION:Good Shepherd Mission\, 1 kIt Carson Drive\, Fort Defiance\, AZ\, 86504\, United States
END:VEVENT
BEGIN:VEVENT
DTSTART;TZID=America/Denver:20251007T150000
DTEND;TZID=America/Denver:20251007T180000
DTSTAMP:20260425T095129
CREATED:20251007T160646Z
LAST-MODIFIED:20251007T160646Z
UID:2220-1759849200-1759860000@ecofnavajoland.org
SUMMARY:Food Box Distribution (SJR)
DESCRIPTION:Today in the San Juan Region\, at the Hozho Center\, we will be distributing non-perishable food boxes from 3:00 PM to 6:00 PM.
URL:https://ecofnavajoland.org/event/food-box-distribution-sjr/
LOCATION:Hozho Center\, 1257 Mission Ave\, Farmington\, NM\, 87499
ATTACH;FMTTYPE=image/png:https://ecofnavajoland.org/wp-content/uploads/2025/10/ECN-Food-Distribution-2025.png
END:VEVENT
BEGIN:VEVENT
DTSTART;TZID=America/Denver:20251008T100000
DTEND;TZID=America/Denver:20251008T110000
DTSTAMP:20260425T095129
CREATED:20251001T213739Z
LAST-MODIFIED:20251001T213739Z
UID:2201-1759917600-1759921200@ecofnavajoland.org
SUMMARY:UTR Staff Meeting
DESCRIPTION:Our staff meetings for the Utah Region take place every Wednesday at 10 a.m. at St. Christopher’s Mission in Bluff\, Utah.
URL:https://ecofnavajoland.org/event/utr-staff-meeting/
LOCATION:St. Christopher’s Mission\, Mission Rd\, Bluff\, UT\, 84512\, United States
END:VEVENT
BEGIN:VEVENT
DTSTART;TZID=America/Denver:20251010T180000
DTEND;TZID=America/Denver:20251010T190000
DTSTAMP:20260425T095129
CREATED:20251003T203200Z
LAST-MODIFIED:20251003T203200Z
UID:2215-1760119200-1760122800@ecofnavajoland.org
SUMMARY:Wellbriety Talking Circle
DESCRIPTION:We invite you to join us for Wellbriety as we take a thoughtful exploration of The Red Road to Wellbriety in the Native American Way book. This gathering will take place at 6 PM upstairs in the Hozho Center\, and we will provide light refreshments for your enjoyment.
URL:https://ecofnavajoland.org/event/wellbriety-talking-circle-17/
LOCATION:Hozho Center\, 1257 Mission Ave\, Farmington\, NM\, 87499
END:VEVENT
BEGIN:VEVENT
DTSTART;TZID=America/Denver:20251012T080000
DTEND;TZID=America/Denver:20251012T120000
DTSTAMP:20260425T095129
CREATED:20251001T211852Z
LAST-MODIFIED:20251001T211852Z
UID:2171-1760256000-1760270400@ecofnavajoland.org
SUMMARY:SER Sunday Services
DESCRIPTION:Join Rev. Cathlena Plummer and assisting clergy for Holy Eucharist every Sunday morning at our 2 locations in the Southeast Region. \n8 AM at St. Mark’s Church in Coalmine\, NM\n10 AM at Good Shepherd Mission in Fort Defiance\, AZ \nAll are welcome! \nIf you have any inquiries\, please do not hesitate to contact the church office at (928) 729-2322 or email us at officegoodshepherdmission@gmail.com. We look forward to assisting you!
URL:https://ecofnavajoland.org/event/ser-sunday-services-53/
END:VEVENT
BEGIN:VEVENT
DTSTART;TZID=America/Denver:20251012T100000
DTEND;TZID=America/Denver:20251012T120000
DTSTAMP:20260425T095129
CREATED:20251001T211229Z
LAST-MODIFIED:20251001T211229Z
UID:2163-1760263200-1760270400@ecofnavajoland.org
SUMMARY:SJR Sunday Services
DESCRIPTION:We invite you to attend one of our 2 Sunday Services in the San Juan Region\, presided over by Rev. Michael Sells and Rev. Cornelia Eaton. \n10 AM at All Saints Church in Farmington\, NM\n10 AM at St. Michael’s Church in Upper Fruitland\, NM \nAll are welcome! \nIf you have any inquiries\, don’t hesitate to get in touch with Rev. Michael Sells by phone or email.\nOffice Phone: (505) 327-6904\nEmail Address: sanjuanmission1918@gmail.com
URL:https://ecofnavajoland.org/event/sjr-sunday-services-2/
END:VEVENT
BEGIN:VEVENT
DTSTART;TZID=America/Denver:20251012T100000
DTEND;TZID=America/Denver:20251012T120000
DTSTAMP:20260425T095129
CREATED:20251001T212156Z
LAST-MODIFIED:20251001T212156Z
UID:2179-1760263200-1760270400@ecofnavajoland.org
SUMMARY:UTR Sunday Services
DESCRIPTION:Come and join us for Holy Eucharist in our Utah region with Rev. Jack Chase and Rev. Paula Henson. \n10 AM at St. Christopher’s Mission in Bluff\, Utah\,\n10 AM at St. John’s the Baptizer in Montezuma Creek\, Utah. \nAll are welcome! \nIf you need more information\, please feel free to contact us. You can reach us by calling (435) 267-2813 or by emailing info@stchristophersmission.com.
URL:https://ecofnavajoland.org/event/utr-sunday-services-2/
END:VEVENT
BEGIN:VEVENT
DTSTART;VALUE=DATE:20251014
DTEND;VALUE=DATE:20251017
DTSTAMP:20260425T095129
CREATED:20251003T202315Z
LAST-MODIFIED:20251003T202315Z
UID:2211-1760400000-1760659199@ecofnavajoland.org
SUMMARY:ECN Clergy Conference
DESCRIPTION:The ECN clergy will be participating in the annual conference from October 14 to 16. During this time\, they will be out of the office\, allowing them to focus on important discussions and collaborations. Thank you for your understanding!
URL:https://ecofnavajoland.org/event/ecn-clergy-conference-2/
END:VEVENT
BEGIN:VEVENT
DTSTART;TZID=America/Denver:20251014T100000
DTEND;TZID=America/Denver:20251014T110000
DTSTAMP:20260425T095129
CREATED:20251001T212742Z
LAST-MODIFIED:20251001T212742Z
UID:2187-1760436000-1760439600@ecofnavajoland.org
SUMMARY:SJR Staff Meeting
DESCRIPTION:Staff meetings for the San Juan Region are an opportunity for us to come together\, either in the Hozho Meeting Room or online via Zoom\, every Tuesday at 10:00 AM.
URL:https://ecofnavajoland.org/event/sjr-staff-meeting-2/
LOCATION:Hozho Center\, 1257 Mission Ave\, Farmington\, NM\, 87499
END:VEVENT
BEGIN:VEVENT
DTSTART;TZID=America/Denver:20251014T100000
DTEND;TZID=America/Denver:20251014T110000
DTSTAMP:20260425T095129
CREATED:20251001T213326Z
LAST-MODIFIED:20251001T213326Z
UID:2195-1760436000-1760439600@ecofnavajoland.org
SUMMARY:SER Staff Meeting
DESCRIPTION:Staff meetings for the South East Region are an opportunity for us to come together in the Parish Hall every Tuesday starting at 10:00 AM.
URL:https://ecofnavajoland.org/event/ser-staff-meeting-3/
LOCATION:Good Shepherd Mission\, 1 kIt Carson Drive\, Fort Defiance\, AZ\, 86504\, United States
END:VEVENT
BEGIN:VEVENT
DTSTART;TZID=America/Denver:20251015T100000
DTEND;TZID=America/Denver:20251015T110000
DTSTAMP:20260425T095129
CREATED:20251001T213828Z
LAST-MODIFIED:20251001T213828Z
UID:2203-1760522400-1760526000@ecofnavajoland.org
SUMMARY:UTR Staff Meeting
DESCRIPTION:Our staff meetings for the Utah Region take place every Wednesday at 10 a.m. at St. Christopher’s Mission in Bluff\, Utah.
URL:https://ecofnavajoland.org/event/utr-staff-meeting-2/
LOCATION:St. Christopher’s Mission\, Mission Rd\, Bluff\, UT\, 84512\, United States
END:VEVENT
BEGIN:VEVENT
DTSTART;TZID=America/Denver:20251018T100000
DTEND;TZID=America/Denver:20251018T140000
DTSTAMP:20260425T095129
CREATED:20251003T200728Z
LAST-MODIFIED:20251003T200728Z
UID:2209-1760781600-1760796000@ecofnavajoland.org
SUMMARY:ECN Council Meeting
DESCRIPTION:The ECN Council Meeting will be held on Saturday\, October 18\, 2025. Together\, we can inspire change and achieve great things!
URL:https://ecofnavajoland.org/event/ecn-council-meeting-6/
END:VEVENT
BEGIN:VEVENT
DTSTART;TZID=America/Denver:20251019T080000
DTEND;TZID=America/Denver:20251019T120000
DTSTAMP:20260425T095129
CREATED:20251001T211950Z
LAST-MODIFIED:20251001T211950Z
UID:2173-1760860800-1760875200@ecofnavajoland.org
SUMMARY:SER Sunday Services
DESCRIPTION:Join Rev. Cathlena Plummer and assisting clergy for Holy Eucharist every Sunday morning at our 2 locations in the Southeast Region. \n8 AM at St. Mark’s Church in Coalmine\, NM\n10 AM at Good Shepherd Mission in Fort Defiance\, AZ \nAll are welcome! \nIf you have any inquiries\, please do not hesitate to contact the church office at (928) 729-2322 or email us at officegoodshepherdmission@gmail.com. We look forward to assisting you!
URL:https://ecofnavajoland.org/event/ser-sunday-services-54/
END:VEVENT
BEGIN:VEVENT
DTSTART;TZID=America/Denver:20251019T100000
DTEND;TZID=America/Denver:20251019T120000
DTSTAMP:20260425T095129
CREATED:20251001T211338Z
LAST-MODIFIED:20251001T211338Z
UID:2165-1760868000-1760875200@ecofnavajoland.org
SUMMARY:SJR Sunday Services
DESCRIPTION:We invite you to attend one of our 2 Sunday Services in the San Juan Region\, presided over by Rev. Michael Sells and Rev. Cornelia Eaton. \n10 AM at All Saints Church in Farmington\, NM\n10 AM at St. Michael’s Church in Upper Fruitland\, NM \nAll are welcome! \nIf you have any inquiries\, don’t hesitate to get in touch with Rev. Michael Sells by phone or email.\nOffice Phone: (505) 327-6904\nEmail Address: sanjuanmission1918@gmail.com
URL:https://ecofnavajoland.org/event/sjr-sunday-services-3/
END:VEVENT
BEGIN:VEVENT
DTSTART;TZID=America/Denver:20251019T100000
DTEND;TZID=America/Denver:20251019T120000
DTSTAMP:20260425T095129
CREATED:20251001T212228Z
LAST-MODIFIED:20251001T212228Z
UID:2181-1760868000-1760875200@ecofnavajoland.org
SUMMARY:UTR Sunday Services
DESCRIPTION:Come and join us for Holy Eucharist in our Utah region with Rev. Jack Chase and Rev. Paula Henson. \n10 AM at St. Christopher’s Mission in Bluff\, Utah\,\n10 AM at St. John’s the Baptizer in Montezuma Creek\, Utah. \nAll are welcome! \nIf you need more information\, please feel free to contact us. You can reach us by calling (435) 267-2813 or by emailing info@stchristophersmission.com.
URL:https://ecofnavajoland.org/event/utr-sunday-services-3/
END:VEVENT
END:VCALENDAR