BEGIN:VCALENDAR
VERSION:2.0
PRODID:-//Episcopal Church in Navajoland - ECPv6.15.20//NONSGML v1.0//EN
CALSCALE:GREGORIAN
METHOD:PUBLISH
X-WR-CALNAME:Episcopal Church in Navajoland
X-ORIGINAL-URL:https://ecofnavajoland.org
X-WR-CALDESC:Events for Episcopal Church in Navajoland
REFRESH-INTERVAL;VALUE=DURATION:PT1H
X-Robots-Tag:noindex
X-PUBLISHED-TTL:PT1H
BEGIN:VTIMEZONE
TZID:America/Denver
BEGIN:DAYLIGHT
TZOFFSETFROM:-0700
TZOFFSETTO:-0600
TZNAME:MDT
DTSTART:20250309T090000
END:DAYLIGHT
BEGIN:STANDARD
TZOFFSETFROM:-0600
TZOFFSETTO:-0700
TZNAME:MST
DTSTART:20251102T080000
END:STANDARD
BEGIN:DAYLIGHT
TZOFFSETFROM:-0700
TZOFFSETTO:-0600
TZNAME:MDT
DTSTART:20260308T090000
END:DAYLIGHT
BEGIN:STANDARD
TZOFFSETFROM:-0600
TZOFFSETTO:-0700
TZNAME:MST
DTSTART:20261101T080000
END:STANDARD
BEGIN:DAYLIGHT
TZOFFSETFROM:-0700
TZOFFSETTO:-0600
TZNAME:MDT
DTSTART:20270314T090000
END:DAYLIGHT
BEGIN:STANDARD
TZOFFSETFROM:-0600
TZOFFSETTO:-0700
TZNAME:MST
DTSTART:20271107T080000
END:STANDARD
END:VTIMEZONE
BEGIN:VEVENT
DTSTART;TZID=America/Denver:20260301T080000
DTEND;TZID=America/Denver:20260301T120000
DTSTAMP:20260425T045144
CREATED:20260305T222119Z
LAST-MODIFIED:20260305T222119Z
UID:2878-1772352000-1772366400@ecofnavajoland.org
SUMMARY:SER Sunday Services
DESCRIPTION:Join Rev. Cathlena Plummer and assisting clergy for Holy Eucharist every Sunday morning at our 2 locations in the Southeast Region. \n8 AM at St. Mark’s Church in Coalmine\, NM\n10 AM at Good Shepherd Mission in Fort Defiance\, AZ \nAll are welcome! \nIf you have any inquiries\, please do not hesitate to contact the church office at (928) 729-2322 or email us at officegoodshepherdmission@gmail.com. We look forward to assisting you!
URL:https://ecofnavajoland.org/event/ser-sunday-services-18/
END:VEVENT
BEGIN:VEVENT
DTSTART;TZID=America/Denver:20260301T100000
DTEND;TZID=America/Denver:20260301T120000
DTSTAMP:20260425T045144
CREATED:20260305T221614Z
LAST-MODIFIED:20260305T221614Z
UID:2858-1772359200-1772366400@ecofnavajoland.org
SUMMARY:UTR Sunday Services
DESCRIPTION:Come and join us for Holy Eucharist in our Utah region with Rev. Jack Chase and Rev. Paula Henson. \n10 AM at St. Christopher’s Mission in Bluff\, Utah\,\n10 AM at St. John’s the Baptizer in Montezuma Creek\, Utah. \nAll are welcome! \nIf you need more information\, please feel free to contact us. You can reach us by calling (435) 267-2813 or by emailing info@stchristophersmission.com.
URL:https://ecofnavajoland.org/event/utr-sunday-services-22/
END:VEVENT
BEGIN:VEVENT
DTSTART;TZID=America/Denver:20260301T100000
DTEND;TZID=America/Denver:20260301T120000
DTSTAMP:20260425T045144
CREATED:20260305T221843Z
LAST-MODIFIED:20260305T221843Z
UID:2868-1772359200-1772366400@ecofnavajoland.org
SUMMARY:SJR Sunday Services
DESCRIPTION:We invite you to attend one of our 2 Sunday Services in the San Juan Region\, presided over by Rev. Michael Sells and Rev. Cornelia Eaton. \n10 AM at All Saints Church in Farmington\, NM\n10 AM at St. Michael’s Church in Upper Fruitland\, NM \nAll are welcome! \nIf you have any inquiries\, don’t hesitate to get in touch with Rev. Michael Sells by phone or email.\nOffice Phone: (505) 327-6904\nEmail Address: sanjuanmission1918@gmail.com
URL:https://ecofnavajoland.org/event/sjr-sunday-services-19/
END:VEVENT
BEGIN:VEVENT
DTSTART;TZID=America/Denver:20260303T100000
DTEND;TZID=America/Denver:20260303T110000
DTSTAMP:20260425T045144
CREATED:20260305T214641Z
LAST-MODIFIED:20260305T214641Z
UID:2813-1772532000-1772535600@ecofnavajoland.org
SUMMARY:SJR Staff Meeting
DESCRIPTION:Staff meetings for the San Juan Region are an opportunity for us to come together\, either in the Hozho Meeting Room or online via Zoom\, every Tuesday at 10:00 AM.
URL:https://ecofnavajoland.org/event/sjr-staff-meeting-23/
END:VEVENT
BEGIN:VEVENT
DTSTART;TZID=America/Denver:20260303T100000
DTEND;TZID=America/Denver:20260303T110000
DTSTAMP:20260425T045144
CREATED:20260305T215157Z
LAST-MODIFIED:20260305T215157Z
UID:2823-1772532000-1772535600@ecofnavajoland.org
SUMMARY:SER Staff Meeting
DESCRIPTION:Staff meetings for the South East Region are an opportunity for us to come together in the Parish Hall every Tuesday starting at 10:00 AM.
URL:https://ecofnavajoland.org/event/ser-staff-meeting-23/
END:VEVENT
BEGIN:VEVENT
DTSTART;TZID=America/Denver:20260304T100000
DTEND;TZID=America/Denver:20260304T110000
DTSTAMP:20260425T045144
CREATED:20260305T215419Z
LAST-MODIFIED:20260305T215419Z
UID:2833-1772618400-1772622000@ecofnavajoland.org
SUMMARY:UTR Staff Meeting
DESCRIPTION:Our staff meetings for the Utah Region take place every Wednesday at 10 a.m. at St. Christopher’s Mission in Bluff\, Utah.
URL:https://ecofnavajoland.org/event/utr-staff-meeting-22/
END:VEVENT
BEGIN:VEVENT
DTSTART;TZID=America/Denver:20260304T130000
DTEND;TZID=America/Denver:20260304T140000
DTSTAMP:20260425T045144
CREATED:20260305T223534Z
LAST-MODIFIED:20260305T223534Z
UID:2894-1772629200-1772632800@ecofnavajoland.org
SUMMARY:ECN Communications Meeting
DESCRIPTION:ECN Communications Zoom with the Bishop\, the Canon to the Ordinary\, and the Administrator. Every first and third Wednesday of the month.
URL:https://ecofnavajoland.org/event/ecn-communications-meeting/
END:VEVENT
BEGIN:VEVENT
DTSTART;TZID=America/Denver:20260305T180000
DTEND;TZID=America/Denver:20260305T190000
DTSTAMP:20260425T045144
CREATED:20260305T220253Z
LAST-MODIFIED:20260305T220327Z
UID:2841-1772733600-1772737200@ecofnavajoland.org
SUMMARY:"R" for Thursday Recovery Meeting
DESCRIPTION:The Recovery Meeting is held weekly at the GSM Parish Hall. For more information\, please contact Rev. Leon Sampson or Rev. Cathlena Plummer at 928-729-2322.
URL:https://ecofnavajoland.org/event/r-for-thrusday-recovery-meeting-5/
END:VEVENT
BEGIN:VEVENT
DTSTART;TZID=America/Denver:20260306T180000
DTEND;TZID=America/Denver:20260306T190000
DTSTAMP:20260425T045144
CREATED:20260305T221254Z
LAST-MODIFIED:20260305T221254Z
UID:2854-1772820000-1772823600@ecofnavajoland.org
SUMMARY:Hozho Wellbriety Book Study
DESCRIPTION:Join us for the Hozho Wellbriety Book Study at 6:00 PM\, taking place at the Hozho Center in Farmington\, NM.
URL:https://ecofnavajoland.org/event/hozho-wellbriety-book-study/
END:VEVENT
BEGIN:VEVENT
DTSTART;VALUE=DATE:20260308
DTEND;VALUE=DATE:20260309
DTSTAMP:20260425T045144
CREATED:20260305T220612Z
LAST-MODIFIED:20260305T220639Z
UID:2850-1772928000-1773014399@ecofnavajoland.org
SUMMARY:Daylight Saving Time Begins
DESCRIPTION:Don’t forget to set your clocks forward for Daylight Saving Time.
URL:https://ecofnavajoland.org/event/daylight-saving-time-begins/
END:VEVENT
BEGIN:VEVENT
DTSTART;TZID=America/Denver:20260308T080000
DTEND;TZID=America/Denver:20260308T120000
DTSTAMP:20260425T045144
CREATED:20260305T222154Z
LAST-MODIFIED:20260305T222154Z
UID:2880-1772956800-1772971200@ecofnavajoland.org
SUMMARY:SER Sunday Services
DESCRIPTION:Join Rev. Cathlena Plummer and assisting clergy for Holy Eucharist every Sunday morning at our 2 locations in the Southeast Region. \n8 AM at St. Mark’s Church in Coalmine\, NM\n10 AM at Good Shepherd Mission in Fort Defiance\, AZ \nAll are welcome! \nIf you have any inquiries\, please do not hesitate to contact the church office at (928) 729-2322 or email us at officegoodshepherdmission@gmail.com. We look forward to assisting you!
URL:https://ecofnavajoland.org/event/ser-sunday-services-19/
END:VEVENT
BEGIN:VEVENT
DTSTART;TZID=America/Denver:20260308T100000
DTEND;TZID=America/Denver:20260308T120000
DTSTAMP:20260425T045144
CREATED:20260305T221641Z
LAST-MODIFIED:20260305T221641Z
UID:2860-1772964000-1772971200@ecofnavajoland.org
SUMMARY:UTR Sunday Services
DESCRIPTION:Come and join us for Holy Eucharist in our Utah region with Rev. Jack Chase and Rev. Paula Henson. \n10 AM at St. Christopher’s Mission in Bluff\, Utah\,\n10 AM at St. John’s the Baptizer in Montezuma Creek\, Utah. \nAll are welcome! \nIf you need more information\, please feel free to contact us. You can reach us by calling (435) 267-2813 or by emailing info@stchristophersmission.com.
URL:https://ecofnavajoland.org/event/utr-sunday-services-23/
END:VEVENT
BEGIN:VEVENT
DTSTART;TZID=America/Denver:20260308T100000
DTEND;TZID=America/Denver:20260308T120000
DTSTAMP:20260425T045144
CREATED:20260305T221911Z
LAST-MODIFIED:20260305T221911Z
UID:2870-1772964000-1772971200@ecofnavajoland.org
SUMMARY:SJR Sunday Services
DESCRIPTION:We invite you to attend one of our 2 Sunday Services in the San Juan Region\, presided over by Rev. Michael Sells and Rev. Cornelia Eaton. \n10 AM at All Saints Church in Farmington\, NM\n10 AM at St. Michael’s Church in Upper Fruitland\, NM \nAll are welcome! \nIf you have any inquiries\, don’t hesitate to get in touch with Rev. Michael Sells by phone or email.\nOffice Phone: (505) 327-6904\nEmail Address: sanjuanmission1918@gmail.com
URL:https://ecofnavajoland.org/event/sjr-sunday-services-20/
END:VEVENT
BEGIN:VEVENT
DTSTART;TZID=America/Denver:20260308T123000
DTEND;TZID=America/Denver:20260308T143000
DTSTAMP:20260425T045144
CREATED:20260305T222640Z
LAST-MODIFIED:20260305T222640Z
UID:2888-1772973000-1772980200@ecofnavajoland.org
SUMMARY:SJR Council Meeting- Hybrid
DESCRIPTION:The San Juan Council meets monthly to discuss important issues concerning the San Juan Region. This meeting\, held in-person and via Zoom\, will start after the 10:00 AM service.
URL:https://ecofnavajoland.org/event/sjr-council-meeting-hybrid-2/
END:VEVENT
BEGIN:VEVENT
DTSTART;TZID=America/Denver:20260310T100000
DTEND;TZID=America/Denver:20260310T110000
DTSTAMP:20260425T045144
CREATED:20260305T214715Z
LAST-MODIFIED:20260305T214715Z
UID:2815-1773136800-1773140400@ecofnavajoland.org
SUMMARY:SJR Staff Meeting
DESCRIPTION:Staff meetings for the San Juan Region are an opportunity for us to come together\, either in the Hozho Meeting Room or online via Zoom\, every Tuesday at 10:00 AM.
URL:https://ecofnavajoland.org/event/sjr-staff-meeting-24/
END:VEVENT
BEGIN:VEVENT
DTSTART;TZID=America/Denver:20260310T100000
DTEND;TZID=America/Denver:20260310T110000
DTSTAMP:20260425T045144
CREATED:20260305T215221Z
LAST-MODIFIED:20260305T215221Z
UID:2825-1773136800-1773140400@ecofnavajoland.org
SUMMARY:SER Staff Meeting
DESCRIPTION:Staff meetings for the South East Region are an opportunity for us to come together in the Parish Hall every Tuesday starting at 10:00 AM.
URL:https://ecofnavajoland.org/event/ser-staff-meeting-24/
END:VEVENT
BEGIN:VEVENT
DTSTART;TZID=America/Denver:20260311T100000
DTEND;TZID=America/Denver:20260311T110000
DTSTAMP:20260425T045144
CREATED:20260305T215442Z
LAST-MODIFIED:20260305T215442Z
UID:2835-1773223200-1773226800@ecofnavajoland.org
SUMMARY:UTR Staff Meeting
DESCRIPTION:Our staff meetings for the Utah Region take place every Wednesday at 10 a.m. at St. Christopher’s Mission in Bluff\, Utah.
URL:https://ecofnavajoland.org/event/utr-staff-meeting-23/
END:VEVENT
BEGIN:VEVENT
DTSTART;TZID=America/Denver:20260312T180000
DTEND;TZID=America/Denver:20260312T190000
DTSTAMP:20260425T045144
CREATED:20260305T220350Z
LAST-MODIFIED:20260305T220350Z
UID:2843-1773338400-1773342000@ecofnavajoland.org
SUMMARY:"R" for Thursday Recovery Meeting
DESCRIPTION:The Recovery Meeting is held weekly at the GSM Parish Hall. For more information\, please contact Rev. Leon Sampson or Rev. Cathlena Plummer at 928-729-2322.
URL:https://ecofnavajoland.org/event/r-for-thursday-recovery-meeting/
END:VEVENT
BEGIN:VEVENT
DTSTART;TZID=America/Denver:20260315T080000
DTEND;TZID=America/Denver:20260315T120000
DTSTAMP:20260425T045144
CREATED:20260305T222237Z
LAST-MODIFIED:20260305T222237Z
UID:2882-1773561600-1773576000@ecofnavajoland.org
SUMMARY:SER Sunday Services
DESCRIPTION:Join Rev. Cathlena Plummer and assisting clergy for Holy Eucharist every Sunday morning at our 2 locations in the Southeast Region. \n8 AM at St. Mark’s Church in Coalmine\, NM\n10 AM at Good Shepherd Mission in Fort Defiance\, AZ \nAll are welcome! \nIf you have any inquiries\, please do not hesitate to contact the church office at (928) 729-2322 or email us at officegoodshepherdmission@gmail.com. We look forward to assisting you!
URL:https://ecofnavajoland.org/event/ser-sunday-services-20/
END:VEVENT
BEGIN:VEVENT
DTSTART;TZID=America/Denver:20260315T100000
DTEND;TZID=America/Denver:20260315T120000
DTSTAMP:20260425T045144
CREATED:20260305T221704Z
LAST-MODIFIED:20260305T221704Z
UID:2862-1773568800-1773576000@ecofnavajoland.org
SUMMARY:UTR Sunday Services
DESCRIPTION:Come and join us for Holy Eucharist in our Utah region with Rev. Jack Chase and Rev. Paula Henson. \n10 AM at St. Christopher’s Mission in Bluff\, Utah\,\n10 AM at St. John’s the Baptizer in Montezuma Creek\, Utah. \nAll are welcome! \nIf you need more information\, please feel free to contact us. You can reach us by calling (435) 267-2813 or by emailing info@stchristophersmission.com.
URL:https://ecofnavajoland.org/event/utr-sunday-services-24/
END:VEVENT
BEGIN:VEVENT
DTSTART;TZID=America/Denver:20260315T100000
DTEND;TZID=America/Denver:20260315T120000
DTSTAMP:20260425T045144
CREATED:20260305T221941Z
LAST-MODIFIED:20260305T221941Z
UID:2872-1773568800-1773576000@ecofnavajoland.org
SUMMARY:SJR Sunday Services
DESCRIPTION:We invite you to attend one of our 2 Sunday Services in the San Juan Region\, presided over by Rev. Michael Sells and Rev. Cornelia Eaton. \n10 AM at All Saints Church in Farmington\, NM\n10 AM at St. Michael’s Church in Upper Fruitland\, NM \nAll are welcome! \nIf you have any inquiries\, don’t hesitate to get in touch with Rev. Michael Sells by phone or email.\nOffice Phone: (505) 327-6904\nEmail Address: sanjuanmission1918@gmail.com
URL:https://ecofnavajoland.org/event/sjr-sunday-services-21/
END:VEVENT
BEGIN:VEVENT
DTSTART;VALUE=DATE:20260317
DTEND;VALUE=DATE:20260318
DTSTAMP:20260425T045144
CREATED:20260305T220717Z
LAST-MODIFIED:20260305T220724Z
UID:2852-1773705600-1773791999@ecofnavajoland.org
SUMMARY:St. Patrick's Day
DESCRIPTION:
URL:https://ecofnavajoland.org/event/st-patricks-day-2/
END:VEVENT
BEGIN:VEVENT
DTSTART;TZID=America/Denver:20260317T100000
DTEND;TZID=America/Denver:20260317T110000
DTSTAMP:20260425T045144
CREATED:20260305T214955Z
LAST-MODIFIED:20260305T214955Z
UID:2817-1773741600-1773745200@ecofnavajoland.org
SUMMARY:SJR Staff Meeting
DESCRIPTION:Staff meetings for the San Juan Region are an opportunity for us to come together\, either in the Hozho Meeting Room or online via Zoom\, every Tuesday at 10:00 AM.
URL:https://ecofnavajoland.org/event/sjr-staff-meeting-25/
END:VEVENT
BEGIN:VEVENT
DTSTART;TZID=America/Denver:20260317T100000
DTEND;TZID=America/Denver:20260317T110000
DTSTAMP:20260425T045144
CREATED:20260305T215249Z
LAST-MODIFIED:20260305T215249Z
UID:2827-1773741600-1773745200@ecofnavajoland.org
SUMMARY:SER Staff Meeting
DESCRIPTION:Staff meetings for the South East Region are an opportunity for us to come together in the Parish Hall every Tuesday starting at 10:00 AM.
URL:https://ecofnavajoland.org/event/ser-staff-meeting-25/
END:VEVENT
BEGIN:VEVENT
DTSTART;TZID=America/Denver:20260318T100000
DTEND;TZID=America/Denver:20260318T110000
DTSTAMP:20260425T045144
CREATED:20260305T215510Z
LAST-MODIFIED:20260305T215510Z
UID:2837-1773828000-1773831600@ecofnavajoland.org
SUMMARY:UTR Staff Meeting
DESCRIPTION:Our staff meetings for the Utah Region take place every Wednesday at 10 a.m. at St. Christopher’s Mission in Bluff\, Utah.
URL:https://ecofnavajoland.org/event/utr-staff-meeting-24/
END:VEVENT
BEGIN:VEVENT
DTSTART;TZID=America/Denver:20260318T130000
DTEND;TZID=America/Denver:20260318T140000
DTSTAMP:20260425T045144
CREATED:20260305T223619Z
LAST-MODIFIED:20260305T223619Z
UID:2896-1773838800-1773842400@ecofnavajoland.org
SUMMARY:ECN Communications Meeting
DESCRIPTION:ECN Communications Zoom with the Bishop\, the Canon to the Ordinary\, and the Administrator. Every first and third Wednesday of the month.
URL:https://ecofnavajoland.org/event/ecn-communications-meeting-2/
END:VEVENT
BEGIN:VEVENT
DTSTART;TZID=America/Denver:20260318T173000
DTEND;TZID=America/Denver:20260318T183000
DTSTAMP:20260425T045144
CREATED:20260305T223336Z
LAST-MODIFIED:20260305T223413Z
UID:2892-1773855000-1773858600@ecofnavajoland.org
SUMMARY:FON Meeting
DESCRIPTION:Join us for the Friends of Navajoland meeting\, which will be held via Zoom.
URL:https://ecofnavajoland.org/event/fon-meeting-2/
END:VEVENT
BEGIN:VEVENT
DTSTART;TZID=America/Denver:20260319T100000
DTEND;TZID=America/Denver:20260319T120000
DTSTAMP:20260425T045144
CREATED:20260305T223106Z
LAST-MODIFIED:20260305T223106Z
UID:2890-1773914400-1773921600@ecofnavajoland.org
SUMMARY:Monthly Clergy Check In
DESCRIPTION:Monthly Clergy Check-in via Zoom. Navajoland clergy.
URL:https://ecofnavajoland.org/event/monthly-clergy-check-in-2/
END:VEVENT
BEGIN:VEVENT
DTSTART;TZID=America/Denver:20260319T180000
DTEND;TZID=America/Denver:20260319T190000
DTSTAMP:20260425T045144
CREATED:20260305T220413Z
LAST-MODIFIED:20260305T220413Z
UID:2846-1773943200-1773946800@ecofnavajoland.org
SUMMARY:"R" for Thursday Recovery Meeting
DESCRIPTION:The Recovery Meeting is held weekly at the GSM Parish Hall. For more information\, please contact Rev. Leon Sampson or Rev. Cathlena Plummer at 928-729-2322.
URL:https://ecofnavajoland.org/event/r-for-thursday-recovery-meeting-2/
END:VEVENT
BEGIN:VEVENT
DTSTART;TZID=America/Denver:20260320T180000
DTEND;TZID=America/Denver:20260320T190000
DTSTAMP:20260425T045144
CREATED:20260305T221448Z
LAST-MODIFIED:20260305T221448Z
UID:2856-1774029600-1774033200@ecofnavajoland.org
SUMMARY:Hozho Wellbriety Reflection of the Day
DESCRIPTION:Join us for the Hozho Wellbriety Reflection of the Day\, starting at 6:00 PM\, at the Hozho Center in Farmington\, NM.
URL:https://ecofnavajoland.org/event/hozho-wellbriety-reflection-of-the-day/
END:VEVENT
END:VCALENDAR