BEGIN:VCALENDAR
VERSION:2.0
PRODID:-//Episcopal Church in Navajoland - ECPv6.15.20//NONSGML v1.0//EN
CALSCALE:GREGORIAN
METHOD:PUBLISH
X-WR-CALNAME:Episcopal Church in Navajoland
X-ORIGINAL-URL:https://ecofnavajoland.org
X-WR-CALDESC:Events for Episcopal Church in Navajoland
REFRESH-INTERVAL;VALUE=DURATION:PT1H
X-Robots-Tag:noindex
X-PUBLISHED-TTL:PT1H
BEGIN:VTIMEZONE
TZID:America/Denver
BEGIN:DAYLIGHT
TZOFFSETFROM:-0700
TZOFFSETTO:-0600
TZNAME:MDT
DTSTART:20250309T090000
END:DAYLIGHT
BEGIN:STANDARD
TZOFFSETFROM:-0600
TZOFFSETTO:-0700
TZNAME:MST
DTSTART:20251102T080000
END:STANDARD
BEGIN:DAYLIGHT
TZOFFSETFROM:-0700
TZOFFSETTO:-0600
TZNAME:MDT
DTSTART:20260308T090000
END:DAYLIGHT
BEGIN:STANDARD
TZOFFSETFROM:-0600
TZOFFSETTO:-0700
TZNAME:MST
DTSTART:20261101T080000
END:STANDARD
BEGIN:DAYLIGHT
TZOFFSETFROM:-0700
TZOFFSETTO:-0600
TZNAME:MDT
DTSTART:20270314T090000
END:DAYLIGHT
BEGIN:STANDARD
TZOFFSETFROM:-0600
TZOFFSETTO:-0700
TZNAME:MST
DTSTART:20271107T080000
END:STANDARD
END:VTIMEZONE
BEGIN:VEVENT
DTSTART;TZID=America/Denver:20260108T180000
DTEND;TZID=America/Denver:20260108T190000
DTSTAMP:20260425T064358
CREATED:20260114T232729Z
LAST-MODIFIED:20260114T232729Z
UID:2631-1767895200-1767898800@ecofnavajoland.org
SUMMARY:“R” for Thursday Recovery Meeting (GSM)
DESCRIPTION:“R” for Thursday Recovery meetings takes place every Thursday at the Good Shepherd Mission Parish Hall in Fort Defiance\, AZ\, starting at 6 PM. Don’t miss this important opportunity to connect with a dedicated community focused on recovery and personal growth. \nAll are welcome! \nIf you have any inquiries\, please do not hesitate to contact the church office at (928) 729-2322 or email us at officegoodshepherdmission@gmail.com. We look forward to assisting you!
URL:https://ecofnavajoland.org/event/r-for-thursday-recovery-meeting-gsm-45/
END:VEVENT
BEGIN:VEVENT
DTSTART;TZID=America/Denver:20260111T080000
DTEND;TZID=America/Denver:20260111T120000
DTSTAMP:20260425T064358
CREATED:20260114T233101Z
LAST-MODIFIED:20260114T233101Z
UID:2641-1768118400-1768132800@ecofnavajoland.org
SUMMARY:SER Sunday Services
DESCRIPTION:Join Rev. Cathlena Plummer and assisting clergy for Holy Eucharist every Sunday morning at our 2 locations in the Southeast Region. \n8 AM at St. Mark’s Church in Coalmine\, NM\n10 AM at Good Shepherd Mission in Fort Defiance\, AZ \nAll are welcome! \nIf you have any inquiries\, please do not hesitate to contact the church office at (928) 729-2322 or email us at officegoodshepherdmission@gmail.com. We look forward to assisting you!
URL:https://ecofnavajoland.org/event/ser-sunday-services-11/
END:VEVENT
BEGIN:VEVENT
DTSTART;TZID=America/Denver:20260111T100000
DTEND;TZID=America/Denver:20260111T120000
DTSTAMP:20260425T064358
CREATED:20260114T233409Z
LAST-MODIFIED:20260114T233409Z
UID:2649-1768125600-1768132800@ecofnavajoland.org
SUMMARY:SJR Sunday Services
DESCRIPTION:We invite you to attend one of our 2 Sunday Services in the San Juan Region\, presided over by Rev. Michael Sells and Rev. Cornelia Eaton. \n10 AM at All Saints Church in Farmington\, NM\n10 AM at St. Michael’s Church in Upper Fruitland\, NM \nAll are welcome! \nIf you have any inquiries\, don’t hesitate to get in touch with Rev. Michael Sells by phone or email.\nOffice Phone: (505) 327-6904\nEmail Address: sanjuanmission1918@gmail.com
URL:https://ecofnavajoland.org/event/sjr-sunday-services-12/
END:VEVENT
BEGIN:VEVENT
DTSTART;TZID=America/Denver:20260111T100000
DTEND;TZID=America/Denver:20260111T120000
DTSTAMP:20260425T064358
CREATED:20260114T233553Z
LAST-MODIFIED:20260114T233553Z
UID:2657-1768125600-1768132800@ecofnavajoland.org
SUMMARY:UTR Sunday Services
DESCRIPTION:Come and join us for Holy Eucharist in our Utah region with Rev. Jack Chase and Rev. Paula Henson. \n10 AM at St. Christopher’s Mission in Bluff\, Utah\,\n10 AM at St. John’s the Baptizer in Montezuma Creek\, Utah. \nAll are welcome! \nIf you need more information\, please feel free to contact us. You can reach us by calling (435) 267-2813 or by emailing info@stchristophersmission.com.
URL:https://ecofnavajoland.org/event/utr-sunday-services-15/
END:VEVENT
BEGIN:VEVENT
DTSTART;TZID=America/Denver:20260113T100000
DTEND;TZID=America/Denver:20260113T110000
DTSTAMP:20260425T064358
CREATED:20260114T224042Z
LAST-MODIFIED:20260114T224042Z
UID:2600-1768298400-1768302000@ecofnavajoland.org
SUMMARY:SJR Staff Meeting
DESCRIPTION:Staff meetings for the San Juan Region are an opportunity for us to come together\, either in the Hozho Meeting Room or online via Zoom\, every Tuesday at 10:00 AM.
URL:https://ecofnavajoland.org/event/sjr-staff-meeting-16/
END:VEVENT
BEGIN:VEVENT
DTSTART;TZID=America/Denver:20260113T100000
DTEND;TZID=America/Denver:20260113T110000
DTSTAMP:20260425T064358
CREATED:20260114T232030Z
LAST-MODIFIED:20260114T232030Z
UID:2617-1768298400-1768302000@ecofnavajoland.org
SUMMARY:SER Staff Meeting
DESCRIPTION:Staff meetings for the South East Region are an opportunity for us to come together in the Parish Hall every Tuesday starting at 10:00 AM.
URL:https://ecofnavajoland.org/event/ser-staff-meeting-16/
END:VEVENT
BEGIN:VEVENT
DTSTART;TZID=America/Denver:20260114T100000
DTEND;TZID=America/Denver:20260114T110000
DTSTAMP:20260425T064358
CREATED:20260114T232416Z
LAST-MODIFIED:20260114T232416Z
UID:2625-1768384800-1768388400@ecofnavajoland.org
SUMMARY:UTR Staff Meeting
DESCRIPTION:Our staff meetings for the Utah Region take place every Wednesday at 10 a.m. at St. Christopher’s Mission in Bluff\, Utah. \n 
URL:https://ecofnavajoland.org/event/utr-staff-meeting-15/
END:VEVENT
BEGIN:VEVENT
DTSTART;TZID=America/Denver:20260115T180000
DTEND;TZID=America/Denver:20260115T190000
DTSTAMP:20260425T064358
CREATED:20260114T232818Z
LAST-MODIFIED:20260114T232818Z
UID:2633-1768500000-1768503600@ecofnavajoland.org
SUMMARY:“R” for Thursday Recovery Meeting (GSM)
DESCRIPTION:“R” for Thursday Recovery meetings takes place every Thursday at the Good Shepherd Mission Parish Hall in Fort Defiance\, AZ\, starting at 6 PM. Don’t miss this important opportunity to connect with a dedicated community focused on recovery and personal growth. \nAll are welcome! \nIf you have any inquiries\, please do not hesitate to contact the church office at (928) 729-2322 or email us at officegoodshepherdmission@gmail.com. We look forward to assisting you!
URL:https://ecofnavajoland.org/event/r-for-thursday-recovery-meeting-gsm-46/
END:VEVENT
BEGIN:VEVENT
DTSTART;TZID=America/Denver:20260118T080000
DTEND;TZID=America/Denver:20260118T120000
DTSTAMP:20260425T064358
CREATED:20260114T233144Z
LAST-MODIFIED:20260114T233144Z
UID:2643-1768723200-1768737600@ecofnavajoland.org
SUMMARY:SER Sunday Services
DESCRIPTION:Join Rev. Cathlena Plummer and assisting clergy for Holy Eucharist every Sunday morning at our 2 locations in the Southeast Region. \n8 AM at St. Mark’s Church in Coalmine\, NM\n10 AM at Good Shepherd Mission in Fort Defiance\, AZ \nAll are welcome! \nIf you have any inquiries\, please do not hesitate to contact the church office at (928) 729-2322 or email us at officegoodshepherdmission@gmail.com. We look forward to assisting you!
URL:https://ecofnavajoland.org/event/ser-sunday-services-12/
END:VEVENT
BEGIN:VEVENT
DTSTART;TZID=America/Denver:20260118T080000
DTEND;TZID=America/Denver:20260118T170000
DTSTAMP:20260425T064358
CREATED:20260116T170123Z
LAST-MODIFIED:20260116T170123Z
UID:2671-1768723200-1768755600@ecofnavajoland.org
SUMMARY:2 Epiphany
DESCRIPTION:
URL:https://ecofnavajoland.org/event/2-epiphany/
END:VEVENT
BEGIN:VEVENT
DTSTART;TZID=America/Denver:20260118T100000
DTEND;TZID=America/Denver:20260118T120000
DTSTAMP:20260425T064358
CREATED:20260114T233430Z
LAST-MODIFIED:20260114T233430Z
UID:2651-1768730400-1768737600@ecofnavajoland.org
SUMMARY:SJR Sunday Services
DESCRIPTION:We invite you to attend one of our 2 Sunday Services in the San Juan Region\, presided over by Rev. Michael Sells and Rev. Cornelia Eaton. \n10 AM at All Saints Church in Farmington\, NM\n10 AM at St. Michael’s Church in Upper Fruitland\, NM \nAll are welcome! \nIf you have any inquiries\, don’t hesitate to get in touch with Rev. Michael Sells by phone or email.\nOffice Phone: (505) 327-6904\nEmail Address: sanjuanmission1918@gmail.com
URL:https://ecofnavajoland.org/event/sjr-sunday-services-13/
END:VEVENT
BEGIN:VEVENT
DTSTART;TZID=America/Denver:20260118T100000
DTEND;TZID=America/Denver:20260118T120000
DTSTAMP:20260425T064358
CREATED:20260114T233623Z
LAST-MODIFIED:20260114T233623Z
UID:2659-1768730400-1768737600@ecofnavajoland.org
SUMMARY:UTR Sunday Services
DESCRIPTION:Come and join us for Holy Eucharist in our Utah region with Rev. Jack Chase and Rev. Paula Henson. \n10 AM at St. Christopher’s Mission in Bluff\, Utah\,\n10 AM at St. John’s the Baptizer in Montezuma Creek\, Utah. \nAll are welcome! \nIf you need more information\, please feel free to contact us. You can reach us by calling (435) 267-2813 or by emailing info@stchristophersmission.com.
URL:https://ecofnavajoland.org/event/utr-sunday-services-16/
END:VEVENT
BEGIN:VEVENT
DTSTART;TZID=America/Denver:20260119T080000
DTEND;TZID=America/Denver:20260119T170000
DTSTAMP:20260425T064358
CREATED:20260114T231719Z
LAST-MODIFIED:20260114T233722Z
UID:2613-1768809600-1768842000@ecofnavajoland.org
SUMMARY:Martin Luther King Jr. Day
DESCRIPTION:The offices of the Episcopal Church in Navajoland will be closed on Monday\, January 19\, for the Martin Luther King Jr. holiday.
URL:https://ecofnavajoland.org/event/martin-luther-king-jr-day-3/
END:VEVENT
BEGIN:VEVENT
DTSTART;TZID=America/Denver:20260120T100000
DTEND;TZID=America/Denver:20260120T110000
DTSTAMP:20260425T064358
CREATED:20260114T223925Z
LAST-MODIFIED:20260114T223925Z
UID:2598-1768903200-1768906800@ecofnavajoland.org
SUMMARY:SJR Staff Meeting
DESCRIPTION:Staff meetings for the San Juan Region are an opportunity for us to come together\, either in the Hozho Meeting Room or online via Zoom\, every Tuesday at 10:00 AM.
URL:https://ecofnavajoland.org/event/sjr-staff-meeting-15/
LOCATION:Hozho Center\, 1257 Mission Ave\, Farmington\, NM\, 87499
END:VEVENT
BEGIN:VEVENT
DTSTART;TZID=America/Denver:20260120T100000
DTEND;TZID=America/Denver:20260120T110000
DTSTAMP:20260425T064358
CREATED:20260114T232129Z
LAST-MODIFIED:20260114T232129Z
UID:2619-1768903200-1768906800@ecofnavajoland.org
SUMMARY:SER Staff Meeting
DESCRIPTION:Staff meetings for the South East Region are an opportunity for us to come together in the Parish Hall every Tuesday starting at 10:00 AM. \n 
URL:https://ecofnavajoland.org/event/ser-staff-meeting-17/
END:VEVENT
BEGIN:VEVENT
DTSTART;TZID=America/Denver:20260121T100000
DTEND;TZID=America/Denver:20260121T110000
DTSTAMP:20260425T064358
CREATED:20260114T232458Z
LAST-MODIFIED:20260114T232458Z
UID:2627-1768989600-1768993200@ecofnavajoland.org
SUMMARY:UTR Staff Meeting
DESCRIPTION:Our staff meetings for the Utah Region take place every Wednesday at 10 a.m. at St. Christopher’s Mission in Bluff\, Utah. \n 
URL:https://ecofnavajoland.org/event/utr-staff-meeting-16/
END:VEVENT
BEGIN:VEVENT
DTSTART;TZID=America/Denver:20260122T180000
DTEND;TZID=America/Denver:20260122T190000
DTSTAMP:20260425T064358
CREATED:20260114T232855Z
LAST-MODIFIED:20260114T232855Z
UID:2635-1769104800-1769108400@ecofnavajoland.org
SUMMARY:“R” for Thursday Recovery Meeting (GSM)
DESCRIPTION:“R” for Thursday Recovery meetings takes place every Thursday at the Good Shepherd Mission Parish Hall in Fort Defiance\, AZ\, starting at 6 PM. Don’t miss this important opportunity to connect with a dedicated community focused on recovery and personal growth. \nAll are welcome! \nIf you have any inquiries\, please do not hesitate to contact the church office at (928) 729-2322 or email us at officegoodshepherdmission@gmail.com. We look forward to assisting you!
URL:https://ecofnavajoland.org/event/r-for-thursday-recovery-meeting-gsm-47/
END:VEVENT
BEGIN:VEVENT
DTSTART;TZID=America/Denver:20260123T180000
DTEND;TZID=America/Denver:20260123T190000
DTSTAMP:20260425T064358
CREATED:20260116T164008Z
LAST-MODIFIED:20260116T164008Z
UID:2665-1769191200-1769194800@ecofnavajoland.org
SUMMARY:Wellbriety Talking Circle
DESCRIPTION:We invite you to join us for Wellbriety as we take a thoughtful exploration of The Red Road to Wellbriety in the Native American Way book. This gathering will take place at 6 PM upstairs in the Hozho Center\, and we will provide light refreshments for your enjoyment.
URL:https://ecofnavajoland.org/event/wellbriety-talking-circle-19/
END:VEVENT
BEGIN:VEVENT
DTSTART;TZID=America/Denver:20260124T100000
DTEND;TZID=America/Denver:20260124T130000
DTSTAMP:20260425T064358
CREATED:20260116T163639Z
LAST-MODIFIED:20260120T221729Z
UID:2663-1769248800-1769259600@ecofnavajoland.org
SUMMARY:Hozho Winter Story Sharing
DESCRIPTION:Join us as we welcome back Leonard Anthony for our Hozho Winter Story Sharing session on January 24\, starting at 10 AM via Zoom.
URL:https://ecofnavajoland.org/event/hozho-winter-story-sharing-2/
ATTACH;FMTTYPE=image/png:https://ecofnavajoland.org/wp-content/uploads/2026/01/January-2026-Winter-Story-Sharing.png
END:VEVENT
BEGIN:VEVENT
DTSTART;TZID=America/Denver:20260124T100000
DTEND;TZID=America/Denver:20260124T140000
DTSTAMP:20260425T064358
CREATED:20260123T163912Z
LAST-MODIFIED:20260123T163912Z
UID:2687-1769248800-1769263200@ecofnavajoland.org
SUMMARY:1st Annual SER Parish Retreat
DESCRIPTION:We are thrilled to invite you to the 1st Annual Southeast Region Parish Retreat! Join us on Saturday\, January 24\, starting at 10:00 AM for a day of connection and renewal. A delightful continental breakfast and lunch will be provided. Everyone is welcome! For further details\, please call Rev. Cathlena or Rev. Leon at (928) 729-2322.
URL:https://ecofnavajoland.org/event/1st-annual-ser-parish-retreat/
ATTACH;FMTTYPE=image/jpeg:https://ecofnavajoland.org/wp-content/uploads/2026/01/1st_annual_ser_parish_retreat.jpg
END:VEVENT
BEGIN:VEVENT
DTSTART;TZID=America/Denver:20260125T080000
DTEND;TZID=America/Denver:20260125T120000
DTSTAMP:20260425T064358
CREATED:20260114T233208Z
LAST-MODIFIED:20260114T233208Z
UID:2645-1769328000-1769342400@ecofnavajoland.org
SUMMARY:SER Sunday Services
DESCRIPTION:Join Rev. Cathlena Plummer and assisting clergy for Holy Eucharist every Sunday morning at our 2 locations in the Southeast Region. \n8 AM at St. Mark’s Church in Coalmine\, NM\n10 AM at Good Shepherd Mission in Fort Defiance\, AZ \nAll are welcome! \nIf you have any inquiries\, please do not hesitate to contact the church office at (928) 729-2322 or email us at officegoodshepherdmission@gmail.com. We look forward to assisting you!
URL:https://ecofnavajoland.org/event/ser-sunday-services-13/
END:VEVENT
BEGIN:VEVENT
DTSTART;TZID=America/Denver:20260125T100000
DTEND;TZID=America/Denver:20260125T120000
DTSTAMP:20260425T064358
CREATED:20260114T233459Z
LAST-MODIFIED:20260114T233459Z
UID:2653-1769335200-1769342400@ecofnavajoland.org
SUMMARY:SJR Sunday Services
DESCRIPTION:We invite you to attend one of our 2 Sunday Services in the San Juan Region\, presided over by Rev. Michael Sells and Rev. Cornelia Eaton. \n10 AM at All Saints Church in Farmington\, NM\n10 AM at St. Michael’s Church in Upper Fruitland\, NM \nAll are welcome! \nIf you have any inquiries\, don’t hesitate to get in touch with Rev. Michael Sells by phone or email.\nOffice Phone: (505) 327-6904\nEmail Address: sanjuanmission1918@gmail.com
URL:https://ecofnavajoland.org/event/sjr-sunday-services-14/
END:VEVENT
BEGIN:VEVENT
DTSTART;TZID=America/Denver:20260125T100000
DTEND;TZID=America/Denver:20260125T120000
DTSTAMP:20260425T064358
CREATED:20260114T233645Z
LAST-MODIFIED:20260114T233645Z
UID:2661-1769335200-1769342400@ecofnavajoland.org
SUMMARY:UTR Sunday Services
DESCRIPTION:Come and join us for Holy Eucharist in our Utah region with Rev. Jack Chase and Rev. Paula Henson. \n10 AM at St. Christopher’s Mission in Bluff\, Utah\,\n10 AM at St. John’s the Baptizer in Montezuma Creek\, Utah. \nAll are welcome! \nIf you need more information\, please feel free to contact us. You can reach us by calling (435) 267-2813 or by emailing info@stchristophersmission.com.
URL:https://ecofnavajoland.org/event/utr-sunday-services-17/
END:VEVENT
BEGIN:VEVENT
DTSTART;TZID=America/Denver:20260127T100000
DTEND;TZID=America/Denver:20260127T110000
DTSTAMP:20260425T064358
CREATED:20260114T224339Z
LAST-MODIFIED:20260114T224339Z
UID:2605-1769508000-1769511600@ecofnavajoland.org
SUMMARY:SJR Staff Meeting
DESCRIPTION:Staff meetings for the San Juan Region are an opportunity for us to come together\, either in the Hozho Meeting Room or online via Zoom\, every Tuesday at 10:00 AM.
URL:https://ecofnavajoland.org/event/sjr-staff-meeting-17/
END:VEVENT
BEGIN:VEVENT
DTSTART;TZID=America/Denver:20260127T100000
DTEND;TZID=America/Denver:20260127T110000
DTSTAMP:20260425T064358
CREATED:20260114T232230Z
LAST-MODIFIED:20260114T232230Z
UID:2621-1769508000-1769511600@ecofnavajoland.org
SUMMARY:SER Staff Meeting
DESCRIPTION:Staff meetings for the South East Region are an opportunity for us to come together in the Parish Hall every Tuesday starting at 10:00 AM. \n 
URL:https://ecofnavajoland.org/event/ser-staff-meeting-18/
END:VEVENT
BEGIN:VEVENT
DTSTART;TZID=America/Denver:20260128T100000
DTEND;TZID=America/Denver:20260128T110000
DTSTAMP:20260425T064358
CREATED:20260114T232531Z
LAST-MODIFIED:20260114T232613Z
UID:2629-1769594400-1769598000@ecofnavajoland.org
SUMMARY:UTR Staff Meeting
DESCRIPTION:Our staff meetings for the Utah Region take place every Wednesday at 10 a.m. at St. Christopher’s Mission in Bluff\, Utah. \n 
URL:https://ecofnavajoland.org/event/utr-staff-meeting-17/
END:VEVENT
BEGIN:VEVENT
DTSTART;TZID=America/Denver:20260128T130000
DTEND;TZID=America/Denver:20260128T150000
DTSTAMP:20260425T064358
CREATED:20260123T173333Z
LAST-MODIFIED:20260123T173350Z
UID:2690-1769605200-1769612400@ecofnavajoland.org
SUMMARY:Election Planning Meeting
DESCRIPTION:The Election Planning Meeting will commence at 1:00 PM. Zoom links have been sent to all participants.
URL:https://ecofnavajoland.org/event/election-planning-meeting/
END:VEVENT
BEGIN:VEVENT
DTSTART;TZID=America/Denver:20260129T180000
DTEND;TZID=America/Denver:20260129T190000
DTSTAMP:20260425T064358
CREATED:20260114T232930Z
LAST-MODIFIED:20260114T232930Z
UID:2637-1769709600-1769713200@ecofnavajoland.org
SUMMARY:“R” for Thursday Recovery Meeting (GSM)
DESCRIPTION:“R” for Thursday Recovery meetings takes place every Thursday at the Good Shepherd Mission Parish Hall in Fort Defiance\, AZ\, starting at 6 PM. Don’t miss this important opportunity to connect with a dedicated community focused on recovery and personal growth. \nAll are welcome! \nIf you have any inquiries\, please do not hesitate to contact the church office at (928) 729-2322 or email us at officegoodshepherdmission@gmail.com. We look forward to assisting you!
URL:https://ecofnavajoland.org/event/r-for-thursday-recovery-meeting-gsm-48/
END:VEVENT
BEGIN:VEVENT
DTSTART;TZID=America/Denver:20260130T140000
DTEND;TZID=America/Denver:20260130T153000
DTSTAMP:20260425T064358
CREATED:20260116T164159Z
LAST-MODIFIED:20260116T164159Z
UID:2667-1769781600-1769787000@ecofnavajoland.org
SUMMARY:FON Meeting
DESCRIPTION:Join us for the first Friends of Navajoland meeting of 2026\, which will be held via Zoom.
URL:https://ecofnavajoland.org/event/fon-meeting/
END:VEVENT
BEGIN:VEVENT
DTSTART;TZID=America/Denver:20260201T080000
DTEND;TZID=America/Denver:20260201T120000
DTSTAMP:20260425T064358
CREATED:20260206T193537Z
LAST-MODIFIED:20260206T193537Z
UID:2766-1769932800-1769947200@ecofnavajoland.org
SUMMARY:SER Sunday Services
DESCRIPTION:Join Rev. Cathlena Plummer and assisting clergy for Holy Eucharist every Sunday morning at our 2 locations in the Southeast Region. \n8 AM at St. Mark’s Church in Coalmine\, NM\n10 AM at Good Shepherd Mission in Fort Defiance\, AZ \nAll are welcome! \nIf you have any inquiries\, please do not hesitate to contact the church office at (928) 729-2322 or email us at officegoodshepherdmission@gmail.com. We look forward to assisting you!
URL:https://ecofnavajoland.org/event/ser-sunday-services-14/
END:VEVENT
END:VCALENDAR