BEGIN:VCALENDAR
VERSION:2.0
PRODID:-//Episcopal Church in Navajoland - ECPv6.15.20//NONSGML v1.0//EN
CALSCALE:GREGORIAN
METHOD:PUBLISH
X-ORIGINAL-URL:https://ecofnavajoland.org
X-WR-CALDESC:Events for Episcopal Church in Navajoland
REFRESH-INTERVAL;VALUE=DURATION:PT1H
X-Robots-Tag:noindex
X-PUBLISHED-TTL:PT1H
BEGIN:VTIMEZONE
TZID:America/Denver
BEGIN:DAYLIGHT
TZOFFSETFROM:-0700
TZOFFSETTO:-0600
TZNAME:MDT
DTSTART:20250309T090000
END:DAYLIGHT
BEGIN:STANDARD
TZOFFSETFROM:-0600
TZOFFSETTO:-0700
TZNAME:MST
DTSTART:20251102T080000
END:STANDARD
BEGIN:DAYLIGHT
TZOFFSETFROM:-0700
TZOFFSETTO:-0600
TZNAME:MDT
DTSTART:20260308T090000
END:DAYLIGHT
BEGIN:STANDARD
TZOFFSETFROM:-0600
TZOFFSETTO:-0700
TZNAME:MST
DTSTART:20261101T080000
END:STANDARD
BEGIN:DAYLIGHT
TZOFFSETFROM:-0700
TZOFFSETTO:-0600
TZNAME:MDT
DTSTART:20270314T090000
END:DAYLIGHT
BEGIN:STANDARD
TZOFFSETFROM:-0600
TZOFFSETTO:-0700
TZNAME:MST
DTSTART:20271107T080000
END:STANDARD
END:VTIMEZONE
BEGIN:VEVENT
DTSTART;TZID=America/Denver:20260127T100000
DTEND;TZID=America/Denver:20260127T110000
DTSTAMP:20260425T101514
CREATED:20260114T224339Z
LAST-MODIFIED:20260114T224339Z
UID:2605-1769508000-1769511600@ecofnavajoland.org
SUMMARY:SJR Staff Meeting
DESCRIPTION:Staff meetings for the San Juan Region are an opportunity for us to come together\, either in the Hozho Meeting Room or online via Zoom\, every Tuesday at 10:00 AM.
URL:https://ecofnavajoland.org/event/sjr-staff-meeting-17/
END:VEVENT
BEGIN:VEVENT
DTSTART;TZID=America/Denver:20260127T100000
DTEND;TZID=America/Denver:20260127T110000
DTSTAMP:20260425T101514
CREATED:20260114T232230Z
LAST-MODIFIED:20260114T232230Z
UID:2621-1769508000-1769511600@ecofnavajoland.org
SUMMARY:SER Staff Meeting
DESCRIPTION:Staff meetings for the South East Region are an opportunity for us to come together in the Parish Hall every Tuesday starting at 10:00 AM. \n 
URL:https://ecofnavajoland.org/event/ser-staff-meeting-18/
END:VEVENT
BEGIN:VEVENT
DTSTART;TZID=America/Denver:20260128T100000
DTEND;TZID=America/Denver:20260128T110000
DTSTAMP:20260425T101514
CREATED:20260114T232531Z
LAST-MODIFIED:20260114T232613Z
UID:2629-1769594400-1769598000@ecofnavajoland.org
SUMMARY:UTR Staff Meeting
DESCRIPTION:Our staff meetings for the Utah Region take place every Wednesday at 10 a.m. at St. Christopher’s Mission in Bluff\, Utah. \n 
URL:https://ecofnavajoland.org/event/utr-staff-meeting-17/
END:VEVENT
BEGIN:VEVENT
DTSTART;TZID=America/Denver:20260128T130000
DTEND;TZID=America/Denver:20260128T150000
DTSTAMP:20260425T101514
CREATED:20260123T173333Z
LAST-MODIFIED:20260123T173350Z
UID:2690-1769605200-1769612400@ecofnavajoland.org
SUMMARY:Election Planning Meeting
DESCRIPTION:The Election Planning Meeting will commence at 1:00 PM. Zoom links have been sent to all participants.
URL:https://ecofnavajoland.org/event/election-planning-meeting/
END:VEVENT
BEGIN:VEVENT
DTSTART;TZID=America/Denver:20260129T180000
DTEND;TZID=America/Denver:20260129T190000
DTSTAMP:20260425T101514
CREATED:20260114T232930Z
LAST-MODIFIED:20260114T232930Z
UID:2637-1769709600-1769713200@ecofnavajoland.org
SUMMARY:“R” for Thursday Recovery Meeting (GSM)
DESCRIPTION:“R” for Thursday Recovery meetings takes place every Thursday at the Good Shepherd Mission Parish Hall in Fort Defiance\, AZ\, starting at 6 PM. Don’t miss this important opportunity to connect with a dedicated community focused on recovery and personal growth. \nAll are welcome! \nIf you have any inquiries\, please do not hesitate to contact the church office at (928) 729-2322 or email us at officegoodshepherdmission@gmail.com. We look forward to assisting you!
URL:https://ecofnavajoland.org/event/r-for-thursday-recovery-meeting-gsm-48/
END:VEVENT
BEGIN:VEVENT
DTSTART;TZID=America/Denver:20260130T140000
DTEND;TZID=America/Denver:20260130T153000
DTSTAMP:20260425T101514
CREATED:20260116T164159Z
LAST-MODIFIED:20260116T164159Z
UID:2667-1769781600-1769787000@ecofnavajoland.org
SUMMARY:FON Meeting
DESCRIPTION:Join us for the first Friends of Navajoland meeting of 2026\, which will be held via Zoom.
URL:https://ecofnavajoland.org/event/fon-meeting/
END:VEVENT
BEGIN:VEVENT
DTSTART;TZID=America/Denver:20260201T080000
DTEND;TZID=America/Denver:20260201T120000
DTSTAMP:20260425T101514
CREATED:20260206T193537Z
LAST-MODIFIED:20260206T193537Z
UID:2766-1769932800-1769947200@ecofnavajoland.org
SUMMARY:SER Sunday Services
DESCRIPTION:Join Rev. Cathlena Plummer and assisting clergy for Holy Eucharist every Sunday morning at our 2 locations in the Southeast Region. \n8 AM at St. Mark’s Church in Coalmine\, NM\n10 AM at Good Shepherd Mission in Fort Defiance\, AZ \nAll are welcome! \nIf you have any inquiries\, please do not hesitate to contact the church office at (928) 729-2322 or email us at officegoodshepherdmission@gmail.com. We look forward to assisting you!
URL:https://ecofnavajoland.org/event/ser-sunday-services-14/
END:VEVENT
BEGIN:VEVENT
DTSTART;TZID=America/Denver:20260201T100000
DTEND;TZID=America/Denver:20260201T120000
DTSTAMP:20260425T101514
CREATED:20260206T194018Z
LAST-MODIFIED:20260206T194018Z
UID:2774-1769940000-1769947200@ecofnavajoland.org
SUMMARY:SJR Sunday Services
DESCRIPTION:We invite you to attend one of our 2 Sunday Services in the San Juan Region\, presided over by Rev. Michael Sells and Rev. Cornelia Eaton. \n10 AM at All Saints Church in Farmington\, NM\n10 AM at St. Michael’s Church in Upper Fruitland\, NM \nAll are welcome! \nIf you have any inquiries\, don’t hesitate to get in touch with Rev. Michael Sells by phone or email.\nOffice Phone: (505) 327-6904\nEmail Address: sanjuanmission1918@gmail.com
URL:https://ecofnavajoland.org/event/sjr-sunday-services-15/
END:VEVENT
BEGIN:VEVENT
DTSTART;TZID=America/Denver:20260201T100000
DTEND;TZID=America/Denver:20260201T120000
DTSTAMP:20260425T101514
CREATED:20260206T194350Z
LAST-MODIFIED:20260206T194350Z
UID:2782-1769940000-1769947200@ecofnavajoland.org
SUMMARY:UTR Sunday Services
DESCRIPTION:Come and join us for Holy Eucharist in our Utah region with Rev. Jack Chase and Rev. Paula Henson. \n10 AM at St. Christopher’s Mission in Bluff\, Utah\,\n10 AM at St. John’s the Baptizer in Montezuma Creek\, Utah. \nAll are welcome! \nIf you need more information\, please feel free to contact us. You can reach us by calling (435) 267-2813 or by emailing info@stchristophersmission.com.
URL:https://ecofnavajoland.org/event/utr-sunday-services-18/
END:VEVENT
BEGIN:VEVENT
DTSTART;TZID=America/Denver:20260203T100000
DTEND;TZID=America/Denver:20260203T110000
DTSTAMP:20260425T101514
CREATED:20260206T190958Z
LAST-MODIFIED:20260206T190958Z
UID:2742-1770112800-1770116400@ecofnavajoland.org
SUMMARY:SJR Staff Meeting
DESCRIPTION:Staff meetings for the San Juan Region are an opportunity for us to come together\, either in the Hozho Meeting Room or online via Zoom\, every Tuesday at 10:00 AM. \n 
URL:https://ecofnavajoland.org/event/sjr-staff-meeting-19/
END:VEVENT
BEGIN:VEVENT
DTSTART;TZID=America/Denver:20260203T100000
DTEND;TZID=America/Denver:20260203T110000
DTSTAMP:20260425T101514
CREATED:20260206T192419Z
LAST-MODIFIED:20260206T192419Z
UID:2750-1770112800-1770116400@ecofnavajoland.org
SUMMARY:SER Staff Meeting
DESCRIPTION:Staff meetings for the South East Region are an opportunity for us to come together in the Parish Hall every Tuesday starting at 10:00 AM. \n 
URL:https://ecofnavajoland.org/event/ser-staff-meeting-19/
END:VEVENT
BEGIN:VEVENT
DTSTART;TZID=America/Denver:20260204T100000
DTEND;TZID=America/Denver:20260204T110000
DTSTAMP:20260425T101514
CREATED:20260206T193121Z
LAST-MODIFIED:20260206T193121Z
UID:2758-1770199200-1770202800@ecofnavajoland.org
SUMMARY:UTR Staff Meeting
DESCRIPTION:Our staff meetings for the Utah Region take place every Wednesday at 10 a.m. at St. Christopher’s Mission in Bluff\, Utah. \n 
URL:https://ecofnavajoland.org/event/utr-staff-meeting-18/
END:VEVENT
BEGIN:VEVENT
DTSTART;TZID=America/Denver:20260205T180000
DTEND;TZID=America/Denver:20260205T190000
DTSTAMP:20260425T101514
CREATED:20260205T004828Z
LAST-MODIFIED:20260205T004828Z
UID:2704-1770314400-1770318000@ecofnavajoland.org
SUMMARY:"R" for Thrusday Recovery Meeting
DESCRIPTION:Recovery Meeting meets weekly at the Good Shepherd Mission Parish Hall.
URL:https://ecofnavajoland.org/event/r-for-thrusday-recovery-meeting/
END:VEVENT
BEGIN:VEVENT
DTSTART;TZID=America/Denver:20260206T180000
DTEND;TZID=America/Denver:20260206T190000
DTSTAMP:20260425T101514
CREATED:20260205T005424Z
LAST-MODIFIED:20260205T005424Z
UID:2715-1770400800-1770404400@ecofnavajoland.org
SUMMARY:Wellbriety Book Study
DESCRIPTION:Wellbriety Book Study\n\n\n\nFebruary Wellbriety opportunities at the Hozho.\n\n\nJoin us this Friday for Wellbriety Book Study\, and on the 20th for the Reflection of the Day.\n\n\nAll sessions will be hybrid\, making it easier for you to join via Zoom or in person. Hope to see you there!\n\nLocation: 1257 Mission Ave. Farmington\, NM 87401\nZoom link on Flyer.
URL:https://ecofnavajoland.org/event/wellbriety-book-study/
ATTACH;FMTTYPE=image/png:https://ecofnavajoland.org/wp-content/uploads/2026/02/February-2026-Wellbriety-Hozho-Center.png
END:VEVENT
BEGIN:VEVENT
DTSTART;TZID=America/Denver:20260207T100000
DTEND;TZID=America/Denver:20260207T110000
DTSTAMP:20260425T101514
CREATED:20260205T004552Z
LAST-MODIFIED:20260205T004552Z
UID:2699-1770458400-1770462000@ecofnavajoland.org
SUMMARY:Hozho Winter Story Sharing
DESCRIPTION:Winter Story Sharing- Final Session of the Season\n\n\nWe are grateful to close out our Winter Story Sharing Series with Leonard Anthony\, who has guided us through all four winter sessions with generosity\, care\, and deep teaching.\n\n\n\nFor our final gathering\, Leonard will share the sacred story of the Navajo Twins.\n\n\nSince November\, Leonard has walked with us through teachings on the winter constellation\, Changing Woman\, the Four Sacred Words\, and more\, reminding us of who we are and how to live in a good way during the cold season.\n\n\n\n February 7th\, 2026\n 10:00 AM (MST)\n Zoom (same link used for all winter sessions\, ID and passcode on image)\n\n\nAll are welcome to join this final winter gathering to listen\, learn\, and sit together with these stories.\n\n\nAhéhee’ for being part of this season of sharing.
URL:https://ecofnavajoland.org/event/hozho-winter-story-sharing-3/
ATTACH;FMTTYPE=image/png:https://ecofnavajoland.org/wp-content/uploads/2026/02/February-2026-Winter-Story-Sharing.png
END:VEVENT
BEGIN:VEVENT
DTSTART;TZID=America/Denver:20260207T120000
DTEND;TZID=America/Denver:20260207T150000
DTSTAMP:20260425T101514
CREATED:20260205T011407Z
LAST-MODIFIED:20260205T011407Z
UID:2730-1770465600-1770476400@ecofnavajoland.org
SUMMARY:Lay Worship Leader Training- In Person
DESCRIPTION:ECN Lay worship leader training- Three Stages \n\nOnline Zoom training with Rev. Jack Chase (4 Sessions)\nRegional Training with your Vicar (1 Session)\nIn Person Gathering with Rev. Jack- Morning prayer practice and discussion\n\nThis session will be stage three. Meeting in Farmington\, NM\, at All Saints’ Church.
URL:https://ecofnavajoland.org/event/lay-worship-leader-training-in-person/
END:VEVENT
BEGIN:VEVENT
DTSTART;TZID=America/Denver:20260208T080000
DTEND;TZID=America/Denver:20260208T120000
DTSTAMP:20260425T101514
CREATED:20260206T193647Z
LAST-MODIFIED:20260206T193647Z
UID:2768-1770537600-1770552000@ecofnavajoland.org
SUMMARY:SER Sunday Services
DESCRIPTION:Join Rev. Cathlena Plummer and assisting clergy for Holy Eucharist every Sunday morning at our 2 locations in the Southeast Region. \n8 AM at St. Mark’s Church in Coalmine\, NM\n10 AM at Good Shepherd Mission in Fort Defiance\, AZ \nAll are welcome! \nIf you have any inquiries\, please do not hesitate to contact the church office at (928) 729-2322 or email us at officegoodshepherdmission@gmail.com. We look forward to assisting you!
URL:https://ecofnavajoland.org/event/ser-sunday-services-15/
END:VEVENT
BEGIN:VEVENT
DTSTART;TZID=America/Denver:20260208T100000
DTEND;TZID=America/Denver:20260208T120000
DTSTAMP:20260425T101514
CREATED:20260206T194141Z
LAST-MODIFIED:20260206T194141Z
UID:2776-1770544800-1770552000@ecofnavajoland.org
SUMMARY:SJR Sunday Services
DESCRIPTION:We invite you to attend one of our 2 Sunday Services in the San Juan Region\, presided over by Rev. Michael Sells and Rev. Cornelia Eaton. \n10 AM at All Saints Church in Farmington\, NM\n10 AM at St. Michael’s Church in Upper Fruitland\, NM \nAll are welcome! \nIf you have any inquiries\, don’t hesitate to get in touch with Rev. Michael Sells by phone or email.\nOffice Phone: (505) 327-6904\nEmail Address: sanjuanmission1918@gmail.com
URL:https://ecofnavajoland.org/event/sjr-sunday-services-16/
END:VEVENT
BEGIN:VEVENT
DTSTART;TZID=America/Denver:20260208T100000
DTEND;TZID=America/Denver:20260208T120000
DTSTAMP:20260425T101514
CREATED:20260206T194420Z
LAST-MODIFIED:20260206T194420Z
UID:2784-1770544800-1770552000@ecofnavajoland.org
SUMMARY:UTR Sunday Services
DESCRIPTION:Come and join us for Holy Eucharist in our Utah region with Rev. Jack Chase and Rev. Paula Henson. \n10 AM at St. Christopher’s Mission in Bluff\, Utah\,\n10 AM at St. John’s the Baptizer in Montezuma Creek\, Utah. \nAll are welcome! \nIf you need more information\, please feel free to contact us. You can reach us by calling (435) 267-2813 or by emailing info@stchristophersmission.com.
URL:https://ecofnavajoland.org/event/utr-sunday-services-19/
END:VEVENT
BEGIN:VEVENT
DTSTART;TZID=America/Denver:20260208T120000
DTEND;TZID=America/Denver:20260208T130000
DTSTAMP:20260425T101514
CREATED:20260205T013436Z
LAST-MODIFIED:20260205T013436Z
UID:2736-1770552000-1770555600@ecofnavajoland.org
SUMMARY:SJR Council Meeting- Hybrid
DESCRIPTION:Hybrid\, meet at All Saints’ Church and on Zoom.
URL:https://ecofnavajoland.org/event/sjr-council-meeting-hybrid/
END:VEVENT
BEGIN:VEVENT
DTSTART;TZID=America/Denver:20260210T100000
DTEND;TZID=America/Denver:20260210T110000
DTSTAMP:20260425T101514
CREATED:20260206T192044Z
LAST-MODIFIED:20260206T192044Z
UID:2744-1770717600-1770721200@ecofnavajoland.org
SUMMARY:SJR Staff Meeting
DESCRIPTION:Staff meetings for the San Juan Region are an opportunity for us to come together\, either in the Hozho Meeting Room or online via Zoom\, every Tuesday at 10:00 AM. \n 
URL:https://ecofnavajoland.org/event/sjr-staff-meeting-20/
END:VEVENT
BEGIN:VEVENT
DTSTART;TZID=America/Denver:20260210T100000
DTEND;TZID=America/Denver:20260210T110000
DTSTAMP:20260425T101514
CREATED:20260206T192842Z
LAST-MODIFIED:20260206T192842Z
UID:2752-1770717600-1770721200@ecofnavajoland.org
SUMMARY:SER Staff Meeting
DESCRIPTION:Staff meetings for the South East Region are an opportunity for us to come together in the Parish Hall every Tuesday starting at 10:00 AM. \n 
URL:https://ecofnavajoland.org/event/ser-staff-meeting-20/
END:VEVENT
BEGIN:VEVENT
DTSTART;TZID=America/Denver:20260211T100000
DTEND;TZID=America/Denver:20260211T110000
DTSTAMP:20260425T101514
CREATED:20260206T193154Z
LAST-MODIFIED:20260206T193154Z
UID:2760-1770804000-1770807600@ecofnavajoland.org
SUMMARY:UTR Staff Meeting
DESCRIPTION:Our staff meetings for the Utah Region take place every Wednesday at 10 a.m. at St. Christopher’s Mission in Bluff\, Utah. \n 
URL:https://ecofnavajoland.org/event/utr-staff-meeting-19/
END:VEVENT
BEGIN:VEVENT
DTSTART;TZID=America/Denver:20260212T140000
DTEND;TZID=America/Denver:20260212T150000
DTSTAMP:20260425T101514
CREATED:20260205T013745Z
LAST-MODIFIED:20260205T013745Z
UID:2740-1770904800-1770908400@ecofnavajoland.org
SUMMARY:Standing Committee Meeting
DESCRIPTION:Contact Rev. Jack Chase for more information.
URL:https://ecofnavajoland.org/event/standing-committee-meeting/
END:VEVENT
BEGIN:VEVENT
DTSTART;TZID=America/Denver:20260212T180000
DTEND;TZID=America/Denver:20260212T190000
DTSTAMP:20260425T101514
CREATED:20260205T004910Z
LAST-MODIFIED:20260205T004910Z
UID:2707-1770919200-1770922800@ecofnavajoland.org
SUMMARY:"R" for Thrusday Recovery Meeting
DESCRIPTION:Recovery Meeting meets weekly at the Good Shepherd Mission Parish Hall.
URL:https://ecofnavajoland.org/event/r-for-thrusday-recovery-meeting-2/
END:VEVENT
BEGIN:VEVENT
DTSTART;TZID=America/Denver:20260213T110000
DTEND;TZID=America/Denver:20260213T190000
DTSTAMP:20260425T101514
CREATED:20260205T005930Z
LAST-MODIFIED:20260205T005930Z
UID:2719-1770980400-1771009200@ecofnavajoland.org
SUMMARY:2026 Shi Heart Festival
DESCRIPTION:Annual Fundraiser with food sale and raffle. Contact the Senior Warden for more information. Food Sale begins at 11 AM\, and the Festival begins from 4 PM to 7 PM.
URL:https://ecofnavajoland.org/event/2026-shi-heart-festival/
END:VEVENT
BEGIN:VEVENT
DTSTART;TZID=America/Denver:20260214T100000
DTEND;TZID=America/Denver:20260214T130000
DTSTAMP:20260425T101514
CREATED:20260205T010237Z
LAST-MODIFIED:20260205T010237Z
UID:2724-1771063200-1771074000@ecofnavajoland.org
SUMMARY:ECN Council Meeting- Zoom
DESCRIPTION:ECN Regular Council Meeting via Zoom. Zoom link sent to your inbox along with the agenda prior to the meeting day.
URL:https://ecofnavajoland.org/event/ecn-council-meeting-zoom/
END:VEVENT
BEGIN:VEVENT
DTSTART;TZID=America/Denver:20260215T080000
DTEND;TZID=America/Denver:20260215T120000
DTSTAMP:20260425T101514
CREATED:20260206T193751Z
LAST-MODIFIED:20260206T193751Z
UID:2770-1771142400-1771156800@ecofnavajoland.org
SUMMARY:SER Sunday Services
DESCRIPTION:Join Rev. Cathlena Plummer and assisting clergy for Holy Eucharist every Sunday morning at our 2 locations in the Southeast Region. \n8 AM at St. Mark’s Church in Coalmine\, NM\n10 AM at Good Shepherd Mission in Fort Defiance\, AZ \nAll are welcome! \nIf you have any inquiries\, please do not hesitate to contact the church office at (928) 729-2322 or email us at officegoodshepherdmission@gmail.com. We look forward to assisting you!
URL:https://ecofnavajoland.org/event/ser-sunday-services-16/
END:VEVENT
BEGIN:VEVENT
DTSTART;TZID=America/Denver:20260215T100000
DTEND;TZID=America/Denver:20260215T120000
DTSTAMP:20260425T101514
CREATED:20260206T194225Z
LAST-MODIFIED:20260206T194225Z
UID:2778-1771149600-1771156800@ecofnavajoland.org
SUMMARY:SJR Sunday Services
DESCRIPTION:We invite you to attend one of our 2 Sunday Services in the San Juan Region\, presided over by Rev. Michael Sells and Rev. Cornelia Eaton. \n10 AM at All Saints Church in Farmington\, NM\n10 AM at St. Michael’s Church in Upper Fruitland\, NM \nAll are welcome! \nIf you have any inquiries\, don’t hesitate to get in touch with Rev. Michael Sells by phone or email.\nOffice Phone: (505) 327-6904\nEmail Address: sanjuanmission1918@gmail.com
URL:https://ecofnavajoland.org/event/sjr-sunday-services-17/
END:VEVENT
BEGIN:VEVENT
DTSTART;TZID=America/Denver:20260215T100000
DTEND;TZID=America/Denver:20260215T120000
DTSTAMP:20260425T101514
CREATED:20260206T194503Z
LAST-MODIFIED:20260206T194503Z
UID:2786-1771149600-1771156800@ecofnavajoland.org
SUMMARY:UTR Sunday Services
DESCRIPTION:Come and join us for Holy Eucharist in our Utah region with Rev. Jack Chase and Rev. Paula Henson. \n10 AM at St. Christopher’s Mission in Bluff\, Utah\,\n10 AM at St. John’s the Baptizer in Montezuma Creek\, Utah. \nAll are welcome! \nIf you need more information\, please feel free to contact us. You can reach us by calling (435) 267-2813 or by emailing info@stchristophersmission.com.
URL:https://ecofnavajoland.org/event/utr-sunday-services-20/
END:VEVENT
END:VCALENDAR