BEGIN:VCALENDAR
VERSION:2.0
PRODID:-//Episcopal Church in Navajoland - ECPv6.15.20//NONSGML v1.0//EN
CALSCALE:GREGORIAN
METHOD:PUBLISH
X-WR-CALNAME:Episcopal Church in Navajoland
X-ORIGINAL-URL:https://ecofnavajoland.org
X-WR-CALDESC:Events for Episcopal Church in Navajoland
REFRESH-INTERVAL;VALUE=DURATION:PT1H
X-Robots-Tag:noindex
X-PUBLISHED-TTL:PT1H
BEGIN:VTIMEZONE
TZID:America/Denver
BEGIN:DAYLIGHT
TZOFFSETFROM:-0700
TZOFFSETTO:-0600
TZNAME:MDT
DTSTART:20250309T090000
END:DAYLIGHT
BEGIN:STANDARD
TZOFFSETFROM:-0600
TZOFFSETTO:-0700
TZNAME:MST
DTSTART:20251102T080000
END:STANDARD
BEGIN:DAYLIGHT
TZOFFSETFROM:-0700
TZOFFSETTO:-0600
TZNAME:MDT
DTSTART:20260308T090000
END:DAYLIGHT
BEGIN:STANDARD
TZOFFSETFROM:-0600
TZOFFSETTO:-0700
TZNAME:MST
DTSTART:20261101T080000
END:STANDARD
BEGIN:DAYLIGHT
TZOFFSETFROM:-0700
TZOFFSETTO:-0600
TZNAME:MDT
DTSTART:20270314T090000
END:DAYLIGHT
BEGIN:STANDARD
TZOFFSETFROM:-0600
TZOFFSETTO:-0700
TZNAME:MST
DTSTART:20271107T080000
END:STANDARD
END:VTIMEZONE
BEGIN:VEVENT
DTSTART;TZID=America/Denver:20260502T180000
DTEND;TZID=America/Denver:20260502T190000
DTSTAMP:20260424T100651
CREATED:20260406T211627Z
LAST-MODIFIED:20260406T211627Z
UID:3172-1777744800-1777748400@ecofnavajoland.org
SUMMARY:AA Recovery Open Group (GSM)
DESCRIPTION:The Recovery Open Group Meeting is held every Saturday at the GSM Parish Hall. For more information\, please contact Rev. Leon Sampson or Rev. Cathlena Plummer at 928-729-2322.
URL:https://ecofnavajoland.org/event/aa-recovery-open-group-gsm-4/
LOCATION:Good Shepherd Mission\, 1 kIt Carson Drive\, Fort Defiance\, AZ\, 86504\, United States
END:VEVENT
END:VCALENDAR