BEGIN:VCALENDAR
VERSION:2.0
PRODID:-//Episcopal Church in Navajoland - ECPv6.15.20//NONSGML v1.0//EN
CALSCALE:GREGORIAN
METHOD:PUBLISH
X-ORIGINAL-URL:https://ecofnavajoland.org
X-WR-CALDESC:Events for Episcopal Church in Navajoland
REFRESH-INTERVAL;VALUE=DURATION:PT1H
X-Robots-Tag:noindex
X-PUBLISHED-TTL:PT1H
BEGIN:VTIMEZONE
TZID:America/Denver
BEGIN:DAYLIGHT
TZOFFSETFROM:-0700
TZOFFSETTO:-0600
TZNAME:MDT
DTSTART:20250309T090000
END:DAYLIGHT
BEGIN:STANDARD
TZOFFSETFROM:-0600
TZOFFSETTO:-0700
TZNAME:MST
DTSTART:20251102T080000
END:STANDARD
BEGIN:DAYLIGHT
TZOFFSETFROM:-0700
TZOFFSETTO:-0600
TZNAME:MDT
DTSTART:20260308T090000
END:DAYLIGHT
BEGIN:STANDARD
TZOFFSETFROM:-0600
TZOFFSETTO:-0700
TZNAME:MST
DTSTART:20261101T080000
END:STANDARD
BEGIN:DAYLIGHT
TZOFFSETFROM:-0700
TZOFFSETTO:-0600
TZNAME:MDT
DTSTART:20270314T090000
END:DAYLIGHT
BEGIN:STANDARD
TZOFFSETFROM:-0600
TZOFFSETTO:-0700
TZNAME:MST
DTSTART:20271107T080000
END:STANDARD
END:VTIMEZONE
BEGIN:VEVENT
DTSTART;TZID=America/Denver:20260424T180000
DTEND;TZID=America/Denver:20260424T190000
DTSTAMP:20260424T101336
CREATED:20260410T162033Z
LAST-MODIFIED:20260410T162033Z
UID:3180-1777053600-1777057200@ecofnavajoland.org
SUMMARY:Wellbriety - Reflection of the Day
DESCRIPTION:Happy April! As we welcome the spring months\, we invite you to join us for two Hozho Wellbriety gatherings. These gatherings will be held in person at the Hozho Center in Farmington\, NM\, and will also be available on Zoom. Light refreshments will be available. \n– **April 10**: Book Study\n– **April 24**: Reflection of the Day \nThe meetings are hybrid\, so you can participate from anywhere. Everyone is welcome!
URL:https://ecofnavajoland.org/event/wellbriety-reflection-of-the-day-2/
LOCATION:Hozho Center\, 1257 Mission Ave\, Farmington\, NM\, 87499
ATTACH;FMTTYPE=image/jpeg:https://ecofnavajoland.org/wp-content/uploads/2026/04/April_Wellbriety_2026.jpg
END:VEVENT
END:VCALENDAR